Workbook
Name アイスプラント: エコ農リスト!$C$8
Name アシタバ: エコ農リスト!$C$9
Name アスパラガス: エコ農リスト!$C$10
Name イチゴ: エコ農リスト!$C$11
Name イチジク: エコ農リスト!$C$97
Name ウド: エコ農リスト!$C$12
Name ウメ: エコ農リスト!$C$98
Name エコ基準検索表: エコ農リスト!$L$3:$R$113
Name エコ基準検索表: エコ農リスト!$L$3:$R$113
Name エダマメ: エコ農リスト!$C$13:$C$14
Name オクラ: エコ農リスト!$C$15
Name カキ: エコ農リスト!$C$100
Name カボチャ: エコ農リスト!$C$16
Name カリフラワー: エコ農リスト!$C$17
Name キウイフルーツ: エコ農リスト!$C$101
Name キャベツ: エコ農リスト!$C$18:$C$20
Name キュウリ: エコ農リスト!$C$21:$C$23
Name クリ: エコ農リスト!$C$102
Name ケール: エコ農リスト!$C$24
Name コカブ: エコ農リスト!$C$25:$C$26
Name コピペ範囲: '集計（エクセル用）'!$A$3:$FK$3
Name ゴボウ: エコ農リスト!$C$27
Name コマツナ: エコ農リスト!$C$28:$C$32
Name サツマイモ: エコ農リスト!$C$33
Name サトイモ: エコ農リスト!$C$34
Name サヤインゲン: エコ農リスト!$C$35:$C$36
Name サヤエンドウ: エコ農リスト!$C$37:$C$38
Name シシトウ: エコ農リスト!$C$39
Name ジャガイモ: エコ農リスト!$C$40:$C$41
Name シュンギク: エコ農リスト!$C$42
Name シュンゴク: エコ農リスト!$C$42
Name ショウガ: エコ農リスト!$C$43
Name スイートコーン: エコ農リスト!$C$44
Name スイカ: エコ農リスト!$C$45
Name ズッキーニ: エコ農リスト!$C$46
Name ダイコン: エコ農リスト!$C$47:$C$49
Name タマネギ: エコ農リスト!$C$50
Name チンゲンサイ: エコ農リスト!$C$51:$C$52
Name トマト: エコ農リスト!$C$53:$C$57
Name ナシ: エコ農リスト!$C$103
Name ナス: エコ農リスト!$C$58
Name ナバナ類: エコ農リスト!$C$59
Name ニガウリ: エコ農リスト!$C$60
Name ニンジン: エコ農リスト!$C$61:$C$62
Name ニンニク: エコ農リスト!$C$63
Name ネギ: エコ農リスト!$C$64:$C$67
Name ハクサイ: エコ農リスト!$C$68
Name パッションフルーツ: エコ農リスト!$C$106
Name ビーツ: エコ農リスト!$C$72
Name ピーマン: エコ農リスト!$C$73
Name ブドウ: エコ農リスト!$C$104
Name ブルーベリー: エコ農リスト!$C$105
Name ブロッコリー: エコ農リスト!$C$77:$C$79
Name ホウレンソウ: エコ農リスト!$C$80:$C$81
Name ミズナ: エコ農リスト!$C$82:$C$83
Name ミニトマト: エコ農リスト!$C$84:$C$88
Name モミジガサ: エコ農リスト!$C$89
Name モロヘイヤ: エコ農リスト!$C$90
Name ヤマノイモ: エコ農リスト!$C$91
Name ユズ: エコ農リスト!$C$107

Sheet エコ農リスト
A1: 別表２
A2: 東京都内における化学合成農薬・化学肥料慣行使用基準
A3: および認証区分ごとの使用上限値 早見表 令和８年４月現在 | L3: エコ基準検索表 | M3: 農薬回数上限 | P3: 化学肥料上限
A4: 種 | D4: 化学合成農薬 （延べ使用成分回数） | G4: 化学肥料 （窒素成分kg/10a） | J4: 備 | L4: 列１ | M4: 列２ | N4: 列３ | O4: 列４ | P4: 列５ | Q4: 列６ | R4: 列７
A5: 類 | B5: 農 産 物 名 | C5: 作 型 | D5: 慣行 使用基準 | E5: 東京エコ25の上限値 | F5: 東京エコ50の上限値 | G5: 慣行 使用基準 | H5: 東京エコ25の上限値 | I5: 東京エコ50の上限値 | J5: 考 | L5: 品目+作型 | M5: エコ25 | N5: エコ50 | O5: エコ100 | P5: エコ25 | Q5: エコ50 | R5: エコ100
A6: 作 | B6: 水稲 | C6: 普通 | D6: 7 | E6: =ROUNDDOWN($D6*0.75,0) -> 5 | F6: =ROUNDDOWN($D6/2,0) -> 3 | G6: 5 | H6: =G6*0.75 -> 3.75 | I6: =G6/2 -> 2.5 | L6: =$B6&$C6 -> 水稲普通 | M6: =E6 -> 5 | N6: =F6 -> 3 | O6: 0 | P6: =H6 -> 3.75 | Q6: =I6 -> 2.5 | R6: 0
A7: 物 | B7: 小麦 | C7: 普通 | D7: 3 | E7: =ROUNDDOWN($D7*0.75,0) -> 2 | F7: =ROUNDDOWN($D7/2,0) -> 1 | G7: 5 | H7: =G7*0.75 -> 3.75 | I7: =G7/2 -> 2.5 | L7: =$B7&$C7 -> 小麦普通 | M7: =E7 -> 2 | N7: =F7 -> 1 | O7: 0 | P7: =H7 -> 3.75 | Q7: =I7 -> 2.5 | R7: 0
B8: アイスプラント | C8: 春～冬まき | D8: 4 | E8: =ROUNDDOWN($D8*0.75,0) -> 3 | F8: =ROUNDDOWN($D8/2,0) -> 2 | G8: 12 | H8: =G8*0.75 -> 9 | I8: =G8/2 -> 6 | L8: =$B8&$C8 -> アイスプラント春～冬まき | M8: =E8 -> 3 | N8: =F8 -> 2 | O8: 0 | P8: =H8 -> 9 | Q8: =I8 -> 6 | R8: 0
B9: アシタバ | C9: 普通 | D9: 3 | E9: =ROUNDDOWN($D9*0.75,0) -> 2 | F9: =ROUNDDOWN($D9/2,0) -> 1 | G9: 40 | H9: =G9*0.75 -> 30 | I9: =G9/2 -> 20 | L9: =$B9&$C9 -> アシタバ普通 | M9: =E9 -> 2 | N9: =F9 -> 1 | O9: 0 | P9: =H9 -> 30 | Q9: =I9 -> 20 | R9: 0
B10: アスパラガス | C10: 半促成長期どり | D10: 8 | E10: =ROUNDDOWN($D10*0.75,0) -> 6 | F10: =ROUNDDOWN($D10/2,0) -> 4 | G10: 15 | H10: =G10*0.75 -> 11.25 | I10: =G10/2 -> 7.5 | L10: =$B10&$C10 -> アスパラガス半促成長期どり | M10: =E10 -> 6 | N10: =F10 -> 4 | O10: 0 | P10: =H10 -> 11.25 | Q10: =I10 -> 7.5 | R10: 0
B11: イチゴ | C11: 促成（施設） | D11: 31 | E11: =ROUNDDOWN($D11*0.75,0) -> 23 | F11: =ROUNDDOWN($D11/2,0) -> 15 | G11: 30 | H11: =G11*0.75 -> 22.5 | I11: =G11/2 -> 15 | L11: =$B11&$C11 -> イチゴ促成（施設） | M11: =E11 -> 23 | N11: =F11 -> 15 | O11: 0 | P11: =H11 -> 22.5 | Q11: =I11 -> 15 | R11: 0
B12: ウド | C12: 促成・普通軟化 (根株養成含む) | D12: 8 | E12: =ROUNDDOWN($D12*0.75,0) -> 6 | F12: =ROUNDDOWN($D12/2,0) -> 4 | G12: 16 | H12: =G12*0.75 -> 12 | I12: =G12/2 -> 8 | L12: =$B12&$C12 -> ウド促成・普通軟化 (根株養成含む) | M12: =E12 -> 6 | N12: =F12 -> 4 | O12: 0 | P12: =H12 -> 12 | Q12: =I12 -> 8 | R12: 0
B13: エダマメ | C13: 早熟・普通 | D13: 5 | E13: =ROUNDDOWN($D13*0.75,0) -> 3 | F13: =ROUNDDOWN($D13/2,0) -> 2 | G13: 10 | H13: =G13*0.75 -> 7.5 | I13: =G13/2 -> 5 | L13: =$B13&$C13 -> エダマメ早熟・普通 | M13: =E13 -> 3 | N13: =F13 -> 2 | O13: 0 | P13: =H13 -> 7.5 | Q13: =I13 -> 5 | R13: 0
B14: エダマメ | C14: 抑制 | D14: 6 | E14: =ROUNDDOWN($D14*0.75,0) -> 4 | F14: =ROUNDDOWN($D14/2,0) -> 3 | G14: 6 | H14: =G14*0.75 -> 4.5 | I14: =G14/2 -> 3 | L14: =$B14&$C14 -> エダマメ抑制 | M14: =E14 -> 4 | N14: =F14 -> 3 | O14: 0 | P14: =H14 -> 4.5 | Q14: =I14 -> 3 | R14: 0
B15: オクラ | C15: 普通 | D15: 5 | E15: =ROUNDDOWN($D15*0.75,0) -> 3 | F15: =ROUNDDOWN($D15/2,0) -> 2 | G15: 20 | H15: =G15*0.75 -> 15 | I15: =G15/2 -> 10 | L15: =$B15&$C15 -> オクラ普通 | M15: =E15 -> 3 | N15: =F15 -> 2 | O15: 0 | P15: =H15 -> 15 | Q15: =I15 -> 10 | R15: 0
B16: カボチャ | C16: 普通 | D16: 2 | E16: =ROUNDDOWN($D16*0.75,0) -> 1 | F16: =ROUNDDOWN($D16/2,0) -> 1 | G16: 15 | H16: =G16*0.75 -> 11.25 | I16: =G16/2 -> 7.5 | L16: =$B16&$C16 -> カボチャ普通 | M16: =E16 -> 1 | N16: =F16 -> 1 | O16: 0 | P16: =H16 -> 11.25 | Q16: =I16 -> 7.5 | R16: 0
B17: カリフラワー | C17: 夏まき | D17: 12 | E17: =ROUNDDOWN($D17*0.75,0) -> 9 | F17: =ROUNDDOWN($D17/2,0) -> 6 | G17: 20 | H17: =G17*0.75 -> 15 | I17: =G17/2 -> 10 | L17: =$B17&$C17 -> カリフラワー夏まき | M17: =E17 -> 9 | N17: =F17 -> 6 | O17: 0 | P17: =H17 -> 15 | Q17: =I17 -> 10 | R17: 0
B18: キャベツ | C18: 春まき夏どり | D18: 15 | E18: =ROUNDDOWN($D18*0.75,0) -> 11 | F18: =ROUNDDOWN($D18/2,0) -> 7 | G18: 25 | H18: =G18*0.75 -> 18.75 | I18: =G18/2 -> 12.5 | L18: =$B18&$C18 -> キャベツ春まき夏どり | M18: =E18 -> 11 | N18: =F18 -> 7 | O18: 0 | P18: =H18 -> 18.75 | Q18: =I18 -> 12.5 | R18: 0
B19: キャベツ | C19: 夏まき秋冬どり | D19: 15 | E19: =ROUNDDOWN($D19*0.75,0) -> 11 | F19: =ROUNDDOWN($D19/2,0) -> 7 | G19: 25 | H19: =G19*0.75 -> 18.75 | I19: =G19/2 -> 12.5 | L19: =$B19&$C19 -> キャベツ夏まき秋冬どり | M19: =E19 -> 11 | N19: =F19 -> 7 | O19: 0 | P19: =H19 -> 18.75 | Q19: =I19 -> 12.5 | R19: 0
A20: 野 | B20: キャベツ | C20: 秋まき初夏どり | D20: 15 | E20: =ROUNDDOWN($D20*0.75,0) -> 11 | F20: =ROUNDDOWN($D20/2,0) -> 7 | G20: 25 | H20: =G20*0.75 -> 18.75 | I20: =G20/2 -> 12.5 | L20: =$B20&$C20 -> キャベツ秋まき初夏どり | M20: =E20 -> 11 | N20: =F20 -> 7 | O20: 0 | P20: =H20 -> 18.75 | Q20: =I20 -> 12.5 | R20: 0
B21: キュウリ | C21: 半促成（施設） | D21: 20 | E21: =ROUNDDOWN($D21*0.75,0) -> 15 | F21: =ROUNDDOWN($D21/2,0) -> 10 | G21: 25 | H21: =G21*0.75 -> 18.75 | I21: =G21/2 -> 12.5 | L21: =$B21&$C21 -> キュウリ半促成（施設） | M21: =E21 -> 15 | N21: =F21 -> 10 | O21: 0 | P21: =H21 -> 18.75 | Q21: =I21 -> 12.5 | R21: 0
B22: キュウリ | C22: 早熟・普通 | D22: 18 | E22: =ROUNDDOWN($D22*0.75,0) -> 13 | F22: =ROUNDDOWN($D22/2,0) -> 9 | G22: 25 | H22: =G22*0.75 -> 18.75 | I22: =G22/2 -> 12.5 | L22: =$B22&$C22 -> キュウリ早熟・普通 | M22: =E22 -> 13 | N22: =F22 -> 9 | O22: 0 | P22: =H22 -> 18.75 | Q22: =I22 -> 12.5 | R22: 0
B23: キュウリ | C23: 抑制（施設） | D23: 18 | E23: =ROUNDDOWN($D23*0.75,0) -> 13 | F23: =ROUNDDOWN($D23/2,0) -> 9 | G23: 20 | H23: =G23*0.75 -> 15 | I23: =G23/2 -> 10 | L23: =$B23&$C23 -> キュウリ抑制（施設） | M23: =E23 -> 13 | N23: =F23 -> 9 | O23: 0 | P23: =H23 -> 15 | Q23: =I23 -> 10 | R23: 0
B24: ケール | C24: 春まき・夏まき | D24: 5 | E24: =ROUNDDOWN($D24*0.75,0) -> 3 | F24: =ROUNDDOWN($D24/2,0) -> 2 | G24: 25 | H24: =G24*0.75 -> 18.75 | I24: =G24/2 -> 12.5 | L24: =$B24&$C24 -> ケール春まき・夏まき | M24: =E24 -> 3 | N24: =F24 -> 2 | O24: 0 | P24: =H24 -> 18.75 | Q24: =I24 -> 12.5 | R24: 0
B25: コカブ | C25: 冬まき・春まき | D25: 6 | E25: =ROUNDDOWN($D25*0.75,0) -> 4 | F25: =ROUNDDOWN($D25/2,0) -> 3 | G25: 15 | H25: =G25*0.75 -> 11.25 | I25: =G25/2 -> 7.5 | L25: =$B25&$C25 -> コカブ冬まき・春まき | M25: =E25 -> 4 | N25: =F25 -> 3 | O25: 0 | P25: =H25 -> 11.25 | Q25: =I25 -> 7.5 | R25: 0
B26: コカブ | C26: 夏まき・秋まき | D26: 10 | E26: =ROUNDDOWN($D26*0.75,0) -> 7 | F26: =ROUNDDOWN($D26/2,0) -> 5 | G26: 15 | H26: =G26*0.75 -> 11.25 | I26: =G26/2 -> 7.5 | L26: =$B26&$C26 -> コカブ夏まき・秋まき | M26: =E26 -> 7 | N26: =F26 -> 5 | O26: 0 | P26: =H26 -> 11.25 | Q26: =I26 -> 7.5 | R26: 0
B27: ゴボウ | C27: 普通 | D27: 5 | E27: =ROUNDDOWN($D27*0.75,0) -> 3 | F27: =ROUNDDOWN($D27/2,0) -> 2 | G27: 12 | H27: =G27*0.75 -> 9 | I27: =G27/2 -> 6 | L27: =$B27&$C27 -> ゴボウ普通 | M27: =E27 -> 3 | N27: =F27 -> 2 | O27: 0 | P27: =H27 -> 9 | Q27: =I27 -> 6 | R27: 0
B28: コマツナ | C28: 春～秋まき（露地） | D28: 7 | E28: =ROUNDDOWN($D28*0.75,0) -> 5 | F28: =ROUNDDOWN($D28/2,0) -> 3 | G28: 15 | H28: =G28*0.75 -> 11.25 | I28: =G28/2 -> 7.5 | L28: =$B28&$C28 -> コマツナ春～秋まき（露地） | M28: =E28 -> 5 | N28: =F28 -> 3 | O28: 0 | P28: =H28 -> 11.25 | Q28: =I28 -> 7.5 | R28: 0
B29: コマツナ | C29: 春～秋まき（施設） | D29: 7 | E29: =ROUNDDOWN($D29*0.75,0) -> 5 | F29: =ROUNDDOWN($D29/2,0) -> 3 | G29: 7 | H29: =G29*0.75 -> 5.25 | I29: =G29/2 -> 3.5 | L29: =$B29&$C29 -> コマツナ春～秋まき（施設） | M29: =E29 -> 5 | N29: =F29 -> 3 | O29: 0 | P29: =H29 -> 5.25 | Q29: =I29 -> 3.5 | R29: 0
B30: コマツナ | C30: 冬まき（露地） | D30: 5 | E30: =ROUNDDOWN($D30*0.75,0) -> 3 | F30: =ROUNDDOWN($D30/2,0) -> 2 | G30: 15 | H30: =G30*0.75 -> 11.25 | I30: =G30/2 -> 7.5 | L30: =$B30&$C30 -> コマツナ冬まき（露地） | M30: =E30 -> 3 | N30: =F30 -> 2 | O30: 0 | P30: =H30 -> 11.25 | Q30: =I30 -> 7.5 | R30: 0
B31: コマツナ | C31: 冬まき（施設） | D31: 5 | E31: =ROUNDDOWN($D31*0.75,0) -> 3 | F31: =ROUNDDOWN($D31/2,0) -> 2 | G31: 7 | H31: =G31*0.75 -> 5.25 | I31: =G31/2 -> 3.5 | L31: =$B31&$C31 -> コマツナ冬まき（施設） | M31: =E31 -> 3 | N31: =F31 -> 2 | O31: 0 | P31: =H31 -> 5.25 | Q31: =I31 -> 3.5 | R31: 0
B32: コマツナ | C32: 大型（施設） | D32: 11 | E32: =ROUNDDOWN($D32*0.75,0) -> 8 | F32: =ROUNDDOWN($D32/2,0) -> 5 | G32: 25 | H32: =G32*0.75 -> 18.75 | I32: =G32/2 -> 12.5 | L32: =$B32&$C32 -> コマツナ大型（施設） | M32: =E32 -> 8 | N32: =F32 -> 5 | O32: 0 | P32: =H32 -> 18.75 | Q32: =I32 -> 12.5 | R32: 0
A33: 菜 | B33: サツマイモ | C33: 普通 | D33: 10 | E33: =ROUNDDOWN($D33*0.75,0) -> 7 | F33: =ROUNDDOWN($D33/2,0) -> 5 | G33: 3 | H33: =G33*0.75 -> 2.25 | I33: =G33/2 -> 1.5 | L33: =$B33&$C33 -> サツマイモ普通 | M33: =E33 -> 7 | N33: =F33 -> 5 | O33: 0 | P33: =H33 -> 2.25 | Q33: =I33 -> 1.5 | R33: 0
B34: サトイモ | C34: 普通 | D34: 4 | E34: =ROUNDDOWN($D34*0.75,0) -> 3 | F34: =ROUNDDOWN($D34/2,0) -> 2 | G34: 20 | H34: =G34*0.75 -> 15 | I34: =G34/2 -> 10 | L34: =$B34&$C34 -> サトイモ普通 | M34: =E34 -> 3 | N34: =F34 -> 2 | O34: 0 | P34: =H34 -> 15 | Q34: =I34 -> 10 | R34: 0
B35: サヤインゲン | C35: 普通 | D35: 10 | E35: =ROUNDDOWN($D35*0.75,0) -> 7 | F35: =ROUNDDOWN($D35/2,0) -> 5 | G35: 10 | H35: =G35*0.75 -> 7.5 | I35: =G35/2 -> 5 | L35: =$B35&$C35 -> サヤインゲン普通 | M35: =E35 -> 7 | N35: =F35 -> 5 | O35: 0 | P35: =H35 -> 7.5 | Q35: =I35 -> 5 | R35: 0
B36: サヤインゲン | C36: 抑制（施設） | D36: 5 | E36: =ROUNDDOWN($D36*0.75,0) -> 3 | F36: =ROUNDDOWN($D36/2,0) -> 2 | G36: 10 | H36: =G36*0.75 -> 7.5 | I36: =G36/2 -> 5 | L36: =$B36&$C36 -> サヤインゲン抑制（施設） | M36: =E36 -> 3 | N36: =F36 -> 2 | O36: 0 | P36: =H36 -> 7.5 | Q36: =I36 -> 5 | R36: 0
B37: サヤエンドウ | C37: 秋まき | D37: 3 | E37: =ROUNDDOWN($D37*0.75,0) -> 2 | F37: =ROUNDDOWN($D37/2,0) -> 1 | G37: 10 | H37: =G37*0.75 -> 7.5 | I37: =G37/2 -> 5 | L37: =$B37&$C37 -> サヤエンドウ秋まき | M37: =E37 -> 2 | N37: =F37 -> 1 | O37: 0 | P37: =H37 -> 7.5 | Q37: =I37 -> 5 | R37: 0
B38: サヤエンドウ | C38: 秋まき（島しょ） | D38: 18 | E38: =ROUNDDOWN($D38*0.75,0) -> 13 | F38: =ROUNDDOWN($D38/2,0) -> 9 | G38: 24 | H38: =G38*0.75 -> 18 | I38: =G38/2 -> 12 | L38: =$B38&$C38 -> サヤエンドウ秋まき（島しょ） | M38: =E38 -> 13 | N38: =F38 -> 9 | O38: 0 | P38: =H38 -> 18 | Q38: =I38 -> 12 | R38: 0
B39: シシトウ | C39: 普通 | D39: 7 | E39: =ROUNDDOWN($D39*0.75,0) -> 5 | F39: =ROUNDDOWN($D39/2,0) -> 3 | G39: 18 | H39: =G39*0.75 -> 13.5 | I39: =G39/2 -> 9 | L39: =$B39&$C39 -> シシトウ普通 | M39: =E39 -> 5 | N39: =F39 -> 3 | O39: 0 | P39: =H39 -> 13.5 | Q39: =I39 -> 9 | R39: 0
B40: ジャガイモ | C40: 春作 | D40: 4 | E40: =ROUNDDOWN($D40*0.75,0) -> 3 | F40: =ROUNDDOWN($D40/2,0) -> 2 | G40: 15 | H40: =G40*0.75 -> 11.25 | I40: =G40/2 -> 7.5 | L40: =$B40&$C40 -> ジャガイモ春作 | M40: =E40 -> 3 | N40: =F40 -> 2 | O40: 0 | P40: =H40 -> 11.25 | Q40: =I40 -> 7.5 | R40: 0
...

Sheet List
A1: 番号 | B1: （区市町村を選択） | C1: 地域 | E1: 【土づくりの技術】 | F1: 【化学合成農薬削減技術】 | G1: 【化学肥料削減技術】
A2: 110 | B2: 目黒区 | C2: 区部 | E2: ① 堆肥施用 | F2: ① 温湯種子消毒技術 | G2: ① 局所施肥
A3: 111 | B3: 大田区 | C3: 区部 | E3: ② 緑肥作物利用 | F3: ② 機械除草技術 | G3: ② 肥効調節型肥料施肥
A4: 112 | B4: 世田谷区 | C4: 区部 | E4: ③ その他 試験研究機関等で開発された技術 | F4: ③ 除草用動物利用技術 | G4: ③ 有機質肥料施肥
A5: 114 | B5: 中野区 | C5: 区部 | F5: ④ 生物農薬利用技術 | G5: ④ その他 試験研究機関等で開発された技術
A6: 115 | B6: 杉並区 | C6: 区部 | F6: ⑤ 対抗植物利用技術
A7: 117 | B7: 北区 | C7: 区部 | F7: ⑥ 抵抗性品種栽培・台木利用技術
A8: 119 | B8: 板橋区 | C8: 区部 | F8: ⑦ 土壌還元消毒技術
A9: 120 | B9: 練馬区 | C9: 区部 | F9: ⑧ 熱利用土壌消毒技術
A10: 121 | B10: 足立区 | C10: 区部 | F10: ⑨ 光利用技術
A11: 122 | B11: 葛飾区 | C11: 区部 | F11: ⑩ 被覆栽培技術
A12: 123 | B12: 江戸川区 | C12: 区部 | F12: ⑪ フェロモン剤利用技術
A13: 202 | B13: 立川市 | C13: 北多摩 | F13: ⑫ マルチ栽培技術
A14: 203 | B14: 武蔵野市 | C14: 北多摩 | F14: ⑬ 天然物質由来農薬等利用技術
A15: 204 | B15: 三鷹市 | C15: 北多摩 | F15: ⑭ その他 試験研究機関等で開発された技術
A16: 206 | B16: 府中市 | C16: 北多摩
A17: 207 | B17: 昭島市 | C17: 北多摩
A18: 208 | B18: 調布市 | C18: 北多摩 | F18: 【化学合成農薬削減技術】 | G18: 【排液流出防止技術】
A19: 210 | B19: 小金井市 | C19: 北多摩 | F19: ① 温湯種子消毒技術 | G19: ① 循環型栽培（排液なし）
A20: 211 | B20: 小平市 | C20: 北多摩 | F20: ④ 生物農薬利用技術 | G20: ② 肥料として利用
A21: 213 | B21: 東村山市 | C21: 北多摩 | F21: ⑥ 抵抗性品種栽培・台木利用技術 | G21: ③ 堆肥に添加
A22: 214 | B22: 国分寺市 | C22: 北多摩 | F22: ⑨ 光利用技術 | G22: ④ 資材で吸着回収し、産廃処理
A23: 215 | B23: 国立市 | C23: 北多摩 | F23: ⑩ 被覆栽培技術 | G23: ⑤ 浄化槽で処理・放流
A24: 219 | B24: 狛江市 | C24: 北多摩 | F24: ⑪ フェロモン剤利用技術 | G24: ⑥ 希釈後、公共下水道へ放流
A25: 220 | B25: 東大和市 | C25: 北多摩 | F25: ⑬ 天然物質由来農薬等利用技術 | G25: ⑦ その他の技術
A26: 221 | B26: 清瀬市 | C26: 北多摩 | F26: ⑭ その他 試験研究機関等で開発された技術
A27: 222 | B27: 東久留米市 | C27: 北多摩
A28: 223 | B28: 武蔵村山市 | C28: 北多摩
A29: 229 | B29: 西東京市 | C29: 北多摩
A30: 201 | B30: 八王子市 | C30: 南多摩
A31: 209 | B31: 町田市 | C31: 南多摩
A32: 212 | B32: 日野市 | C32: 南多摩
A33: 224 | B33: 多摩市 | C33: 南多摩
A34: 225 | B34: 稲城市 | C34: 南多摩
A35: 205 | B35: 青梅市 | C35: 西多摩
A36: 218 | B36: 福生市 | C36: 西多摩
A37: 227 | B37: 羽村市 | C37: 西多摩
A38: 228 | B38: あきる野市 | C38: 西多摩
... A51: 421 | B51: 小笠原村 | C51: 島しょ
A54: 目黒区 | B54: =LEFT(A54,3) -> 目黒区 | C54: =A54 -> 目黒区 | D54: 区部 | E54: 区部農業改良普及センター | F54: 農協名 | G54: JA名 | H54: JA略称
...

Sheet 栽培実績表
B1: 別記様式第５号
C3: 年分 東京都エコ農産物認証実績報告書
H5: 令和 年 月 日
B7: 東京都知事 殿
B9: 東京都エコ農産物認証要綱第９の規定に基づき、次のとおり栽培実績を報告します。
B14: 各年度の実績表にコピーして値付けしてください. | E14: 氏名 | I14: 色付きセルは重複品目、栽培場所・時期
E16: 認証番号
J17: 養液栽培
B18: 農産物名 | C18: 認証区分 | D18: 作付面積（a） | F18: 東京都エコ農産物の出荷量（㎏） | G18: うちマークを付した農産物の出荷量（㎏） | H18: 備考 | J18: 農産物名 | K18: 認証区分 | L18: 作付面積（a） | N18: 東京都エコ農産物の出荷量（㎏） | O18: うちマークを付した農産物の出荷量（㎏） | P18: 備考
C19: 削減割合 | D19: 計画 | E19: 実績 | K19: 削減割合 | L19: 計画 | M19: 実績
A20: 1 | B20: =' 【申請用】栽培計画書'!$A$10&' 【申請用】栽培計画書'!$C$10 | C20: =(IF(' 【申請用】栽培計画書'!$B$10="","",IF(' 【申請用】栽培計画書'!$B$10=$J$29,$K$29,IF(' 【申請用】栽培計画書'!$B$10=$J$30,$K$30,$K$31)))) | D20: =' 【申請用】栽培計画書'!$D$10 | I20: 1 | J20: ='【申請用】栽培計画書（養液栽培）'!$A$10&'【申請用】栽培計画書（養液栽培）'!$C$10 | K20: =(IF('【申請用】栽培計画書（養液栽培）'!$B$10="","",IF('【申請用】栽培計画書（養液栽培）'!$B$10=$J$29,$K$29,$K$30))) | L20: ='【申請用】栽培計画書（養液栽培）'!$D$10
A21: 2 | B21: =' 【申請用】栽培計画書'!$A$17&' 【申請用】栽培計画書'!$C$17 | C21: =(IF(' 【申請用】栽培計画書'!$B$17="","",IF(' 【申請用】栽培計画書'!$B$17=$J$29,$K$29,IF(' 【申請用】栽培計画書'!$B$17=$J$30,$K$30,$K$31)))) | D21: =' 【申請用】栽培計画書'!$D$17 | I21: 2 | J21: ='【申請用】栽培計画書（養液栽培）'!$A$17&'【申請用】栽培計画書（養液栽培）'!$C$17 | K21: =(IF('【申請用】栽培計画書（養液栽培）'!$B$17="","",IF('【申請用】栽培計画書（養液栽培）'!$B$17=$J$29,$K$29,$K$30))) | L21: ='【申請用】栽培計画書（養液栽培）'!$D$17
A22: 3 | B22: =' 【申請用】栽培計画書'!$A$24&' 【申請用】栽培計画書'!$C$24 | C22: =(IF(' 【申請用】栽培計画書'!$B$24="","",IF(' 【申請用】栽培計画書'!$B$24=$J$29,$K$29,IF(' 【申請用】栽培計画書'!$B$24=$J$30,$K$30,$K$31)))) | D22: =' 【申請用】栽培計画書'!$D$24 | I22: 3 | J22: ='【申請用】栽培計画書（養液栽培）'!$A$24&'【申請用】栽培計画書（養液栽培）'!$C$24 | K22: =(IF('【申請用】栽培計画書（養液栽培）'!$B$24="","",IF('【申請用】栽培計画書（養液栽培）'!$B$24=$J$29,$K$29,$K$30))) | L22: ='【申請用】栽培計画書（養液栽培）'!$D$24
A23: 4 | B23: =' 【申請用】栽培計画書'!$A$31&' 【申請用】栽培計画書'!$C$31 | C23: =(IF(' 【申請用】栽培計画書'!$B$31="","",IF(' 【申請用】栽培計画書'!$B$31=$J$29,$K$29,IF(' 【申請用】栽培計画書'!$B$31=$J$30,$K$30,$K$31)))) | D23: =' 【申請用】栽培計画書'!$D$31 | I23: 4 | J23: ='【申請用】栽培計画書（養液栽培）'!$A$31&'【申請用】栽培計画書（養液栽培）'!$C$31 | K23: =(IF('【申請用】栽培計画書（養液栽培）'!$B$31="","",IF('【申請用】栽培計画書（養液栽培）'!$B$31=$J$29,$K$29,$K$30))) | L23: ='【申請用】栽培計画書（養液栽培）'!$D$31
A24: 5 | B24: =' 【申請用】栽培計画書'!$A$38&' 【申請用】栽培計画書'!$C$38 | C24: =(IF(' 【申請用】栽培計画書'!$B$38="","",IF(' 【申請用】栽培計画書'!$B$38=$J$29,$K$29,IF(' 【申請用】栽培計画書'!$B$38=$J$30,$K$30,$K$31)))) | D24: =' 【申請用】栽培計画書'!$D$38 | I24: 5 | J24: ='【申請用】栽培計画書（養液栽培）'!$A$38&'【申請用】栽培計画書（養液栽培）'!$C$38 | K24: =(IF('【申請用】栽培計画書（養液栽培）'!$B$38="","",IF('【申請用】栽培計画書（養液栽培）'!$B$38=$J$29,$K$29,$K$30))) | L24: ='【申請用】栽培計画書（養液栽培）'!$D$38
A25: 6 | B25: =' 【申請用】栽培計画書'!$A$57&' 【申請用】栽培計画書'!$C$57 | C25: =(IF(' 【申請用】栽培計画書'!$B$57="","",IF(' 【申請用】栽培計画書'!$B$57=$J$29,$K$29,IF(' 【申請用】栽培計画書'!$B$57=$J$30,$K$30,$K$31)))) | D25: =' 【申請用】栽培計画書'!$D$57 | J25: 計 | L25: =SUM(L20:L24) -> 0
A26: 7 | B26: =' 【申請用】栽培計画書'!$A$64&' 【申請用】栽培計画書'!$C$64 | C26: =(IF(' 【申請用】栽培計画書'!$B$64="","",IF(' 【申請用】栽培計画書'!$B$64=$J$29,$K$29,IF(' 【申請用】栽培計画書'!$B$64=$J$30,$K$30,$K$31)))) | D26: =' 【申請用】栽培計画書'!$D$64
A27: 8 | B27: =' 【申請用】栽培計画書'!$A$71&' 【申請用】栽培計画書'!$C$71 | C27: =(IF(' 【申請用】栽培計画書'!$B$71="","",IF(' 【申請用】栽培計画書'!$B$71=$J$29,$K$29,IF(' 【申請用】栽培計画書'!$B$71=$J$30,$K$30,$K$31)))) | D27: =' 【申請用】栽培計画書'!$D$71
A28: 9 | B28: =' 【申請用】栽培計画書'!$A$78&' 【申請用】栽培計画書'!$C$78 | C28: =(IF(' 【申請用】栽培計画書'!$B$78="","",IF(' 【申請用】栽培計画書'!$B$78=$J$29,$K$29,IF(' 【申請用】栽培計画書'!$B$78=$J$30,$K$30,$K$31)))) | D28: =' 【申請用】栽培計画書'!$D$78 | J28: 申請書 | K28: 実績表
A29: 10 | B29: =' 【申請用】栽培計画書'!$A$85&' 【申請用】栽培計画書'!$C$85 | C29: =(IF(' 【申請用】栽培計画書'!$B$85="","",IF(' 【申請用】栽培計画書'!$B$85=$J$29,$K$29,IF(' 【申請用】栽培計画書'!$B$85=$J$30,$K$30,$K$31)))) | D29: =' 【申請用】栽培計画書'!$D$85 | J29: ①エコ25 | K29: 東京エコ25
A30: 11 | B30: =' 【申請用】栽培計画書'!$A$104&' 【申請用】栽培計画書'!$C$104 | C30: =(IF(' 【申請用】栽培計画書'!$B$104="","",IF(' 【申請用】栽培計画書'!$B$104=$J$29,$K$29,IF(' 【申請用】栽培計画書'!$B$104=$J$30,$K$30,$K$31)))) | D30: =' 【申請用】栽培計画書'!$D$104 | J30: ②エコ50 | K30: 東京エコ50
A31: 12 | B31: =' 【申請用】栽培計画書'!$A$111&' 【申請用】栽培計画書'!$C$111 | C31: =(IF(' 【申請用】栽培計画書'!$B$111="","",IF(' 【申請用】栽培計画書'!$B$111=$J$29,$K$29,IF(' 【申請用】栽培計画書'!$B$111=$J$30,$K$30,$K$31)))) | D31: =' 【申請用】栽培計画書'!$D$111 | J31: ③エコ100 | K31: 東京エコ100
A32: 13 | B32: =' 【申請用】栽培計画書'!$A$118&' 【申請用】栽培計画書'!$C$118 | C32: =(IF(' 【申請用】栽培計画書'!$B$118="","",IF(' 【申請用】栽培計画書'!$B$118=$J$29,$K$29,IF(' 【申請用】栽培計画書'!$B$118=$J$30,$K$30,$K$31)))) | D32: =' 【申請用】栽培計画書'!$D$118
A33: 14 | B33: =' 【申請用】栽培計画書'!$A$125&' 【申請用】栽培計画書'!$C$125 | C33: =(IF(' 【申請用】栽培計画書'!$B$125="","",IF(' 【申請用】栽培計画書'!$B$125=$J$29,$K$29,IF(' 【申請用】栽培計画書'!$B$125=$J$30,$K$30,$K$31)))) | D33: =' 【申請用】栽培計画書'!$D$125
A34: 15 | B34: =' 【申請用】栽培計画書'!$A$132&' 【申請用】栽培計画書'!$C$132 | C34: =(IF(' 【申請用】栽培計画書'!$B$132="","",IF(' 【申請用】栽培計画書'!$B$132=$J$29,$K$29,IF(' 【申請用】栽培計画書'!$B$132=$J$30,$K$30,$K$31)))) | D34: =' 【申請用】栽培計画書'!$D$132
A35: 16 | B35: =' 【申請用】栽培計画書'!$A$151&' 【申請用】栽培計画書'!$C$151 | C35: =(IF(' 【申請用】栽培計画書'!$B$151="","",IF(' 【申請用】栽培計画書'!$B$151=$J$29,$K$29,IF(' 【申請用】栽培計画書'!$B$151=$J$30,$K$30,$K$31)))) | D35: =' 【申請用】栽培計画書'!$D$151
A36: 17 | B36: =' 【申請用】栽培計画書'!$A$158&' 【申請用】栽培計画書'!$C$158 | C36: =(IF(' 【申請用】栽培計画書'!$B$158="","",IF(' 【申請用】栽培計画書'!$B$158=$J$29,$K$29,IF(' 【申請用】栽培計画書'!$B$158=$J$30,$K$30,$K$31)))) | D36: =' 【申請用】栽培計画書'!$D$158
A37: 18 | B37: =' 【申請用】栽培計画書'!$A$165&' 【申請用】栽培計画書'!$C$165 | C37: =(IF(' 【申請用】栽培計画書'!$B$165="","",IF(' 【申請用】栽培計画書'!$B$165=$J$29,$K$29,IF(' 【申請用】栽培計画書'!$B$165=$J$30,$K$30,$K$31)))) | D37: =' 【申請用】栽培計画書'!$D$165
A38: 19 | B38: =' 【申請用】栽培計画書'!$A$172&' 【申請用】栽培計画書'!$C$172 | C38: =(IF(' 【申請用】栽培計画書'!$B$172="","",IF(' 【申請用】栽培計画書'!$B$172=$J$29,$K$29,IF(' 【申請用】栽培計画書'!$B$172=$J$30,$K$30,$K$31)))) | D38: =' 【申請用】栽培計画書'!$D$172
A39: 20 | B39: =' 【申請用】栽培計画書'!$A$179&' 【申請用】栽培計画書'!$C$179 | C39: =(IF(' 【申請用】栽培計画書'!$B$179="","",IF(' 【申請用】栽培計画書'!$B$179=$J$29,$K$29,IF(' 【申請用】栽培計画書'!$B$179=$J$30,$K$30,$K$31)))) | D39: =' 【申請用】栽培計画書'!$D$179
A40: 21 | B40: =' 【申請用】栽培計画書'!$A$198&' 【申請用】栽培計画書'!$C$198 | C40: =(IF(' 【申請用】栽培計画書'!$B$198="","",IF(' 【申請用】栽培計画書'!$B$198=$J$29,$K$29,IF(' 【申請用】栽培計画書'!$B$198=$J$30,$K$30,$K$31)))) | D40: =' 【申請用】栽培計画書'!$D$198
A41: 22 | B41: =' 【申請用】栽培計画書'!$A$205&' 【申請用】栽培計画書'!$C$205 | C41: =(IF(' 【申請用】栽培計画書'!$B$205="","",IF(' 【申請用】栽培計画書'!$B$205=$J$29,$K$29,IF(' 【申請用】栽培計画書'!$B$205=$J$30,$K$30,$K$31)))) | D41: =' 【申請用】栽培計画書'!$D$205
A42: 23 | B42: =' 【申請用】栽培計画書'!$A$212&' 【申請用】栽培計画書'!$C$212 | C42: =(IF(' 【申請用】栽培計画書'!$B$212="","",IF(' 【申請用】栽培計画書'!$B$212=$J$29,$K$29,IF(' 【申請用】栽培計画書'!$B$212=$J$30,$K$30,$K$31)))) | D42: =' 【申請用】栽培計画書'!$D$212
A43: 24 | B43: =' 【申請用】栽培計画書'!$A$219&' 【申請用】栽培計画書'!$C$219 | C43: =(IF(' 【申請用】栽培計画書'!$B$219="","",IF(' 【申請用】栽培計画書'!$B$219=$J$29,$K$29,IF(' 【申請用】栽培計画書'!$B$219=$J$30,$K$30,$K$31)))) | D43: =' 【申請用】栽培計画書'!$D$219
A44: 25 | B44: =' 【申請用】栽培計画書'!$A$226&' 【申請用】栽培計画書'!$C$226 | C44: =(IF(' 【申請用】栽培計画書'!$B$226="","",IF(' 【申請用】栽培計画書'!$B$226=$J$29,$K$29,IF(' 【申請用】栽培計画書'!$B$226=$J$30,$K$30,$K$31)))) | D44: =' 【申請用】栽培計画書'!$D$226
A45: 26 | B45: =' 【申請用】栽培計画書'!$A$245&' 【申請用】栽培計画書'!$C$245 | C45: =(IF(' 【申請用】栽培計画書'!$B$245="","",IF(' 【申請用】栽培計画書'!$B$245=$J$29,$K$29,IF(' 【申請用】栽培計画書'!$B$245=$J$30,$K$30,$K$31)))) | D45: =' 【申請用】栽培計画書'!$D$245
A46: 27 | B46: =' 【申請用】栽培計画書'!$A$252&' 【申請用】栽培計画書'!$C$252 | C46: =(IF(' 【申請用】栽培計画書'!$B$252="","",IF(' 【申請用】栽培計画書'!$B$252=$J$29,$K$29,IF(' 【申請用】栽培計画書'!$B$252=$J$30,$K$30,$K$31)))) | D46: =' 【申請用】栽培計画書'!$D$252
A47: 28 | B47: =' 【申請用】栽培計画書'!$A$259&' 【申請用】栽培計画書'!$C$259 | C47: =(IF(' 【申請用】栽培計画書'!$B$259="","",IF(' 【申請用】栽培計画書'!$B$259=$J$29,$K$29,IF(' 【申請用】栽培計画書'!$B$259=$J$30,$K$30,$K$31)))) | D47: =' 【申請用】栽培計画書'!$D$259
A48: 29 | B48: =' 【申請用】栽培計画書'!$A$266&' 【申請用】栽培計画書'!$C$266 | C48: =(IF(' 【申請用】栽培計画書'!$B$266="","",IF(' 【申請用】栽培計画書'!$B$266=$J$29,$K$29,IF(' 【申請用】栽培計画書'!$B$266=$J$30,$K$30,$K$31)))) | D48: =' 【申請用】栽培計画書'!$D$266
A49: 30 | B49: =' 【申請用】栽培計画書'!$A$273&' 【申請用】栽培計画書'!$C$273 | C49: =(IF(' 【申請用】栽培計画書'!$B$273="","",IF(' 【申請用】栽培計画書'!$B$273=$J$29,$K$29,IF(' 【申請用】栽培計画書'!$B$273=$J$30,$K$30,$K$31)))) | D49: =' 【申請用】栽培計画書'!$D$273
...

Sheet 集計（エクセル用）
F1: ↓更新申請の場合は、この集計表からコピペする前に、認証開始年月日をエクセルのデータベースから転記しておくこと | V1: ↓（青文字部分）更新申請の場合は、この集計表からコピペする前にエクセルのデータベースを見て、何か記載があれば転記しておく | CN1: ↓（備考欄）更新申請の場合は、この集計表からコピペする前にエクセルのデータベースを見て、何か記載があれば転記する | CV1: ↓希望票から転記する | DV1: ↓5項目以降は手入力
A2: 認証番号 | B2: ※ | C2: 屋号 | D2: 氏名 | E2: 認証あり（ＴＲＵＥ） 認証なし（ＦＡＬＳＥ） | F2: 認証開始年月日 | G2: 認証終了年月日 | H2: 申請年月日 | I2: 氏名ふりがな | J2: 共同申請者氏名 | K2: 共同申請者ふりがな | L2: 郵便番号 | M2: 住所区市町村 | N2: 住所区市町村以下 | O2: 連絡先電話番号１ | P2: 連絡先電話番号２ | Q2: メールアドレス | R2: 団体名１ | S2: 団体名２ | T2: 団体名３ | U2: 代表者名 | V2: 連絡担当者 | W2: 連絡用電話番号 | X2: 書類送付先郵便番号 | Y2: 書類送付先住所 | Z2: 特記事項 | AA2: 備考 | AB2: 連絡方法 郵送 | AC2: 連絡方法 メール | AD2: 販売場所 | AE2: 生産ほ場数 | AF2: 生産ほ場1 | AG2: 1面積(a) | AH2: 1うち施設面積(a) | AI2: 生産ほ場2 | AJ2: 2面積(a) | AK2: 2うち施設面積(a) | AL2: 生産ほ場3 | AM2: 3面積(a) | AN2: 3うち施設面積(a) | AO2: 生産ほ場4 | AP2: 4面積(a) | AQ2: 4うち施設面積(a) | AR2: 生産ほ場5 | AS2: 5面積(a) | AT2: 5うち施設面積(a) | AU2: 生産ほ場6 | AV2: 6面積(a) | AW2: 6うち施設面積(a) | AX2: 生産ほ場7 | AY2: 7面積(a) | AZ2: 7うち施設面積(a) | BA2: 生産ほ場8 | BB2: 8面積(a) | BC2: 8うち施設面積(a) | BD2: 生産ほ場9 | BE2: 9面積(a) | BF2: 9うち施設面積(a) | BG2: 生産ほ場10 | BH2: 10面積(a) | BI2: 10うち施設面積(a) | BJ2: 生産ほ場11 | BK2: 11面積(a) | BL2: 11うち施設面積(a) | BM2: 生産ほ場12 | BN2: 12面積(a) | BO2: 12うち施設面積(a) | BP2: 生産ほ場13 | BQ2: 13面積(a) | BR2: 13うち施設面積(a) | BS2: 生産ほ場14 | BT2: 14面積(a) | BU2: 14うち施設面積(a) | BV2: 生産ほ場15 | BW2: 15面積(a) | BX2: 15うち施設面積(a) | BY2: 生産ほ場16 | BZ2: 16面積(a) | CA2: 16うち施設面積(a) | CB2: 生産ほ場17 | CC2: 17面積(a) | CD2: 17うち施設面積(a) | CE2: 東京エコ25 | CF2: 東京エコ50 | CG2: 東京エコ100 | CH2: 25認証農産物品目数 | CI2: 50認証農産物品目数 | CJ2: 100認証農産物品目数 | CK2: 25作付面積合計(a) | CL2: 50作付面積合計(a) | CM2: 100作付面積合計(a) | CN2: 備考 | CO2: JA名等 | CP2: 東京エコ25（作型入） | CQ2: 東京エコ50（作型入） | CR2: 東京エコ100（作型入） | CS2: 25作型数 | CT2: 50作型数 | CU2: 100作型数 | CV2: 2025PR集 | CW2: 公開希望 | CX2: 住所 | CY2: 電話番号 | CZ2: Ｅﾒｰﾙｱﾄﾞﾚｽ | DA2: HPアドレス | DB2: 認証生産者メッセージ | DC2: 販売希望の有無 | DD2: とうきょう特産食材使用店 | DE2: 飲食店 | DF2: 生協 | DG2: 量販店 | DH2: 市場 | DI2: その他 | DJ2: 1農産物名 | DK2: 取引希望時期 | DL2: 取引希望数量 | DM2: 2農産物名 | DN2: 取引希望時期 | DO2: 取引希望数量 | DP2: 3農産物名 | DQ2: 取引希望時期 | DR2: 取引希望数量 | DS2: 4農産物名 | DT2: 取引希望時期 | DU2: 取引希望数量 | DV2: 5農産物名 | DW2: 取引希望時期 | DX2: 取引希望数量 | DY2: 6農産物名 | DZ2: 取引希望時期 | EA2: 取引希望数量 | EB2: 7農産物名 | EC2: 取引希望時期 | ED2: 取引希望数量 | EE2: 8農産物名 | EF2: 取引希望時期 | EG2: 取引希望数量 | EH2: 9農産物名 | EI2: 取引希望時期 | EJ2: 取引希望数量 | EK2: 10農産物名 | EL2: 取引希望時期 | EM2: 取引希望数量 | EN2: 11農産物名 | EO2: 取引希望時期 | EP2: 取引希望数量 | EQ2: 12農産物名 | ER2: 取引希望時期 | ES2: 取引希望数量 | ET2: 13農産物名 | EU2: 取引希望時期 | EV2: 取引希望数量 | EW2: 14農産物名 | EX2: 取引希望時期 | EY2: 取引希望数量 | EZ2: 15農産物名 | FA2: 取引希望時期 | FB2: 取引希望数量 | FC2: 16農産物名 | FD2: 取引希望時期 | FE2: 取引希望数量 | FF2: 17農産物名 | FG2: 取引希望時期 | FH2: 取引希望数量 | FI2: 18農産物名 | FJ2: 取引希望時期 | FK2: 取引希望数量 | FL2: 地域 | FM2: 25品目 | FN2: 50品目 | FO2: 100品目 | FP2: 25品目数 | FQ2: 50品目数 | FR2: 100品目数 | FS2: 品目数 計 | FT2: 25作型数 | FU2: 50作型数 | FV2: 100作型数 | FW2: 作型数計 | FY2: 生産ほ場1 | FZ2: 1面積(a) | GA2: 1うち施設面積(a) | GB2: 生産ほ場2 | GC2: 2面積(a) | GD2: 2うち施設面積(a) | GE2: 生産ほ場3 | GF2: 3面積(a) | GG2: 3うち施設面積(a) | GH2: 生産ほ場4 | GI2: 4面積(a) | GJ2: 4うち施設面積(a) | GK2: 生産ほ場5 | GL2: 5面積(a) | GM2: 5うち施設面積(a) | GN2: 生産ほ場6 | GO2: 6面積(a) | GP2: 6うち施設面積(a) | GQ2: 生産ほ場7 | GR2: 7面積(a) | GS2: 7うち施設面積(a) | GT2: 生産ほ場8 | GU2: 8面積(a) | GV2: 8うち施設面積(a) | GW2: 生産ほ場9 | GX2: 9面積(a) | GY2: 9うち施設面積(a) | GZ2: 生産ほ場10 | HA2: 10面積(a) | HB2: 10うち施設面積(a) | HC2: 生産ほ場11 | HD2: 11面積(a) | HE2: 11うち施設面積(a) | HF2: 生産ほ場12 | HG2: 12面積(a) | HH2: 12うち施設面積(a) | HI2: 生産ほ場13 | HJ2: 13面積(a) | HK2: 13うち施設面積(a) | HL2: 生産ほ場14 | HM2: 14面積(a) | HN2: 14うち施設面積(a) | HO2: 生産ほ場15 | HP2: 15面積(a) | HQ2: 15うち施設面積(a) | HR2: 生産ほ場16 | HS2: 16面積(a) | HT2: 16うち施設面積(a) | HU2: 生産ほ場17 | HV2: 17面積(a) | HW2: 17うち施設面積(a) | HX2: 圃場数 | HY2: 圃場面積計 | HZ2: 施設面積計 | IB2: 総計⇒ | IC2: 認証品目数 | ID2: 認証作型数 | IE2: 圃場数 | IF2: 圃場面積 | IH2: のべ栽培面積 | IJ2: 計
A3: ='申請書（別記様式第１号）'!$D$31 -> 0 | B3: =LEFT('申請書（別記様式第１号）'!$D$3,1) -> 新 | C3: ='申請書（別記様式第１号）'!$D$7 -> 0 | D3: ='申請書（別記様式第１号）'!$D$12 -> 0 | E3: TRUE | F3: =IF('申請書（別記様式第１号）'!$D$3="新規",'申請書（別記様式第１号）'!$C$38,"") -> 46388 | G3: ='申請書（別記様式第１号）'!$E$38 -> 48213 | H3: ='申請書（別記様式第１号）'!$F$4 -> 年 月 日 | I3: ='申請書（別記様式第１号）'!$D$11 -> 0 | J3: ='申請書（別記様式第１号）'!$D$21 | K3: ='申請書（別記様式第１号）'!$D$20 | L3: ='申請書（別記様式第１号）'!$E$14 -> 0 | M3: ='申請書（別記様式第１号）'!$E$15 -> （区市町村を選択） | N3: ='申請書（別記様式第１号）'!$D$16 -> 0 | O3: ='申請書（別記様式第１号）'!$D$24 -> 0 | Q3: ='申請書（別記様式第１号）'!$D$28 -> 0 | R3: ='申請書（別記様式第１号）'!$D$34 -> 0 | AB3: TRUE | AC3: FALSE | AD3: =情報公開項目!$F$11 -> 0 | AE3: =COUNTA(生産ほ場一覧!B7:B23) -> 0 | AF3: =IF(生産ほ場一覧!B7="","",生産ほ場一覧!B7) | AG3: =IF(生産ほ場一覧!C7="","",生産ほ場一覧!C7) | AH3: =IF(生産ほ場一覧!D7="","",生産ほ場一覧!D7) | AI3: {=_xlfn.IFS($AE$3=1,"（以下余白）",生産ほ場一覧!B8<>"",生産ほ場一覧!B8,TRUE,"")} | AJ3: =IF(生産ほ場一覧!C8="","",生産ほ場一覧!C8) | AK3: =IF(生産ほ場一覧!D8="","",生産ほ場一覧!D8) | AL3: {=_xlfn.IFS($AE$3=2,"（以下余白）",生産ほ場一覧!B9<>"",生産ほ場一覧!B9,TRUE,"")} | AM3: =IF(生産ほ場一覧!C9="","",生産ほ場一覧!C9) | AN3: =IF(生産ほ場一覧!D9="","",生産ほ場一覧!D9) | AO3: {=_xlfn.IFS($AE$3=3,"（以下余白）",生産ほ場一覧!B10<>"",生産ほ場一覧!B10,TRUE,"")} | AP3: =IF(生産ほ場一覧!C10="","",生産ほ場一覧!C10) | AQ3: =IF(生産ほ場一覧!D10="","",生産ほ場一覧!D10) | AR3: {=_xlfn.IFS($AE$3=4,"（以下余白）",生産ほ場一覧!B11<>"",生産ほ場一覧!B11,TRUE,"")} | AS3: =IF(生産ほ場一覧!C11="","",生産ほ場一覧!C11) | AT3: =IF(生産ほ場一覧!D11="","",生産ほ場一覧!D11) | AU3: {=_xlfn.IFS($AE$3=5,"（以下余白）",生産ほ場一覧!B12<>"",生産ほ場一覧!B12,TRUE,"")} | AV3: =IF(生産ほ場一覧!C12="","",生産ほ場一覧!C12) | AW3: =IF(生産ほ場一覧!D12="","",生産ほ場一覧!D12) | AX3: {=_xlfn.IFS($AE$3=6,"（以下余白）",生産ほ場一覧!B13<>"",生産ほ場一覧!B13,TRUE,"")} | AY3: =IF(生産ほ場一覧!C13="","",生産ほ場一覧!C13) | AZ3: =IF(生産ほ場一覧!D13="","",生産ほ場一覧!D13) | BA3: {=_xlfn.IFS($AE$3=7,"（以下余白）",生産ほ場一覧!B14<>"",生産ほ場一覧!B14,TRUE,"")} | BB3: =IF(生産ほ場一覧!C14="","",生産ほ場一覧!C14) | BC3: =IF(生産ほ場一覧!D14="","",生産ほ場一覧!D14) | BD3: {=_xlfn.IFS($AE$3=8,"（以下余白）",生産ほ場一覧!B15<>"",生産ほ場一覧!B15,TRUE,"")} | BE3: =IF(生産ほ場一覧!C15="","",生産ほ場一覧!C15) | BF3: =IF(生産ほ場一覧!D15="","",生産ほ場一覧!D15) | BG3: {=_xlfn.IFS($AE$3=9,"（以下余白）",生産ほ場一覧!B16<>"",生産ほ場一覧!B16,TRUE,"")} | BH3: =IF(生産ほ場一覧!C16="","",生産ほ場一覧!C16) | BI3: =IF(生産ほ場一覧!D16="","",生産ほ場一覧!D16) | BJ3: {=_xlfn.IFS($AE$3=10,"（以下余白）",生産ほ場一覧!B2<>"",生産ほ場一覧!B17,TRUE,"")} | BK3: =IF(生産ほ場一覧!C17="","",生産ほ場一覧!C17) | BL3: =IF(生産ほ場一覧!D17="","",生産ほ場一覧!D17) | BM3: {=_xlfn.IFS($AE$3=11,"（以下余白）",生産ほ場一覧!B18<>"",生産ほ場一覧!B18,TRUE,"")} | BN3: =IF(生産ほ場一覧!C18="","",生産ほ場一覧!C18) | BO3: =IF(生産ほ場一覧!D18="","",生産ほ場一覧!D18) | BP3: {=_xlfn.IFS($AE$3=12,"（以下余白）",生産ほ場一覧!B19<>"",生産ほ場一覧!B19,TRUE,"")} | BQ3: =IF(生産ほ場一覧!C19="","",生産ほ場一覧!C19) | BR3: =IF(生産ほ場一覧!D19="","",生産ほ場一覧!D19) | BS3: {=_xlfn.IFS($AE$3=13,"（以下余白）",生産ほ場一覧!B20<>"",生産ほ場一覧!B20,TRUE,"")} | BT3: =IF(生産ほ場一覧!C20="","",生産ほ場一覧!C20) | BU3: =IF(生産ほ場一覧!D20="","",生産ほ場一覧!D20) | BV3: {=_xlfn.IFS($AE$3=14,"（以下余白）",生産ほ場一覧!B21<>"",生産ほ場一覧!B21,TRUE,"")} | BW3: =IF(生産ほ場一覧!C21="","",生産ほ場一覧!C21) | BX3: =IF(生産ほ場一覧!D21="","",生産ほ場一覧!D21) | BY3: {=_xlfn.IFS($AE$3=15,"（以下余白）",生産ほ場一覧!B22<>"",生産ほ場一覧!B22,TRUE,"")} | BZ3: =IF(生産ほ場一覧!C22="","",生産ほ場一覧!C22) | CA3: =IF(生産ほ場一覧!D22="","",生産ほ場一覧!D22) | CB3: {=_xlfn.IFS($AE$3=16,"（以下余白）",生産ほ場一覧!B23<>"",生産ほ場一覧!B23,TRUE,"")} | CC3: =IF(生産ほ場一覧!C23="","",生産ほ場一覧!C23) | CD3: =IF(生産ほ場一覧!D23="","",生産ほ場一覧!D23) | CE3: =IF(CH3=0,"（該当なし）",' 【申請用】栽培計画書'!T144&'【申請用】栽培計画書（養液栽培）'!Q35&"") -> （該当なし） | CF3: =IF(CI3=0,"（該当なし）",' 【申請用】栽培計画書'!U144&'【申請用】栽培計画書（養液栽培）'!R35&"") -> （該当なし） | CG3: =IF(CJ3=0,"（該当なし）",' 【申請用】栽培計画書'!V144&'【申請用】栽培計画書（養液栽培）'!S35&"") -> （該当なし） | CH3: =' 【申請用】栽培計画書'!T150+'【申請用】栽培計画書（養液栽培）'!Q37 -> 0 | CI3: =' 【申請用】栽培計画書'!U150+'【申請用】栽培計画書（養液栽培）'!R37 -> 0 | CJ3: =' 【申請用】栽培計画書'!V150 -> 0 | CK3: =' 【申請用】栽培計画書'!AB84+'【申請用】栽培計画書（養液栽培）'!Y29 -> 0 | CL3: =' 【申請用】栽培計画書'!AC84+'【申請用】栽培計画書（養液栽培）'!Z29 -> 0 | CM3: =' 【申請用】栽培計画書'!AD84 -> 0 | CO3: =$C$7 -> JA町田市 | CP3: =IF(CH3=0,"（該当なし）",' 【申請用】栽培計画書'!W144&'【申請用】栽培計画書（養液栽培）'!T35&"") -> （該当なし） | CQ3: =IF(CI3=0,"（該当なし）",' 【申請用】栽培計画書'!X144&'【申請用】栽培計画書（養液栽培）'!U35&"") -> （該当なし） | CR3: =IF(CJ3=0,"（該当なし）",' 【申請用】栽培計画書'!Y144&'【申請用】栽培計画書（養液栽培）'!V35&"") -> （該当なし） | CS3: =' 【申請用】栽培計画書'!W150+'【申請用】栽培計画書（養液栽培）'!T37 -> 0 | CT3: =' 【申請用】栽培計画書'!X150+'【申請用】栽培計画書（養液栽培）'!U37 -> 0 | CU3: =' 【申請用】栽培計画書'!Y150 -> 0 | CW3: =IF(情報公開項目!B13=TRUE,TRUE,FALSE) -> FALSE | CX3: =IF(情報公開項目!B13=TRUE,情報公開項目!F13,"非公開") -> 非公開 | CY3: =IF(情報公開項目!B14=TRUE,情報公開項目!F14,"非公開") -> 非公開 | CZ3: =IF(情報公開項目!B15=TRUE,情報公開項目!F15,"非公開") -> 非公開 | DA3: =IF(情報公開項目!B16=TRUE,情報公開項目!F16,"非公開") -> 非公開 | DB3: =IF(情報公開項目!B17=TRUE,情報公開項目!F17,"なし") -> なし | DC3: =IF(情報公開項目!B18=TRUE,TRUE,FALSE) -> FALSE | DD3: =IF(情報公開項目!D19=TRUE,TRUE,FALSE) -> FALSE | DE3: =IF(情報公開項目!H19=TRUE,TRUE,FALSE) -> FALSE | DF3: =IF(情報公開項目!K19=TRUE,TRUE,FALSE) -> FALSE | DG3: =IF(情報公開項目!D20=TRUE,TRUE,FALSE) -> FALSE | DH3: =IF(情報公開項目!F20=TRUE,TRUE,FALSE) -> FALSE | DI3: =IF(情報公開項目!H20=TRUE,情報公開項目!J20,FALSE) -> FALSE | DJ3: =IF(情報公開項目!D22="","",情報公開項目!D22) | DK3: =IF(情報公開項目!G22="","",情報公開項目!G22) | DL3: =IF(情報公開項目!J22="","",情報公開項目!J22) | DM3: =IF(情報公開項目!D23="","",情報公開項目!D23) | DN3: =IF(情報公開項目!G23="","",情報公開項目!G23) | DO3: =IF(情報公開項目!J23="","",情報公開項目!J23) | DP3: =IF(情報公開項目!D24="","",情報公開項目!D24) | DQ3: =IF(情報公開項目!G24="","",情報公開項目!G24) | DR3: =IF(情報公開項目!J24="","",情報公開項目!J24) | DS3: =IF(情報公開項目!$D25="","",情報公開項目!$D25) | DT3: =IF(情報公開項目!$G25="","",情報公開項目!$G25) | DU3: =IF(情報公開項目!$J25="","",情報公開項目!$J25)
C6: ①↓最初に申請者が所属するJA名を選択 | G6: ② 上のセルに集計された内容で間違いがないか確認する
C7: JA町田市
C8: ＊JAが関与していないところ（学校や法人等）は、 | G8: ③ 更新申請の場合
C11: 「東京都農業振興事務所」を選択する | G11: 上のセルで集計された内容では、「認証開始年月日」や「備考」などは空欄になっている
G12: これをこのままコピー＆貼り付けすると、エクセルのデータベースに書いてあった内容が上書きされて空欄になってしまう
C13: JA名のリスト | G13: → エクセルのデータベースから、「認証開始年月日」「備考」などの内容をこの集計表に転記しておくこと
C14: JA西東京
C15: JAあきがわ | G15: ④ 集計表からコピー＆エクセルのデータベースに貼り付け
C16: JAにしたま | G16: このシートに集計された内容のうち、赤い枠で囲まれた部分をコピーして、エクセルのデータベースファイルに
C17: JA八王子 | G17: 「値の貼り付け」で張り付ける
C18: JA東京みなみ
C19: JA町田市 | G19: （注意１） 行全体をコピーしてエクセルのデータベースに貼り付けると、 | H19: 行全体をコピーしてエクセルのデータベースに貼り付けると、
C20: JAマインズ | H20: エクセルのデータベース側の式（右端のほうにいろいろ入っている）が壊れるので、枠外は選択できないように設定してあります
C21: JA東京みどり
C22: JA東京みらい | G22: （注意２） 行全体をコピーしてエクセルのデータベースに貼り付けると、 | H22: そのまま「貼り付け」すると、セルにある式がコピー＆貼り付けされ、
C23: JA東京むさし | H23: ファイル間で値を参照するリンクが作られてしまう | U23: （参考）枠内を楽に選択するには
C24: JA東京中央 | H24: リンクのエラー発生の原因になるため、必ず「値の貼り付け」を選ぶこと
C25: JA世田谷目黒
C26: JA東京あおば | H26: 「値の貼り付け」を選ぶには：
C27: JA東京スマイル | H27: 貼り付けする位置で右クリック→出てくるメニューの「貼り付けのオプション」の下にいくつかアイコンがあるので、
C28: 八丈島農協 | H28: そこから「クリップボードに「１２３」と書いてあるアイコン」を選択してクリック で、
C29: 新島村農協 | H29: 「値の貼り付け」ができます
C30: 利島農協
C31: 三宅島農業振興会 | G31: ＊この集計シートは、編集や選択が必要なセル（JA選択セルと、赤い枠で囲まれた集計部分）以外は、
C32: 小笠原アイランズ農協 | G32: セルの選択ができないようにしてあります。
C33: 東京都農業振興事務所 | G33: 選択や編集が必要な場合は、
G34: 「校閲」タブ→「シート保護の解除」をクリックしてください | U34: 上の図のところにあるプルダウンメニューから
U40: 「コピペ範囲」という名前をさがして選択すると、
U41: 赤い枠の中の範囲が選択されます

Sheet 申請書（別記様式第１号）
A1: 別記様式第１号
B2: 東京都エコ農産物認証申請書
C3: （ | D3: 新規 | E3: ）
F4: 年 月 日
B5: 東京都知事 殿
D6: 屋 号
D9: （ふりがな）
D10: 氏 名
D14: 郵便番号
D15: 住 所 | E15: （区市町村を選択）
D18: （ふりがな）
D19: 共同申請者氏名（同一経営体内の申請の場合記入）
D23: 連絡先電話番号
D26: Ｅメールアドレス
D27: （Ｅメールによる通知等を希望しない場合は記入不要）
D30: 認証番号（更新等の場合※に記入）
D33: 団体名（団体申請しない場合は記入不要）
B36: 東京都エコ農産物認証要綱第６の規定に基づき、次のとおり申請します。
B38: 認証期間 | C38: 46388 | D38: から | E38: =DATE(YEAR(C38)+5, MONTH(C38), DAY(C38)-1) -> 48213 | F38: まで | L38: 認証期間５年間
I39: 申請時期 | J39: 認証開始 | L39: → | M39: 認証終了
A40: ※更新等の場合 … 更新申請の他、一旦認証期間が終了した者（または同一経営体に属する者）が 改めて認証申請するにあたり、前回受けていた認証番号の使用を希望する場合 | I40: 2025(R7)年 9月 | J40: 46023 | K40: 46023 | L40: → | M40: 47848 | N40: 47848
L41: →
A42: 添付資料 | I42: 2026(R8)年 9月 | J42: 46388 | K42: 46388 | L42: → | M42: 48213 | N42: 48213
A43: ・ 別紙１ 生産ほ場一覧 | I43: 2027(R9)年 9月 | J43: 46753 | K43: 46753 | L43: → | M43: 48579 | N43: 48579
A44: ・ 別紙２ 東京都エコ農産物認証申請書（栽培計画書）または（養液栽培計画書） | I44: 2028(R10)年 9月 | J44: 47119 | K44: 47119 | L44: → | M44: 48944 | N44: 48944
A45: ・ 別紙３ 東京都エコ農産物 認証情報公開項目 届出書 | I45: 2029(R11)年 9月 | J45: 47484 | K45: 47484 | L45: → | M45: 49309 | N45: 49309

Sheet 生産ほ場一覧
A1: 別記様式第1号（別紙１）
A2: 生産ほ場一覧（申請する農産物を栽培するほ場の所在地）
A4: ほ場 番号 | B4: ほ 場 の 所 在 地 | C4: 面積 （a）※ | D4: うち施設 面積 （a）※
A7: 1
A8: 2
A9: 3
A10: 4
A11: 5
A12: 6
A13: 7
A14: 8
A15: 9
A16: 10
A17: 11
A18: 12
... A23: 17
B24: 合 計 | C24: =SUM(C7:C23) -> 0 | D24: =SUM(D7:D23) -> 0
A26: ※小数点以下は第１位まで
A27: 添付資料
A28: ・ 生産ほ場の位置と形状がわかる地図
A29: 【注意】著作者より利用許諾された地図、または利用規約を遵守した地図を添付してください。著作権侵害の恐れのある地図は受理できません。なお、農林水産省地理情報共通管理システムの「eMAFF農地ナビ」画面を利用する場合は、下段の「 mapbox～©Mapbox©OpenStreetMap Improve this map©Maxar」の表記が入るよう留意してください。国土地理院の地図を利用する場合も、原則自由に利用できますが、こちらも出典・加工について明示する義務があります（利用規約を要確認）。

Sheet 【入力シート】栽培計画書
A1: 【入力シート】栽培計画書 各項目について 選択・・・プルダウンにて選択してください。 直接入力・・・直接入力してください。 自動入力・・・農作物+認証+作型により上限が入力されます。 各単位は自動入力されます。 行、列の挿入、削除はできません。
E2: 作付場所 | I2: 土づくり技術 | N2: 化学合成農薬削減の技術 | R2: 化学合成肥料削減の技術
B3: 農作物名 | C3: 認証区分 | D3: 作型 | E3: 露地 または施設 | F3: 作付面積 (a） | G3: 栽培開始月 | H3: 栽培終了月 | I3: 番号 | J3: 有機質資材の使用量 （㎏/10a） | K3: 番号 | L3: 有機質資材の使用量 （㎏/10a） | M3: 具体的内容 | N3: 番号 | O3: 番号 | P3: 化学農薬使用回数(回) | Q3: 具体的内容 | R3: 番号 | S3: 番号 | T3: 化学肥料使用回数(回） | U3: 具体的内容 | V3: 目標収量（㎏/10a）
B4: 選択 | C4: 選択 | D4: 選択 | E4: 選択 | F4: 直接入力 | G4: 直接入力 | H4: 直接入力 | I4: 選択 | J4: 直接入力 | K4: 選択 | L4: 直接入力 | M4: 直接入力 | N4: 選択 | O4: 選択 | P4: 自動入力 | Q4: 直接入力 | R4: 選択 | S4: 選択 | T4: 自動入力 | U4: 直接入力 | V4: 直接入力
A5: 例 | B5: キャベツ | C5: ①エコ25 | D5: 秋まき初夏どり | E5: 露地 | F5: 5 | G5: 11 | H5: 6 | I5: ① 堆肥施用 | J5: 1000 | K5: ③ その他 試験研究機関等で開発された技術 | L5: 10 | M5: ①牛ふん堆肥の施用 ②エン麦を栽培しすき込む | N5: ④ 生物農薬利用技術 | O5: ⑪ フェロモン剤利用技術 | P5: {=_xlfn.IFS(C5="③エコ100",0,C5="①エコ25",VLOOKUP(B5&D5,エコ基準検索表,2,FALSE),C5="②エコ50",VLOOKUP(B5&D5,エコ基準検索表,3,FALSE),TRUE,"")} -> 11 | Q5: ④BT剤をローテーション散布に組み込む ⑪フェロモン剤により交尾障害を図る | R5: ① 局所施肥 | S5: ③ 有機質肥料施肥 | T5: {=_xlfn.IFS(C5="③エコ100",0,C5="①エコ25",VLOOKUP(B5&D5,エコ基準検索表,5,FALSE),C5="②エコ50",VLOOKUP(B5&D5,エコ基準検索表,6,FALSE),TRUE,"")} -> 18.75 | U5: ①条施肥を行う ③有機質肥料（ナタネ油かす）を施用 | V5: 4000
A6: 1 | P6: {=_xlfn.IFS(C6="③エコ100",0,C6="①エコ25",VLOOKUP(B6&D6,エコ基準検索表,2,FALSE),C6="②エコ50",VLOOKUP(B6&D6,エコ基準検索表,3,FALSE),TRUE,"")} | T6: {=_xlfn.IFS(C6="③エコ100",0,C6="①エコ25",VLOOKUP(B6&D6,エコ基準検索表,5,FALSE),C6="②エコ50",VLOOKUP(B6&D6,エコ基準検索表,6,FALSE),TRUE,"")} | W6: =IF(ISNUMBER(SEARCH("施設", D6)), "施設", IF(ISNUMBER(SEARCH("露地", D6)), "露地", "露地施設")) -> 露地施設
A7: 2 | P7: {=_xlfn.IFS(C7="③エコ100",0,C7="①エコ25",VLOOKUP(B7&D7,エコ基準検索表,2,FALSE),C7="②エコ50",VLOOKUP(B7&D7,エコ基準検索表,3,FALSE),TRUE,"")} | T7: {=_xlfn.IFS(C7="③エコ100",0,C7="①エコ25",VLOOKUP(B7&D7,エコ基準検索表,5,FALSE),C7="②エコ50",VLOOKUP(B7&D7,エコ基準検索表,6,FALSE),TRUE,"")} | W7: =IF(ISNUMBER(SEARCH("施設", D7)), "施設", IF(ISNUMBER(SEARCH("露地", D7)), "露地", "露地施設")) -> 露地施設
A8: 3 | P8: {=_xlfn.IFS(C8="③エコ100",0,C8="①エコ25",VLOOKUP(B8&D8,エコ基準検索表,2,FALSE),C8="②エコ50",VLOOKUP(B8&D8,エコ基準検索表,3,FALSE),TRUE,"")} | T8: {=_xlfn.IFS(C8="③エコ100",0,C8="①エコ25",VLOOKUP(B8&D8,エコ基準検索表,5,FALSE),C8="②エコ50",VLOOKUP(B8&D8,エコ基準検索表,6,FALSE),TRUE,"")} | W8: =IF(ISNUMBER(SEARCH("施設", D8)), "施設", IF(ISNUMBER(SEARCH("露地", D8)), "露地", "露地施設")) -> 露地施設
A9: 4 | P9: {=_xlfn.IFS(C9="③エコ100",0,C9="①エコ25",VLOOKUP(B9&D9,エコ基準検索表,2,FALSE),C9="②エコ50",VLOOKUP(B9&D9,エコ基準検索表,3,FALSE),TRUE,"")} | T9: {=_xlfn.IFS(C9="③エコ100",0,C9="①エコ25",VLOOKUP(B9&D9,エコ基準検索表,5,FALSE),C9="②エコ50",VLOOKUP(B9&D9,エコ基準検索表,6,FALSE),TRUE,"")} | W9: =IF(ISNUMBER(SEARCH("施設", D9)), "施設", IF(ISNUMBER(SEARCH("露地", D9)), "露地", "露地施設")) -> 露地施設
A10: 5 | P10: {=_xlfn.IFS(C10="③エコ100",0,C10="①エコ25",VLOOKUP(B10&D10,エコ基準検索表,2,FALSE),C10="②エコ50",VLOOKUP(B10&D10,エコ基準検索表,3,FALSE),TRUE,"")} | T10: {=_xlfn.IFS(C10="③エコ100",0,C10="①エコ25",VLOOKUP(B10&D10,エコ基準検索表,5,FALSE),C10="②エコ50",VLOOKUP(B10&D10,エコ基準検索表,6,FALSE),TRUE,"")} | W10: =IF(ISNUMBER(SEARCH("施設", D10)), "施設", IF(ISNUMBER(SEARCH("露地", D10)), "露地", "露地施設")) -> 露地施設
A11: 6 | P11: {=_xlfn.IFS(C11="③エコ100",0,C11="①エコ25",VLOOKUP(B11&D11,エコ基準検索表,2,FALSE),C11="②エコ50",VLOOKUP(B11&D11,エコ基準検索表,3,FALSE),TRUE,"")} | T11: {=_xlfn.IFS(C11="③エコ100",0,C11="①エコ25",VLOOKUP(B11&D11,エコ基準検索表,5,FALSE),C11="②エコ50",VLOOKUP(B11&D11,エコ基準検索表,6,FALSE),TRUE,"")} | W11: =IF(ISNUMBER(SEARCH("施設", D11)), "施設", IF(ISNUMBER(SEARCH("露地", D11)), "露地", "露地施設")) -> 露地施設
A12: 7 | P12: {=_xlfn.IFS(C12="③エコ100",0,C12="①エコ25",VLOOKUP(B12&D12,エコ基準検索表,2,FALSE),C12="②エコ50",VLOOKUP(B12&D12,エコ基準検索表,3,FALSE),TRUE,"")} | T12: {=_xlfn.IFS(C12="③エコ100",0,C12="①エコ25",VLOOKUP(B12&D12,エコ基準検索表,5,FALSE),C12="②エコ50",VLOOKUP(B12&D12,エコ基準検索表,6,FALSE),TRUE,"")} | W12: =IF(ISNUMBER(SEARCH("施設", D12)), "施設", IF(ISNUMBER(SEARCH("露地", D12)), "露地", "露地施設")) -> 露地施設
A13: 8 | P13: {=_xlfn.IFS(C13="③エコ100",0,C13="①エコ25",VLOOKUP(B13&D13,エコ基準検索表,2,FALSE),C13="②エコ50",VLOOKUP(B13&D13,エコ基準検索表,3,FALSE),TRUE,"")} | T13: {=_xlfn.IFS(C13="③エコ100",0,C13="①エコ25",VLOOKUP(B13&D13,エコ基準検索表,5,FALSE),C13="②エコ50",VLOOKUP(B13&D13,エコ基準検索表,6,FALSE),TRUE,"")} | W13: =IF(ISNUMBER(SEARCH("施設", D13)), "施設", IF(ISNUMBER(SEARCH("露地", D13)), "露地", "露地施設")) -> 露地施設
A14: 9 | P14: {=_xlfn.IFS(C14="③エコ100",0,C14="①エコ25",VLOOKUP(B14&D14,エコ基準検索表,2,FALSE),C14="②エコ50",VLOOKUP(B14&D14,エコ基準検索表,3,FALSE),TRUE,"")} | T14: {=_xlfn.IFS(C14="③エコ100",0,C14="①エコ25",VLOOKUP(B14&D14,エコ基準検索表,5,FALSE),C14="②エコ50",VLOOKUP(B14&D14,エコ基準検索表,6,FALSE),TRUE,"")} | W14: =IF(ISNUMBER(SEARCH("施設", D14)), "施設", IF(ISNUMBER(SEARCH("露地", D14)), "露地", "露地施設")) -> 露地施設
A15: 10 | P15: {=_xlfn.IFS(C15="③エコ100",0,C15="①エコ25",VLOOKUP(B15&D15,エコ基準検索表,2,FALSE),C15="②エコ50",VLOOKUP(B15&D15,エコ基準検索表,3,FALSE),TRUE,"")} | T15: {=_xlfn.IFS(C15="③エコ100",0,C15="①エコ25",VLOOKUP(B15&D15,エコ基準検索表,5,FALSE),C15="②エコ50",VLOOKUP(B15&D15,エコ基準検索表,6,FALSE),TRUE,"")} | W15: =IF(ISNUMBER(SEARCH("施設", D15)), "施設", IF(ISNUMBER(SEARCH("露地", D15)), "露地", "露地施設")) -> 露地施設
A16: 11 | P16: {=_xlfn.IFS(C16="③エコ100",0,C16="①エコ25",VLOOKUP(B16&D16,エコ基準検索表,2,FALSE),C16="②エコ50",VLOOKUP(B16&D16,エコ基準検索表,3,FALSE),TRUE,"")} | T16: {=_xlfn.IFS(C16="③エコ100",0,C16="①エコ25",VLOOKUP(B16&D16,エコ基準検索表,5,FALSE),C16="②エコ50",VLOOKUP(B16&D16,エコ基準検索表,6,FALSE),TRUE,"")} | W16: =IF(ISNUMBER(SEARCH("施設", D16)), "施設", IF(ISNUMBER(SEARCH("露地", D16)), "露地", "露地施設")) -> 露地施設
A17: 12 | P17: {=_xlfn.IFS(C17="③エコ100",0,C17="①エコ25",VLOOKUP(B17&D17,エコ基準検索表,2,FALSE),C17="②エコ50",VLOOKUP(B17&D17,エコ基準検索表,3,FALSE),TRUE,"")} | T17: {=_xlfn.IFS(C17="③エコ100",0,C17="①エコ25",VLOOKUP(B17&D17,エコ基準検索表,5,FALSE),C17="②エコ50",VLOOKUP(B17&D17,エコ基準検索表,6,FALSE),TRUE,"")} | W17: =IF(ISNUMBER(SEARCH("施設", D17)), "施設", IF(ISNUMBER(SEARCH("露地", D17)), "露地", "露地施設")) -> 露地施設
... A65: 60 | P65: {=_xlfn.IFS(C65="③エコ100",0,C65="①エコ25",VLOOKUP(B65&D65,エコ基準検索表,2,FALSE),C65="②エコ50",VLOOKUP(B65&D65,エコ基準検索表,3,FALSE),TRUE,"")} | T65: {=_xlfn.IFS(C65="③エコ100",0,C65="①エコ25",VLOOKUP(B65&D65,エコ基準検索表,5,FALSE),C65="②エコ50",VLOOKUP(B65&D65,エコ基準検索表,6,FALSE),TRUE,"")} | W65: =IF(ISNUMBER(SEARCH("施設", D65)), "施設", IF(ISNUMBER(SEARCH("露地", D65)), "露地", "露地施設")) -> 露地施設

Sheet 【入力シート】栽培計画書 (養液栽培)
A1: 【入力シート】栽培計画書 各項目について 選択・・・プルダウンにて選択してください。 直接入力・・・直接入力してください。 自動入力・・・農作物+認証+作型により上限が入力されます。 各単位は自動入力されます。 行、列の挿入、削除はできません。
H2: 養液栽培の形式 | I2: 化学合成農薬削減の技術 | M2: 排液流出防止の技術 | P2: 廃棄素材の処理方法
B3: 農作物名 | C3: 認証区分 | D3: 作型 | E3: 作付面積 (a ) | F3: 栽培開始月 | G3: 栽培終了月 | I3: 番号 | J3: 番号 | K3: 化学農薬使用回数(回) | L3: 具体的内容 | M3: 番号 | N3: 番号 | O3: 具体的内容 | P3: 具体的内容 | Q3: 目標収量（㎏/10a）
B4: 選択 | C4: 選択 | D4: 自動入力 | E4: 直接入力 | F4: 直接入力 | G4: 直接入力 | H4: 直接入力 | I4: 選択 | J4: 選択 | K4: 自動入力 | L4: 直接入力 | M4: 選択 | N4: 選択 | O4: 直接入力 | P4: 直接入力 | Q4: 直接入力
A5: 例 | B5: ミニトマト（養液栽培） | C5: ①エコ25 | D5: =IF(B5="","",IF(B5="イチゴ（養液栽培）","促成（施設）","促成長期（施設）")) -> 促成長期（施設） | E5: 2 | F5: 9 | G5: 6 | H5: ロックウール栽培システム | I5: ⑥ 抵抗性品種栽培・台木利用技術 | J5: ⑩ 被覆栽培技術 | K5: {=_xlfn.IFS(C5="①エコ25",VLOOKUP(B5&D5,養液栽培基準検索表,5,FALSE),C5="②エコ50",VLOOKUP(B5&D5,養液栽培基準検索表,6,FALSE),TRUE,"")} -> 25 | L5: ⑥抵抗性品種利用（CF桃太郎ファイト） ⑩ハウスの開口部に防虫ネットを張る | M5: ③ 堆肥に添加 | N5: ⑥ 希釈後、公共下水道へ放流 | O5: ③自己管理ほ場の堆肥に添加し再利用 ⑥薄めて公設下水道へ排水 | P5: 有機性資材は堆肥利用 それ以外は産業廃棄物として処分 | Q5: 15000
A6: 1 | D6: =IF(B6="","",IF(B6="イチゴ（養液栽培）","促成（施設）","促成長期（施設）")) | K6: {=_xlfn.IFS(C6="①エコ25",VLOOKUP(B6&D6,養液栽培基準検索表,5,FALSE),C6="②エコ50",VLOOKUP(B6&D6,養液栽培基準検索表,6,FALSE),TRUE,"")} | R6: =IF(ISNUMBER(SEARCH("施設", D6)), "施設", IF(ISNUMBER(SEARCH("露地", D6)), "露地", "露地施設")) -> 露地施設
A7: 2 | D7: =IF(B7="","",IF(B7="イチゴ（養液栽培）","促成（施設）","促成長期（施設）")) | K7: {=_xlfn.IFS(C7="①エコ25",VLOOKUP(B7&D7,養液栽培基準検索表,5,FALSE),C7="②エコ50",VLOOKUP(B7&D7,養液栽培基準検索表,6,FALSE),TRUE,"")} | R7: =IF(ISNUMBER( SEARCH("施設",#REF!)), "施設", IF(ISNUMBER( SEARCH("露地",#REF!)), "露地", "露地施設")) -> 露地施設
A8: 3 | D8: =IF(B8="","",IF(B8="イチゴ（養液栽培）","促成（施設）","促成長期（施設）")) | K8: {=_xlfn.IFS(C8="①エコ25",VLOOKUP(B8&D8,養液栽培基準検索表,5,FALSE),C8="②エコ50",VLOOKUP(B8&D8,養液栽培基準検索表,6,FALSE),TRUE,"")} | R8: =IF(ISNUMBER(SEARCH("施設", D8)), "施設", IF(ISNUMBER(SEARCH("露地", D8)), "露地", "露地施設")) -> 露地施設
A9: 4 | D9: =IF(B9="","",IF(B9="イチゴ（養液栽培）","促成（施設）","促成長期（施設）")) | K9: {=_xlfn.IFS(C9="①エコ25",VLOOKUP(B9&D9,養液栽培基準検索表,5,FALSE),C9="②エコ50",VLOOKUP(B9&D9,養液栽培基準検索表,6,FALSE),TRUE,"")} | R9: =IF(ISNUMBER(SEARCH("施設", D9)), "施設", IF(ISNUMBER(SEARCH("露地", D9)), "露地", "露地施設")) -> 露地施設
A10: 5 | D10: =IF(B10="","",IF(B10="イチゴ（養液栽培）","促成（施設）","促成長期（施設）")) | K10: {=_xlfn.IFS(C10="①エコ25",VLOOKUP(B10&D10,養液栽培基準検索表,5,FALSE),C10="②エコ50",VLOOKUP(B10&D10,養液栽培基準検索表,6,FALSE),TRUE,"")} | R10: =IF(ISNUMBER(SEARCH("施設", D10)), "施設", IF(ISNUMBER(SEARCH("露地", D10)), "露地", "露地施設")) -> 露地施設

Sheet 情報公開項目
A1: 別記様式第1号（別紙３）
A2: 認証情報公開項目届出書
G3: 屋号 | H3: ='申請書（別記様式第１号）'!$D$7&""
G4: 申請者氏名 | H4: ='申請書（別記様式第１号）'!$D$12&""
A5: 東京都のホームページに掲載する項目を、以下のとおり届け出ます
A6: 項 目 | F6: 具 体 的 な 内 容
A7: 必須公開項目
B8: 認証生産者の屋号及び氏名・認証番号 | F8: 記 入 不 要
B9: 居住区市町村名（又は主たるほ場所在地）
B10: 認証農産物・作型・認証区分
B11: 認証農産物を購入できる場所（店）
A12: 希望公開項目（公開を希望する項目の□にレを記入すること）
B13: FALSE | C13: 認証生産者住所
B14: FALSE | C14: 電話番号
B15: FALSE | C15: Ｅメールアドレス
B16: FALSE | C16: ホームページ、 SNSのアドレス（URL）
B17: FALSE | C17: 認証生産者のメッセージ
B18: FALSE | C18: 農産物の販売取引の希望 | F18: 以下に具体的に記入する | N18: （記入される方へ） 取引を希望する農産物は、 申請している農産物（下の枠内にある品目）にあるものをご記入ください。
C19: 希望する取引先 | D19: FALSE | E19: とうきょう特産食材使用店 | H19: FALSE | I19: 飲食店 | K19: FALSE | L19: 生協
C20: 希望する取引先の □にレを記入 | D20: FALSE | E20: 量販店 | F20: FALSE | G20: 市場 | H20: FALSE | I20: その他
C21: 希望する 取引の内容 | D21: 農産物名 | G21: 取引希望時期 | J21: 取引希望数量 | N21: エコ25 | O21: エコ50 | P21: エコ100 | Q21: 養液栽培エコ25 | R21: 養液栽培エコ50
N22: =' 【申請用】栽培計画書'!T84&"" | O22: =' 【申請用】栽培計画書'!U84&"" | P22: =' 【申請用】栽培計画書'!V84&"" | Q22: ='【申請用】栽培計画書（養液栽培）'!Q29&"" | R22: ='【申請用】栽培計画書（養液栽培）'!R29&""
N23: =' 【申請用】栽培計画書'!T85&"" | O23: =' 【申請用】栽培計画書'!U85&"" | P23: =' 【申請用】栽培計画書'!V85&"" | Q23: ='【申請用】栽培計画書（養液栽培）'!Q30&"" | R23: ='【申請用】栽培計画書（養液栽培）'!R30&""
N24: =' 【申請用】栽培計画書'!T86&"" | O24: =' 【申請用】栽培計画書'!U86&"" | P24: =' 【申請用】栽培計画書'!V86&"" | Q24: ='【申請用】栽培計画書（養液栽培）'!Q31&"" | R24: ='【申請用】栽培計画書（養液栽培）'!R31&""
N25: =' 【申請用】栽培計画書'!T87&"" | O25: =' 【申請用】栽培計画書'!U87&"" | P25: =' 【申請用】栽培計画書'!V87&"" | Q25: ='【申請用】栽培計画書（養液栽培）'!Q32&"" | R25: ='【申請用】栽培計画書（養液栽培）'!R32&""
N26: =' 【申請用】栽培計画書'!T88&"" | O26: =' 【申請用】栽培計画書'!U88&"" | P26: =' 【申請用】栽培計画書'!V88&""
N27: =' 【申請用】栽培計画書'!T89&"" | O27: =' 【申請用】栽培計画書'!U89&"" | P27: =' 【申請用】栽培計画書'!V89&""
N28: =' 【申請用】栽培計画書'!T90&"" | O28: =' 【申請用】栽培計画書'!U90&"" | P28: =' 【申請用】栽培計画書'!V90&""
N29: =' 【申請用】栽培計画書'!T91&"" | O29: =' 【申請用】栽培計画書'!U91&"" | P29: =' 【申請用】栽培計画書'!V91&""
N30: =' 【申請用】栽培計画書'!T92&"" | O30: =' 【申請用】栽培計画書'!U92&"" | P30: =' 【申請用】栽培計画書'!V92&""
N31: =' 【申請用】栽培計画書'!T93&"" | O31: =' 【申請用】栽培計画書'!U93&"" | P31: =' 【申請用】栽培計画書'!V93&""
N32: =' 【申請用】栽培計画書'!T94&"" | O32: =' 【申請用】栽培計画書'!U94&"" | P32: =' 【申請用】栽培計画書'!V94&""
N33: =' 【申請用】栽培計画書'!T95&"" | O33: =' 【申請用】栽培計画書'!U95&"" | P33: =' 【申請用】栽培計画書'!V95&""
N34: =' 【申請用】栽培計画書'!T96&"" | O34: =' 【申請用】栽培計画書'!U96&"" | P34: =' 【申請用】栽培計画書'!V96&""
N35: =' 【申請用】栽培計画書'!T97&"" | O35: =' 【申請用】栽培計画書'!U97&"" | P35: =' 【申請用】栽培計画書'!V97&""
N36: =' 【申請用】栽培計画書'!T98&"" | O36: =' 【申請用】栽培計画書'!U98&"" | P36: =' 【申請用】栽培計画書'!V98&""
N37: =' 【申請用】栽培計画書'!T99&"" | O37: =' 【申請用】栽培計画書'!U99&"" | P37: =' 【申請用】栽培計画書'!V99&""
N38: =' 【申請用】栽培計画書'!T100&"" | O38: =' 【申請用】栽培計画書'!U100&"" | P38: =' 【申請用】栽培計画書'!V100&""
N39: =' 【申請用】栽培計画書'!T101&"" | O39: =' 【申請用】栽培計画書'!U101&"" | P39: =' 【申請用】栽培計画書'!V101&"" | Q39: ='【申請用】栽培計画書（養液栽培）'!Q33&"" | R39: ='【申請用】栽培計画書（養液栽培）'!R33&""
N40: =' 【申請用】栽培計画書'!T102&"" | O40: =' 【申請用】栽培計画書'!U102&"" | P40: =' 【申請用】栽培計画書'!V102&""
...

Sheet  【申請用】栽培計画書
A1: 別記様式第1号（別紙２－１）
A2: 東京都エコ農産物認証申請書（栽培計画書）
A3: 申請者氏名： | C3: ='申請書（別記様式第１号）'!$D$12&"" | M3: No. 1
A5: ＊１ | B5: 認証区分 | C5: ＊１ | D5: 作付面積 | E5: 栽培期間 | G5: 土づくりの技術 | I5: 化学合成農薬 削減の技術 | K5: 化学肥料削減の技術 | M5: 目標収量 （kg/10a）
A6: 農産物名
C7: 作型 | G7: ＊２ | H7: ＊３ | I7: ＊2 | J7: ＊３ | K7: ＊２ | L7: ＊３
G8: 番号 | H8: 有機質資材等 | I8: 番号 | J8: 化学合成農薬 | K8: 番号 | L8: 化学肥料施用量
D9: (a) | H9: 使用量(kg/10a) | J9: 使用回数（回） | L9: (窒素成分kg/10a)
A10: =IF(ISBLANK(【入力シート】栽培計画書!$B$6),"",(【入力シート】栽培計画書!$B$6)) | B10: =IF(ISBLANK(【入力シート】栽培計画書!$C$6),"",(【入力シート】栽培計画書!$C$6)) | C10: =IF(ISBLANK(【入力シート】栽培計画書!$D$6),"",(【入力シート】栽培計画書!$D$6)) | D10: =IF(ISBLANK(【入力シート】栽培計画書!$F$6),"",(【入力シート】栽培計画書!$F$6)) | E10: =IF(ISBLANK(【入力シート】栽培計画書!$G$6),"",(【入力シート】栽培計画書!$G$6)) | F10: 月 | G10: =IF(ISBLANK(【入力シート】栽培計画書!$I$6),"",(【入力シート】栽培計画書!$I$6)) | H10: =IF(ISBLANK(【入力シート】栽培計画書!$J$6),"",IF(OR(【入力シート】栽培計画書!$I$6=List!$E$2,【入力シート】栽培計画書!$I$6=List!$E$4),【入力シート】栽培計画書!$J$6&"kg/10a",IF(【入力シート】栽培計画書!$I$6=List!$E$3,"播種量"&【入力シート】栽培計画書!$J$6&"kg/10a",""))) | I10: =IF(ISBLANK(【入力シート】栽培計画書!$N$6),"",(【入力シート】栽培計画書!$N$6)) | J10: =IF(ISBLANK(【入力シート】栽培計画書!$P$6),"",(【入力シート】栽培計画書!$P$6)) | K10: =IF(ISBLANK(【入力シート】栽培計画書!$R$6),"",(【入力シート】栽培計画書!$R$6)) | L10: =IF(ISBLANK(【入力シート】栽培計画書!$T$6),"",(【入力シート】栽培計画書!$T$6)) | M10: =IF(ISBLANK(【入力シート】栽培計画書!$V$6),"",(【入力シート】栽培計画書!$V$6))
B11: =IF(ISBLANK(【入力シート】栽培計画書!$B$6),"",(【入力シート】栽培計画書!$B$6)) | C11: =IF(ISBLANK(【入力シート】栽培計画書!$B$6),"",(【入力シート】栽培計画書!$B$6)) | D11: =IF(ISBLANK(【入力シート】栽培計画書!$B$6),"",(【入力シート】栽培計画書!$B$6)) | E11: ～ | G11: =IF(ISBLANK(【入力シート】栽培計画書!$B$6),"",(【入力シート】栽培計画書!$B$6)) | H11: =IF(ISBLANK(【入力シート】栽培計画書!$B$6),"",(【入力シート】栽培計画書!$B$6)) | I11: =IF(ISBLANK(【入力シート】栽培計画書!$B$6),"",(【入力シート】栽培計画書!$B$6)) | J11: =IF(ISBLANK(【入力シート】栽培計画書!$B$6),"",(【入力シート】栽培計画書!$B$6)) | K11: =IF(ISBLANK(【入力シート】栽培計画書!$B$6),"",(【入力シート】栽培計画書!$B$6)) | L11: =IF(ISBLANK(【入力シート】栽培計画書!$B$6),"",(【入力シート】栽培計画書!$B$6)) | M11: =IF(ISBLANK(【入力シート】栽培計画書!$B$6),"",(【入力シート】栽培計画書!$B$6))
B12: =IF(ISBLANK(【入力シート】栽培計画書!$B$6),"",(【入力シート】栽培計画書!$B$6)) | C12: =IF(ISBLANK(【入力シート】栽培計画書!$B$6),"",(【入力シート】栽培計画書!$B$6)) | D12: =IF(ISBLANK(【入力シート】栽培計画書!$B$6),"",(【入力シート】栽培計画書!$B$6)) | G12: =IF(ISBLANK(【入力シート】栽培計画書!$K$6),"",(【入力シート】栽培計画書!$K$6)) | H12: =IF(ISBLANK(【入力シート】栽培計画書!$L$6),"",IF(OR(【入力シート】栽培計画書!$K$6=List!$E$2,【入力シート】栽培計画書!$K$6=List!$E$4),【入力シート】栽培計画書!$L$6&"kg/10a",IF(【入力シート】栽培計画書!$K$6=List!$E$3,"播種量"&【入力シート】栽培計画書!$L$6&"kg/10a",""))) | I12: =IF(ISBLANK(【入力シート】栽培計画書!$O$6),"",(【入力シート】栽培計画書!$O$6)) | J12: =IF(ISBLANK(【入力シート】栽培計画書!$N$6),"",(【入力シート】栽培計画書!$N$6)) | K12: =IF(ISBLANK(【入力シート】栽培計画書!$S$6),"",(【入力シート】栽培計画書!$S$6)) | L12: =IF(ISBLANK(【入力シート】栽培計画書!$N$6),"",(【入力シート】栽培計画書!$N$6)) | M12: =IF(ISBLANK(【入力シート】栽培計画書!$B$6),"",(【入力シート】栽培計画書!$B$6))
B13: =IF(ISBLANK(【入力シート】栽培計画書!$B$6),"",(【入力シート】栽培計画書!$B$6)) | C13: =IF(ISBLANK(【入力シート】栽培計画書!$E$6),"",(【入力シート】栽培計画書!$E$6)) | D13: =IF(ISBLANK(【入力シート】栽培計画書!$B$6),"",(【入力シート】栽培計画書!$B$6)) | E13: =IF(ISBLANK(【入力シート】栽培計画書!$H$6),"",(【入力シート】栽培計画書!$H$6)) | F13: 月 | G13: =IF(ISBLANK(【入力シート】栽培計画書!$B$6),"",(【入力シート】栽培計画書!$B$6)) | H13: =IF(ISBLANK(【入力シート】栽培計画書!$B$6),"",(【入力シート】栽培計画書!$B$6)) | I13: =IF(ISBLANK(【入力シート】栽培計画書!$B$6),"",(【入力シート】栽培計画書!$B$6)) | J13: =IF(ISBLANK(【入力シート】栽培計画書!$B$6),"",(【入力シート】栽培計画書!$B$6)) | K13: =IF(ISBLANK(【入力シート】栽培計画書!$B$6),"",(【入力シート】栽培計画書!$B$6)) | L13: =IF(ISBLANK(【入力シート】栽培計画書!$B$6),"",(【入力シート】栽培計画書!$B$6)) | M13: =IF(ISBLANK(【入力シート】栽培計画書!$B$6),"",(【入力シート】栽培計画書!$B$6)) | O13: =IF(ISNUMBER(SEARCH("施設", C10)), "施設", IF(ISNUMBER(SEARCH("露地", C10)), "露地", "露地施設")) -> 露地施設
B14: =IF(ISBLANK(【入力シート】栽培計画書!$B$6),"",(【入力シート】栽培計画書!$B$6)) | C14: 土づくりの技術 具体的内容 | G14: =IF(ISBLANK(【入力シート】栽培計画書!$M$6),"",(【入力シート】栽培計画書!$M$6))
B15: =IF(ISBLANK(【入力シート】栽培計画書!$B$6),"",(【入力シート】栽培計画書!$B$6)) | C15: 化学合成農薬削減の技術 具体的内容 | G15: =IF(ISBLANK(【入力シート】栽培計画書!$Q$6),"",(【入力シート】栽培計画書!$Q$6))
B16: =IF(ISBLANK(【入力シート】栽培計画書!$B$6),"",(【入力シート】栽培計画書!$B$6)) | C16: 化学肥料削減の技術 具体的内容 | G16: =IF(ISBLANK(【入力シート】栽培計画書!$U$6),"",(【入力シート】栽培計画書!$U$6))
A17: =IF(ISBLANK(【入力シート】栽培計画書!$B$7),"",(【入力シート】栽培計画書!$B$7)) | B17: =IF(ISBLANK(【入力シート】栽培計画書!$C$7),"",(【入力シート】栽培計画書!$C$7)) | C17: =IF(ISBLANK(【入力シート】栽培計画書!$D$7),"",(【入力シート】栽培計画書!$D$7)) | D17: =IF(ISBLANK(【入力シート】栽培計画書!$F$7),"",(【入力シート】栽培計画書!$F$7)) | E17: =IF(ISBLANK(【入力シート】栽培計画書!$G$7),"",(【入力シート】栽培計画書!$G$7)) | F17: 月 | G17: =IF(ISBLANK(【入力シート】栽培計画書!$I$7),"",(【入力シート】栽培計画書!$I$7)) | H17: =IF(ISBLANK(【入力シート】栽培計画書!$J$7),"",IF(OR(【入力シート】栽培計画書!$I$7=List!$E$2,【入力シート】栽培計画書!$I$7=List!$E$4),【入力シート】栽培計画書!$J$7&"kg/10a",IF(【入力シート】栽培計画書!$I$7=List!$E$3,"播種量"&【入力シート】栽培計画書!$J$7&"kg/10a",""))) | I17: =IF(ISBLANK(【入力シート】栽培計画書!$N$7),"",(【入力シート】栽培計画書!$N$7)) | J17: =IF(ISBLANK(【入力シート】栽培計画書!$P$7),"",(【入力シート】栽培計画書!$P$7)) | K17: =IF(ISBLANK(【入力シート】栽培計画書!$R$7),"",(【入力シート】栽培計画書!$R$7)) | L17: =IF(ISBLANK(【入力シート】栽培計画書!$T$7),"",(【入力シート】栽培計画書!$T$7)) | M17: =IF(ISBLANK(【入力シート】栽培計画書!$V$7),"",(【入力シート】栽培計画書!$V$7))
B18: =IF(ISBLANK(【入力シート】栽培計画書!$B$6),"",(【入力シート】栽培計画書!$B$6)) | C18: =IF(ISBLANK(【入力シート】栽培計画書!$B$6),"",(【入力シート】栽培計画書!$B$6)) | D18: =IF(ISBLANK(【入力シート】栽培計画書!$B$6),"",(【入力シート】栽培計画書!$B$6)) | E18: ～ | G18: =IF(ISBLANK(【入力シート】栽培計画書!$B$6),"",(【入力シート】栽培計画書!$B$6)) | H18: =IF(ISBLANK(【入力シート】栽培計画書!$B$6),"",(【入力シート】栽培計画書!$B$6)) | I18: =IF(ISBLANK(【入力シート】栽培計画書!$B$6),"",(【入力シート】栽培計画書!$B$6)) | J18: =IF(ISBLANK(【入力シート】栽培計画書!$B$6),"",(【入力シート】栽培計画書!$B$6)) | K18: =IF(ISBLANK(【入力シート】栽培計画書!$B$6),"",(【入力シート】栽培計画書!$B$6)) | L18: =IF(ISBLANK(【入力シート】栽培計画書!$B$6),"",(【入力シート】栽培計画書!$B$6)) | M18: =IF(ISBLANK(【入力シート】栽培計画書!$B$6),"",(【入力シート】栽培計画書!$B$6))
B19: =IF(ISBLANK(【入力シート】栽培計画書!$B$6),"",(【入力シート】栽培計画書!$B$6)) | C19: =IF(ISBLANK(【入力シート】栽培計画書!$B$6),"",(【入力シート】栽培計画書!$B$6)) | D19: =IF(ISBLANK(【入力シート】栽培計画書!$B$6),"",(【入力シート】栽培計画書!$B$6)) | G19: =IF(ISBLANK(【入力シート】栽培計画書!$K$7),"",(【入力シート】栽培計画書!$K$7)) | H19: =IF(ISBLANK(【入力シート】栽培計画書!$L$7),"",IF(OR(【入力シート】栽培計画書!$K$7=List!$E$2,【入力シート】栽培計画書!$K$7=List!$E$4),【入力シート】栽培計画書!$L$7&"kg/10a",IF(【入力シート】栽培計画書!$K$7=List!$E$3,"播種量"&【入力シート】栽培計画書!$L$7&"kg/10a",""))) | I19: =IF(ISBLANK(【入力シート】栽培計画書!$O$7),"",(【入力シート】栽培計画書!$O$7)) | J19: =IF(ISBLANK(【入力シート】栽培計画書!$N$6),"",(【入力シート】栽培計画書!$N$6)) | K19: =IF(ISBLANK(【入力シート】栽培計画書!$S$7),"",(【入力シート】栽培計画書!$S$7)) | L19: =IF(ISBLANK(【入力シート】栽培計画書!$N$6),"",(【入力シート】栽培計画書!$N$6)) | M19: =IF(ISBLANK(【入力シート】栽培計画書!$B$6),"",(【入力シート】栽培計画書!$B$6))
B20: =IF(ISBLANK(【入力シート】栽培計画書!$B$6),"",(【入力シート】栽培計画書!$B$6)) | C20: =IF(ISBLANK(【入力シート】栽培計画書!$E$7),"",(【入力シート】栽培計画書!$E$7)) | D20: =IF(ISBLANK(【入力シート】栽培計画書!$B$6),"",(【入力シート】栽培計画書!$B$6)) | E20: =IF(ISBLANK(【入力シート】栽培計画書!$H$7),"",(【入力シート】栽培計画書!$H$7)) | F20: 月 | G20: =IF(ISBLANK(【入力シート】栽培計画書!$B$6),"",(【入力シート】栽培計画書!$B$6)) | H20: =IF(ISBLANK(【入力シート】栽培計画書!$B$6),"",(【入力シート】栽培計画書!$B$6)) | I20: =IF(ISBLANK(【入力シート】栽培計画書!$B$6),"",(【入力シート】栽培計画書!$B$6)) | J20: =IF(ISBLANK(【入力シート】栽培計画書!$B$6),"",(【入力シート】栽培計画書!$B$6)) | K20: =IF(ISBLANK(【入力シート】栽培計画書!$B$6),"",(【入力シート】栽培計画書!$B$6)) | L20: =IF(ISBLANK(【入力シート】栽培計画書!$B$6),"",(【入力シート】栽培計画書!$B$6)) | M20: =IF(ISBLANK(【入力シート】栽培計画書!$B$6),"",(【入力シート】栽培計画書!$B$6)) | O20: =IF(ISNUMBER(SEARCH("施設", C17)), "施設", IF(ISNUMBER(SEARCH("露地", C17)), "露地", "露地施設")) -> 露地施設
B21: =IF(ISBLANK(【入力シート】栽培計画書!$B$6),"",(【入力シート】栽培計画書!$B$6)) | C21: 土づくりの技術 具体的内容 | G21: =IF(ISBLANK(【入力シート】栽培計画書!$M$7),"",(【入力シート】栽培計画書!$M$7)) | Q21: 品目・作型の列挙、合体の処理
B22: =IF(ISBLANK(【入力シート】栽培計画書!$B$6),"",(【入力シート】栽培計画書!$B$6)) | C22: 化学合成農薬削減の技術 具体的内容 | G22: =IF(ISBLANK(【入力シート】栽培計画書!$Q$7),"",(【入力シート】栽培計画書!$Q$7)) | Q22: ①入力内容の値を↓ここに自動的に持ってきて、 次に↓エコ区分ごとに分ける （作型なし版、作型あり版） | AA22: 作付面積はD列
B23: =IF(ISBLANK(【入力シート】栽培計画書!$B$6),"",(【入力シート】栽培計画書!$B$6)) | C23: 化学肥料削減の技術 具体的内容 | G23: =IF(ISBLANK(【入力シート】栽培計画書!$U$7),"",(【入力シート】栽培計画書!$U$7)) | P23: 品目・作型の集計 | Q23: エコ区分 | R23: 作物名 | S23: 作型 | T23: ①エコ25 | U23: ②エコ50 | V23: ③エコ100 | W23: エコ25作型付き | X23: エコ50作型付き | Y23: エコ100作型付き | Z23: （参考） 参照する欄の行番号 | AA23: 作付面積 （区分問わず） | AB23: エコ25 作付面積 | AC23: エコ50 作付面積 | AD23: エコ100 作付面積
A24: =IF(ISBLANK(【入力シート】栽培計画書!$B$8),"",(【入力シート】栽培計画書!$B$8)) | B24: =IF(ISBLANK(【入力シート】栽培計画書!$C$8),"",(【入力シート】栽培計画書!$C$8)) | C24: =IF(ISBLANK(【入力シート】栽培計画書!$D$8),"",(【入力シート】栽培計画書!$D$8)) | D24: =IF(ISBLANK(【入力シート】栽培計画書!$F$8),"",(【入力シート】栽培計画書!$F$8)) | E24: =IF(ISBLANK(【入力シート】栽培計画書!$G$8),"",(【入力シート】栽培計画書!$G$8)) | F24: 月 | G24: =IF(ISBLANK(【入力シート】栽培計画書!$I$8),"",(【入力シート】栽培計画書!$I$8)) | H24: =IF(ISBLANK(【入力シート】栽培計画書!$J$8),"",IF(OR(【入力シート】栽培計画書!$I$8=List!$E$2,【入力シート】栽培計画書!$I$8=List!$E$4),【入力シート】栽培計画書!$J$8&"kg/10a",IF(【入力シート】栽培計画書!$I$8=List!$E$3,"播種量"&【入力シート】栽培計画書!$J$8&"kg/10a",""))) | I24: =IF(ISBLANK(【入力シート】栽培計画書!$N$8),"",(【入力シート】栽培計画書!$N$8)) | J24: =IF(ISBLANK(【入力シート】栽培計画書!$P$8),"",(【入力シート】栽培計画書!$P$8)) | K24: =IF(ISBLANK(【入力シート】栽培計画書!$R$8),"",(【入力シート】栽培計画書!$R$8)) | L24: =IF(ISBLANK(【入力シート】栽培計画書!$T$8),"",(【入力シート】栽培計画書!$T$8)) | M24: =IF(ISBLANK(【入力シート】栽培計画書!$V$8),"",(【入力シート】栽培計画書!$V$8)) | P24: ページ１ 欄1 | Q24: =IF(A10="","",B10) | R24: =IF(A10="","",A10) | S24: =IF(A10="","",IF(C10="","",C10)) | T24: =IF($Q24="①エコ25",$R24,"") | U24: =IF($Q24="②エコ50",$R24,"") | V24: =IF($Q24="③エコ100",$R24,"") | W24: =IF($Q24="①エコ25",$R24&$S24,"") | X24: =IF($Q24="②エコ50",$R24&$S24,"") | Y24: =IF($Q24="③エコ100",$R24&$S24,"") | Z24: 9 | AA24: =IF(A10="","",D10) | AB24: =IF($Q24="①エコ25",$AA24,"") | AC24: =IF($Q24="②エコ50",$AA24,"") | AD24: =IF($Q24="③エコ100",$AA24,"")
B25: =IF(ISBLANK(【入力シート】栽培計画書!$B$6),"",(【入力シート】栽培計画書!$B$6)) | C25: =IF(ISBLANK(【入力シート】栽培計画書!$B$6),"",(【入力シート】栽培計画書!$B$6)) | D25: =IF(ISBLANK(【入力シート】栽培計画書!$B$6),"",(【入力シート】栽培計画書!$B$6)) | E25: ～ | G25: =IF(ISBLANK(【入力シート】栽培計画書!$B$6),"",(【入力シート】栽培計画書!$B$6)) | H25: =IF(ISBLANK(【入力シート】栽培計画書!$B$6),"",(【入力シート】栽培計画書!$B$6)) | I25: =IF(ISBLANK(【入力シート】栽培計画書!$B$6),"",(【入力シート】栽培計画書!$B$6)) | J25: =IF(ISBLANK(【入力シート】栽培計画書!$B$6),"",(【入力シート】栽培計画書!$B$6)) | K25: =IF(ISBLANK(【入力シート】栽培計画書!$B$6),"",(【入力シート】栽培計画書!$B$6)) | L25: =IF(ISBLANK(【入力シート】栽培計画書!$B$6),"",(【入力シート】栽培計画書!$B$6)) | M25: =IF(ISBLANK(【入力シート】栽培計画書!$B$6),"",(【入力シート】栽培計画書!$B$6)) | P25: 欄2 | Q25: =IF(A17="","",B17) | R25: =IF(A17="","",A17) | S25: =IF(A17="","",IF(C17="","",C17)) | T25: =IF($Q25="①エコ25",$R25,"") | U25: =IF($Q25="②エコ50",$R25,"") | V25: =IF($Q25="③エコ100",$R25,"") | W25: =IF($Q25="①エコ25",$R25&$S25,"") | X25: =IF($Q25="②エコ50",$R25&$S25,"") | Y25: =IF($Q25="③エコ100",$R25&$S25,"") | Z25: 16 | AA25: =IF(A17="","",D17) | AB25: =IF($Q25="①エコ25",AA25,"") | AC25: =IF($Q25="②エコ50",$AA25,"") | AD25: =IF($Q25="③エコ100",$AA25,"")
B26: =IF(ISBLANK(【入力シート】栽培計画書!$B$6),"",(【入力シート】栽培計画書!$B$6)) | C26: =IF(ISBLANK(【入力シート】栽培計画書!$B$6),"",(【入力シート】栽培計画書!$B$6)) | D26: =IF(ISBLANK(【入力シート】栽培計画書!$B$6),"",(【入力シート】栽培計画書!$B$6)) | G26: =IF(ISBLANK(【入力シート】栽培計画書!$K$8),"",(【入力シート】栽培計画書!$K$8)) | H26: =IF(ISBLANK(【入力シート】栽培計画書!$L$8),"",IF(OR(【入力シート】栽培計画書!$K$8=List!$E$2,【入力シート】栽培計画書!$K$8=List!$E$4),【入力シート】栽培計画書!$L$8&"kg/10a",IF(【入力シート】栽培計画書!$K$8=List!$E$3,"播種量"&【入力シート】栽培計画書!$L$8&"kg/10a",""))) | I26: =IF(ISBLANK(【入力シート】栽培計画書!$O$8),"",(【入力シート】栽培計画書!$O$8)) | J26: =IF(ISBLANK(【入力シート】栽培計画書!$N$6),"",(【入力シート】栽培計画書!$N$6)) | K26: =IF(ISBLANK(【入力シート】栽培計画書!$S$8),"",(【入力シート】栽培計画書!$S$8)) | L26: =IF(ISBLANK(【入力シート】栽培計画書!$N$6),"",(【入力シート】栽培計画書!$N$6)) | M26: =IF(ISBLANK(【入力シート】栽培計画書!$B$6),"",(【入力シート】栽培計画書!$B$6)) | P26: 欄3 | Q26: =IF(A24="","",B24) | R26: =IF(A24="","",A24) | S26: =IF(A24="","",IF(C24="","",C24)) | T26: =IF($Q26="①エコ25",$R26,"") | U26: =IF($Q26="②エコ50",$R26,"") | V26: =IF($Q26="③エコ100",$R26,"") | W26: =IF($Q26="①エコ25",$R26&$S26,"") | X26: =IF($Q26="②エコ50",$R26&$S26,"") | Y26: =IF($Q26="③エコ100",$R26&$S26,"") | Z26: 23 | AA26: =IF(A24="","",D24) | AB26: =IF($Q26="①エコ25",AA26,"") | AC26: =IF($Q26="②エコ50",$AA26,"") | AD26: =IF($Q26="③エコ100",$AA26,"")
B27: =IF(ISBLANK(【入力シート】栽培計画書!$B$6),"",(【入力シート】栽培計画書!$B$6)) | C27: =IF(ISBLANK(【入力シート】栽培計画書!$E$8),"",(【入力シート】栽培計画書!$E$8)) | D27: =IF(ISBLANK(【入力シート】栽培計画書!$B$6),"",(【入力シート】栽培計画書!$B$6)) | E27: =IF(ISBLANK(【入力シート】栽培計画書!$H$8),"",(【入力シート】栽培計画書!$H$8)) | F27: 月 | G27: =IF(ISBLANK(【入力シート】栽培計画書!$B$6),"",(【入力シート】栽培計画書!$B$6)) | H27: =IF(ISBLANK(【入力シート】栽培計画書!$B$6),"",(【入力シート】栽培計画書!$B$6)) | I27: =IF(ISBLANK(【入力シート】栽培計画書!$B$6),"",(【入力シート】栽培計画書!$B$6)) | J27: =IF(ISBLANK(【入力シート】栽培計画書!$B$6),"",(【入力シート】栽培計画書!$B$6)) | K27: =IF(ISBLANK(【入力シート】栽培計画書!$B$6),"",(【入力シート】栽培計画書!$B$6)) | L27: =IF(ISBLANK(【入力シート】栽培計画書!$B$6),"",(【入力シート】栽培計画書!$B$6)) | M27: =IF(ISBLANK(【入力シート】栽培計画書!$B$6),"",(【入力シート】栽培計画書!$B$6)) | O27: =IF(ISNUMBER(SEARCH("施設", C24)), "施設", IF(ISNUMBER(SEARCH("露地", C24)), "露地", "露地施設")) -> 露地施設 | P27: 欄4 | Q27: =IF(A31="","",B31) | R27: =IF(A31="","",A31) | S27: =IF(A31="","",IF(C31="","",C31)) | T27: =IF($Q27="①エコ25",$R27,"") | U27: =IF($Q27="②エコ50",$R27,"") | V27: =IF($Q27="③エコ100",$R27,"") | W27: =IF($Q27="①エコ25",$R27&$S27,"") | X27: =IF($Q27="②エコ50",$R27&$S27,"") | Y27: =IF($Q27="③エコ100",$R27&$S27,"") | Z27: 30 | AA27: =IF(A31="","",D31) | AB27: =IF($Q27="①エコ25",AA27,"") | AC27: =IF($Q27="②エコ50",$AA27,"") | AD27: =IF($Q27="③エコ100",$AA27,"")
B28: =IF(ISBLANK(【入力シート】栽培計画書!$B$6),"",(【入力シート】栽培計画書!$B$6)) | C28: 土づくりの技術 具体的内容 | G28: =IF(ISBLANK(【入力シート】栽培計画書!$M$8),"",(【入力シート】栽培計画書!$M$8)) | P28: 欄5 | Q28: =IF(A38="","",B38) | R28: =IF(A38="","",A38) | S28: =IF(A38="","",IF(C38="","",C38)) | T28: =IF($Q28="①エコ25",$R28,"") | U28: =IF($Q28="②エコ50",$R28,"") | V28: =IF($Q28="③エコ100",$R28,"") | W28: =IF($Q28="①エコ25",$R28&$S28,"") | X28: =IF($Q28="②エコ50",$R28&$S28,"") | Y28: =IF($Q28="③エコ100",$R28&$S28,"") | Z28: 37 | AA28: =IF(A38="","",D38) | AB28: =IF($Q28="①エコ25",AA28,"") | AC28: =IF($Q28="②エコ50",$AA28,"") | AD28: =IF($Q28="③エコ100",$AA28,"")
B29: =IF(ISBLANK(【入力シート】栽培計画書!$B$6),"",(【入力シート】栽培計画書!$B$6)) | C29: 化学合成農薬削減の技術 具体的内容 | G29: =IF(ISBLANK(【入力シート】栽培計画書!$Q$8),"",(【入力シート】栽培計画書!$Q$8)) | P29: ページ２ 欄1 | Q29: =IF(A57="","",B57) | R29: =IF(A57="","",A57) | S29: =IF(A57="","",IF(C57="","",C57)) | T29: =IF($Q29="①エコ25",$R29,"") | U29: =IF($Q29="②エコ50",$R29,"") | V29: =IF($Q29="③エコ100",$R29,"") | W29: =IF($Q29="①エコ25",$R29&$S29,"") | X29: =IF($Q29="②エコ50",$R29&$S29,"") | Y29: =IF($Q29="③エコ100",$R29&$S29,"") | Z29: 56 | AA29: =IF(A57="","",D57) | AB29: =IF($Q29="①エコ25",AA29,"") | AC29: =IF($Q29="②エコ50",$AA29,"") | AD29: =IF($Q29="③エコ100",$AA29,"")
B30: =IF(ISBLANK(【入力シート】栽培計画書!$B$6),"",(【入力シート】栽培計画書!$B$6)) | C30: 化学肥料削減の技術 具体的内容 | G30: =IF(ISBLANK(【入力シート】栽培計画書!$U$8),"",(【入力シート】栽培計画書!$U$8)) | P30: 欄2 | Q30: =IF(A64="","",B64) | R30: =IF(A64="","",A64) | S30: =IF(A64="","",IF(C64="","",C64)) | T30: =IF($Q30="①エコ25",$R30,"") | U30: =IF($Q30="②エコ50",$R30,"") | V30: =IF($Q30="③エコ100",$R30,"") | W30: =IF($Q30="①エコ25",$R30&$S30,"") | X30: =IF($Q30="②エコ50",$R30&$S30,"") | Y30: =IF($Q30="③エコ100",$R30&$S30,"") | Z30: 63 | AA30: =IF(A64="","",D64) | AB30: =IF($Q30="①エコ25",AA30,"") | AC30: =IF($Q30="②エコ50",$AA30,"") | AD30: =IF($Q30="③エコ100",$AA30,"")
