Workbook
Name アイスプラント: エコ農リスト!$C$8
Name アシタバ: エコ農リスト!$C$9
Name アスパラガス: エコ農リスト!$C$10
Name イチゴ: エコ農リスト!$C$11
Name イチジク: エコ農リスト!$C$97
Name ウド: エコ農リスト!$C$12
Name ウメ: エコ農リスト!$C$98
Name エコ基準検索表: エコ農リスト!$L$3:$R$113
Name エコ基準検索表: エコ農リスト!$L$3:$R$113
Name エダマメ: エコ農リスト!$C$13:$C$14
Name オクラ: エコ農リスト!$C$15
Name カキ: エコ農リスト!$C$100
Name カボチャ: エコ農リスト!$C$16
Name カリフラワー: エコ農リスト!$C$17
Name キウイフルーツ: エコ農リスト!$C$101
Name キャベツ: エコ農リスト!$C$18:$C$20
Name キュウリ: エコ農リスト!$C$21:$C$23
Name クリ: エコ農リスト!$C$102
Name ケール: エコ農リスト!$C$24
Name コカブ: エコ農リスト!$C$25:$C$26
Name コピペ範囲: '集計（エクセル用）'!$A$3:$FK$3
Name ゴボウ: エコ農リスト!$C$27
Name コマツナ: エコ農リスト!$C$28:$C$32
Name サツマイモ: エコ農リスト!$C$33
Name サトイモ: エコ農リスト!$C$34
Name サヤインゲン: エコ農リスト!$C$35:$C$36
Name サヤエンドウ: エコ農リスト!$C$37:$C$38
Name シシトウ: エコ農リスト!$C$39
Name ジャガイモ: エコ農リスト!$C$40:$C$41
Name シュンギク: エコ農リスト!$C$42
Name シュンゴク: エコ農リスト!$C$42
Name ショウガ: エコ農リスト!$C$43
Name スイートコーン: エコ農リスト!$C$44
Name スイカ: エコ農リスト!$C$45
Name ズッキーニ: エコ農リスト!$C$46
Name ダイコン: エコ農リスト!$C$47:$C$49
Name タマネギ: エコ農リスト!$C$50
Name チンゲンサイ: エコ農リスト!$C$51:$C$52
Name トマト: エコ農リスト!$C$53:$C$57
Name ナシ: エコ農リスト!$C$103
Name ナス: エコ農リスト!$C$58
Name ナバナ類: エコ農リスト!$C$59
Name ニガウリ: エコ農リスト!$C$60
Name ニンジン: エコ農リスト!$C$61:$C$62
Name ニンニク: エコ農リスト!$C$63
Name ネギ: エコ農リスト!$C$64:$C$67
Name ハクサイ: エコ農リスト!$C$68
Name パッションフルーツ: エコ農リスト!$C$106
Name ビーツ: エコ農リスト!$C$72
Name ピーマン: エコ農リスト!$C$73
Name ブドウ: エコ農リスト!$C$104
Name ブルーベリー: エコ農リスト!$C$105
Name ブロッコリー: エコ農リスト!$C$77:$C$79
Name ホウレンソウ: エコ農リスト!$C$80:$C$81
Name ミズナ: エコ農リスト!$C$82:$C$83
Name ミニトマト: エコ農リスト!$C$84:$C$88
Name モミジガサ: エコ農リスト!$C$89
Name モロヘイヤ: エコ農リスト!$C$90
Name ヤマノイモ: エコ農リスト!$C$91
Name ユズ: エコ農リスト!$C$107

Sheet エコ農リスト
A1: 別表２
A2: 東京都内における化学合成農薬・化学肥料慣行使用基準
A3: および認証区分ごとの使用上限値 早見表 令和８年４月現在 | L3: エコ基準検索表 | M3: 農薬回数上限 | P3: 化学肥料上限
A4: 種 | D4: 化学合成農薬 （延べ使用成分回数） | G4: 化学肥料 （窒素成分kg/10a） | J4: 備 | L4: 列１ | M4: 列２ | N4: 列３ | O4: 列４ | P4: 列５ | Q4: 列６ | R4: 列７
A5: 類 | B5: 農 産 物 名 | C5: 作 型 | D5: 慣行 使用基準 | E5: 東京エコ25の上限値 | F5: 東京エコ50の上限値 | G5: 慣行 使用基準 | H5: 東京エコ25の上限値 | I5: 東京エコ50の上限値 | J5: 考 | L5: 品目+作型 | M5: エコ25 | N5: エコ50 | O5: エコ100 | P5: エコ25 | Q5: エコ50 | R5: エコ100
A6: 作 | B6: 水稲 | C6: 普通 | D6: 7 | E6: =ROUNDDOWN($D6*0.75,0) -> 5 | F6: =ROUNDDOWN($D6/2,0) -> 3 | G6: 5 | H6: =G6*0.75 -> 3.75 | I6: =G6/2 -> 2.5 | L6: =$B6&$C6 -> 水稲普通 | M6: =E6 -> 5 | N6: =F6 -> 3 | O6: 0 | P6: =H6 -> 3.75 | Q6: =I6 -> 2.5 | R6: 0
A7: 物 | B7: 小麦 | C7: 普通 | D7: 3 | E7: =ROUNDDOWN($D7*0.75,0) -> 2 | F7: =ROUNDDOWN($D7/2,0) -> 1 | G7: 5 | H7: =G7*0.75 -> 3.75 | I7: =G7/2 -> 2.5 | L7: =$B7&$C7 -> 小麦普通 | M7: =E7 -> 2 | N7: =F7 -> 1 | O7: 0 | P7: =H7 -> 3.75 | Q7: =I7 -> 2.5 | R7: 0
B8: アイスプラント | C8: 春～冬まき | D8: 4 | E8: =ROUNDDOWN($D8*0.75,0) -> 3 | F8: =ROUNDDOWN($D8/2,0) -> 2 | G8: 12 | H8: =G8*0.75 -> 9 | I8: =G8/2 -> 6 | L8: =$B8&$C8 -> アイスプラント春～冬まき | M8: =E8 -> 3 | N8: =F8 -> 2 | O8: 0 | P8: =H8 -> 9 | Q8: =I8 -> 6 | R8: 0
B9: アシタバ | C9: 普通 | D9: 3 | E9: =ROUNDDOWN($D9*0.75,0) -> 2 | F9: =ROUNDDOWN($D9/2,0) -> 1 | G9: 40 | H9: =G9*0.75 -> 30 | I9: =G9/2 -> 20 | L9: =$B9&$C9 -> アシタバ普通 | M9: =E9 -> 2 | N9: =F9 -> 1 | O9: 0 | P9: =H9 -> 30 | Q9: =I9 -> 20 | R9: 0
B10: アスパラガス | C10: 半促成長期どり | D10: 8 | E10: =ROUNDDOWN($D10*0.75,0) -> 6 | F10: =ROUNDDOWN($D10/2,0) -> 4 | G10: 15 | H10: =G10*0.75 -> 11.25 | I10: =G10/2 -> 7.5 | L10: =$B10&$C10 -> アスパラガス半促成長期どり | M10: =E10 -> 6 | N10: =F10 -> 4 | O10: 0 | P10: =H10 -> 11.25 | Q10: =I10 -> 7.5 | R10: 0
B11: イチゴ | C11: 促成（施設） | D11: 31 | E11: =ROUNDDOWN($D11*0.75,0) -> 23 | F11: =ROUNDDOWN($D11/2,0) -> 15 | G11: 30 | H11: =G11*0.75 -> 22.5 | I11: =G11/2 -> 15 | L11: =$B11&$C11 -> イチゴ促成（施設） | M11: =E11 -> 23 | N11: =F11 -> 15 | O11: 0 | P11: =H11 -> 22.5 | Q11: =I11 -> 15 | R11: 0
B12: ウド | C12: 促成・普通軟化 (根株養成含む) | D12: 8 | E12: =ROUNDDOWN($D12*0.75,0) -> 6 | F12: =ROUNDDOWN($D12/2,0) -> 4 | G12: 16 | H12: =G12*0.75 -> 12 | I12: =G12/2 -> 8 | L12: =$B12&$C12 -> ウド促成・普通軟化 (根株養成含む) | M12: =E12 -> 6 | N12: =F12 -> 4 | O12: 0 | P12: =H12 -> 12 | Q12: =I12 -> 8 | R12: 0
B13: エダマメ | C13: 早熟・普通 | D13: 5 | E13: =ROUNDDOWN($D13*0.75,0) -> 3 | F13: =ROUNDDOWN($D13/2,0) -> 2 | G13: 10 | H13: =G13*0.75 -> 7.5 | I13: =G13/2 -> 5 | L13: =$B13&$C13 -> エダマメ早熟・普通 | M13: =E13 -> 3 | N13: =F13 -> 2 | O13: 0 | P13: =H13 -> 7.5 | Q13: =I13 -> 5 | R13: 0
B14: エダマメ | C14: 抑制 | D14: 6 | E14: =ROUNDDOWN($D14*0.75,0) -> 4 | F14: =ROUNDDOWN($D14/2,0) -> 3 | G14: 6 | H14: =G14*0.75 -> 4.5 | I14: =G14/2 -> 3 | L14: =$B14&$C14 -> エダマメ抑制 | M14: =E14 -> 4 | N14: =F14 -> 3 | O14: 0 | P14: =H14 -> 4.5 | Q14: =I14 -> 3 | R14: 0
B15: オクラ | C15: 普通 | D15: 5 | E15: =ROUNDDOWN($D15*0.75,0) -> 3 | F15: =ROUNDDOWN($D15/2,0) -> 2 | G15: 20 | H15: =G15*0.75 -> 15 | I15: =G15/2 -> 10 | L15: =$B15&$C15 -> オクラ普通 | M15: =E15 -> 3 | N15: =F15 -> 2 | O15: 0 | P15: =H15 -> 15 | Q15: =I15 -> 10 | R15: 0
B16: カボチャ | C16: 普通 | D16: 2 | E16: =ROUNDDOWN($D16*0.75,0) -> 1 | F16: =ROUNDDOWN($D16/2,0) -> 1 | G16: 15 | H16: =G16*0.75 -> 11.25 | I16: =G16/2 -> 7.5 | L16: =$B16&$C16 -> カボチャ普通 | M16: =E16 -> 1 | N16: =F16 -> 1 | O16: 0 | P16: =H16 -> 11.25 | Q16: =I16 -> 7.5 | R16: 0
B17: カリフラワー | C17: 夏まき | D17: 12 | E17: =ROUNDDOWN($D17*0.75,0) -> 9 | F17: =ROUNDDOWN($D17/2,0) -> 6 | G17: 20 | H17: =G17*0.75 -> 15 | I17: =G17/2 -> 10 | L17: =$B17&$C17 -> カリフラワー夏まき | M17: =E17 -> 9 | N17: =F17 -> 6 | O17: 0 | P17: =H17 -> 15 | Q17: =I17 -> 10 | R17: 0
B18: キャベツ | C18: 春まき夏どり | D18: 15 | E18: =ROUNDDOWN($D18*0.75,0) -> 11 | F18: =ROUNDDOWN($D18/2,0) -> 7 | G18: 25 | H18: =G18*0.75 -> 18.75 | I18: =G18/2 -> 12.5 | L18: =$B18&$C18 -> キャベツ春まき夏どり | M18: =E18 -> 11 | N18: =F18 -> 7 | O18: 0 | P18: =H18 -> 18.75 | Q18: =I18 -> 12.5 | R18: 0
B19: キャベツ | C19: 夏まき秋冬どり | D19: 15 | E19: =ROUNDDOWN($D19*0.75,0) -> 11 | F19: =ROUNDDOWN($D19/2,0) -> 7 | G19: 25 | H19: =G19*0.75 -> 18.75 | I19: =G19/2 -> 12.5 | L19: =$B19&$C19 -> キャベツ夏まき秋冬どり | M19: =E19 -> 11 | N19: =F19 -> 7 | O19: 0 | P19: =H19 -> 18.75 | Q19: =I19 -> 12.5 | R19: 0
A20: 野 | B20: キャベツ | C20: 秋まき初夏どり | D20: 15 | E20: =ROUNDDOWN($D20*0.75,0) -> 11 | F20: =ROUNDDOWN($D20/2,0) -> 7 | G20: 25 | H20: =G20*0.75 -> 18.75 | I20: =G20/2 -> 12.5 | L20: =$B20&$C20 -> キャベツ秋まき初夏どり | M20: =E20 -> 11 | N20: =F20 -> 7 | O20: 0 | P20: =H20 -> 18.75 | Q20: =I20 -> 12.5 | R20: 0
B21: キュウリ | C21: 半促成（施設） | D21: 20 | E21: =ROUNDDOWN($D21*0.75,0) -> 15 | F21: =ROUNDDOWN($D21/2,0) -> 10 | G21: 25 | H21: =G21*0.75 -> 18.75 | I21: =G21/2 -> 12.5 | L21: =$B21&$C21 -> キュウリ半促成（施設） | M21: =E21 -> 15 | N21: =F21 -> 10 | O21: 0 | P21: =H21 -> 18.75 | Q21: =I21 -> 12.5 | R21: 0
B22: キュウリ | C22: 早熟・普通 | D22: 18 | E22: =ROUNDDOWN($D22*0.75,0) -> 13 | F22: =ROUNDDOWN($D22/2,0) -> 9 | G22: 25 | H22: =G22*0.75 -> 18.75 | I22: =G22/2 -> 12.5 | L22: =$B22&$C22 -> キュウリ早熟・普通 | M22: =E22 -> 13 | N22: =F22 -> 9 | O22: 0 | P22: =H22 -> 18.75 | Q22: =I22 -> 12.5 | R22: 0
B23: キュウリ | C23: 抑制（施設） | D23: 18 | E23: =ROUNDDOWN($D23*0.75,0) -> 13 | F23: =ROUNDDOWN($D23/2,0) -> 9 | G23: 20 | H23: =G23*0.75 -> 15 | I23: =G23/2 -> 10 | L23: =$B23&$C23 -> キュウリ抑制（施設） | M23: =E23 -> 13 | N23: =F23 -> 9 | O23: 0 | P23: =H23 -> 15 | Q23: =I23 -> 10 | R23: 0
B24: ケール | C24: 春まき・夏まき | D24: 5 | E24: =ROUNDDOWN($D24*0.75,0) -> 3 | F24: =ROUNDDOWN($D24/2,0) -> 2 | G24: 25 | H24: =G24*0.75 -> 18.75 | I24: =G24/2 -> 12.5 | L24: =$B24&$C24 -> ケール春まき・夏まき | M24: =E24 -> 3 | N24: =F24 -> 2 | O24: 0 | P24: =H24 -> 18.75 | Q24: =I24 -> 12.5 | R24: 0
B25: コカブ | C25: 冬まき・春まき | D25: 6 | E25: =ROUNDDOWN($D25*0.75,0) -> 4 | F25: =ROUNDDOWN($D25/2,0) -> 3 | G25: 15 | H25: =G25*0.75 -> 11.25 | I25: =G25/2 -> 7.5 | L25: =$B25&$C25 -> コカブ冬まき・春まき | M25: =E25 -> 4 | N25: =F25 -> 3 | O25: 0 | P25: =H25 -> 11.25 | Q25: =I25 -> 7.5 | R25: 0
B26: コカブ | C26: 夏まき・秋まき | D26: 10 | E26: =ROUNDDOWN($D26*0.75,0) -> 7 | F26: =ROUNDDOWN($D26/2,0) -> 5 | G26: 15 | H26: =G26*0.75 -> 11.25 | I26: =G26/2 -> 7.5 | L26: =$B26&$C26 -> コカブ夏まき・秋まき | M26: =E26 -> 7 | N26: =F26 -> 5 | O26: 0 | P26: =H26 -> 11.25 | Q26: =I26 -> 7.5 | R26: 0
B27: ゴボウ | C27: 普通 | D27: 5 | E27: =ROUNDDOWN($D27*0.75,0) -> 3 | F27: =ROUNDDOWN($D27/2,0) -> 2 | G27: 12 | H27: =G27*0.75 -> 9 | I27: =G27/2 -> 6 | L27: =$B27&$C27 -> ゴボウ普通 | M27: =E27 -> 3 | N27: =F27 -> 2 | O27: 0 | P27: =H27 -> 9 | Q27: =I27 -> 6 | R27: 0
B28: コマツナ | C28: 春～秋まき（露地） | D28: 7 | E28: =ROUNDDOWN($D28*0.75,0) -> 5 | F28: =ROUNDDOWN($D28/2,0) -> 3 | G28: 15 | H28: =G28*0.75 -> 11.25 | I28: =G28/2 -> 7.5 | L28: =$B28&$C28 -> コマツナ春～秋まき（露地） | M28: =E28 -> 5 | N28: =F28 -> 3 | O28: 0 | P28: =H28 -> 11.25 | Q28: =I28 -> 7.5 | R28: 0
B29: コマツナ | C29: 春～秋まき（施設） | D29: 7 | E29: =ROUNDDOWN($D29*0.75,0) -> 5 | F29: =ROUNDDOWN($D29/2,0) -> 3 | G29: 7 | H29: =G29*0.75 -> 5.25 | I29: =G29/2 -> 3.5 | L29: =$B29&$C29 -> コマツナ春～秋まき（施設） | M29: =E29 -> 5 | N29: =F29 -> 3 | O29: 0 | P29: =H29 -> 5.25 | Q29: =I29 -> 3.5 | R29: 0
B30: コマツナ | C30: 冬まき（露地） | D30: 5 | E30: =ROUNDDOWN($D30*0.75,0) -> 3 | F30: =ROUNDDOWN($D30/2,0) -> 2 | G30: 15 | H30: =G30*0.75 -> 11.25 | I30: =G30/2 -> 7.5 | L30: =$B30&$C30 -> コマツナ冬まき（露地） | M30: =E30 -> 3 | N30: =F30 -> 2 | O30: 0 | P30: =H30 -> 11.25 | Q30: =I30 -> 7.5 | R30: 0
B31: コマツナ | C31: 冬まき（施設） | D31: 5 | E31: =ROUNDDOWN($D31*0.75,0) -> 3 | F31: =ROUNDDOWN($D31/2,0) -> 2 | G31: 7 | H31: =G31*0.75 -> 5.25 | I31: =G31/2 -> 3.5 | L31: =$B31&$C31 -> コマツナ冬まき（施設） | M31: =E31 -> 3 | N31: =F31 -> 2 | O31: 0 | P31: =H31 -> 5.25 | Q31: =I31 -> 3.5 | R31: 0
B32: コマツナ | C32: 大型（施設） | D32: 11 | E32: =ROUNDDOWN($D32*0.75,0) -> 8 | F32: =ROUNDDOWN($D32/2,0) -> 5 | G32: 25 | H32: =G32*0.75 -> 18.75 | I32: =G32/2 -> 12.5 | L32: =$B32&$C32 -> コマツナ大型（施設） | M32: =E32 -> 8 | N32: =F32 -> 5 | O32: 0 | P32: =H32 -> 18.75 | Q32: =I32 -> 12.5 | R32: 0
A33: 菜 | B33: サツマイモ | C33: 普通 | D33: 10 | E33: =ROUNDDOWN($D33*0.75,0) -> 7 | F33: =ROUNDDOWN($D33/2,0) -> 5 | G33: 3 | H33: =G33*0.75 -> 2.25 | I33: =G33/2 -> 1.5 | L33: =$B33&$C33 -> サツマイモ普通 | M33: =E33 -> 7 | N33: =F33 -> 5 | O33: 0 | P33: =H33 -> 2.25 | Q33: =I33 -> 1.5 | R33: 0
B34: サトイモ | C34: 普通 | D34: 4 | E34: =ROUNDDOWN($D34*0.75,0) -> 3 | F34: =ROUNDDOWN($D34/2,0) -> 2 | G34: 20 | H34: =G34*0.75 -> 15 | I34: =G34/2 -> 10 | L34: =$B34&$C34 -> サトイモ普通 | M34: =E34 -> 3 | N34: =F34 -> 2 | O34: 0 | P34: =H34 -> 15 | Q34: =I34 -> 10 | R34: 0
B35: サヤインゲン | C35: 普通 | D35: 10 | E35: =ROUNDDOWN($D35*0.75,0) -> 7 | F35: =ROUNDDOWN($D35/2,0) -> 5 | G35: 10 | H35: =G35*0.75 -> 7.5 | I35: =G35/2 -> 5 | L35: =$B35&$C35 -> サヤインゲン普通 | M35: =E35 -> 7 | N35: =F35 -> 5 | O35: 0 | P35: =H35 -> 7.5 | Q35: =I35 -> 5 | R35: 0
B36: サヤインゲン | C36: 抑制（施設） | D36: 5 | E36: =ROUNDDOWN($D36*0.75,0) -> 3 | F36: =ROUNDDOWN($D36/2,0) -> 2 | G36: 10 | H36: =G36*0.75 -> 7.5 | I36: =G36/2 -> 5 | L36: =$B36&$C36 -> サヤインゲン抑制（施設） | M36: =E36 -> 3 | N36: =F36 -> 2 | O36: 0 | P36: =H36 -> 7.5 | Q36: =I36 -> 5 | R36: 0
B37: サヤエンドウ | C37: 秋まき | D37: 3 | E37: =ROUNDDOWN($D37*0.75,0) -> 2 | F37: =ROUNDDOWN($D37/2,0) -> 1 | G37: 10 | H37: =G37*0.75 -> 7.5 | I37: =G37/2 -> 5 | L37: =$B37&$C37 -> サヤエンドウ秋まき | M37: =E37 -> 2 | N37: =F37 -> 1 | O37: 0 | P37: =H37 -> 7.5 | Q37: =I37 -> 5 | R37: 0
B38: サヤエンドウ | C38: 秋まき（島しょ） | D38: 18 | E38: =ROUNDDOWN($D38*0.75,0) -> 13 | F38: =ROUNDDOWN($D38/2,0) -> 9 | G38: 24 | H38: =G38*0.75 -> 18 | I38: =G38/2 -> 12 | L38: =$B38&$C38 -> サヤエンドウ秋まき（島しょ） | M38: =E38 -> 13 | N38: =F38 -> 9 | O38: 0 | P38: =H38 -> 18 | Q38: =I38 -> 12 | R38: 0
B39: シシトウ | C39: 普通 | D39: 7 | E39: =ROUNDDOWN($D39*0.75,0) -> 5 | F39: =ROUNDDOWN($D39/2,0) -> 3 | G39: 18 | H39: =G39*0.75 -> 13.5 | I39: =G39/2 -> 9 | L39: =$B39&$C39 -> シシトウ普通 | M39: =E39 -> 5 | N39: =F39 -> 3 | O39: 0 | P39: =H39 -> 13.5 | Q39: =I39 -> 9 | R39: 0
B40: ジャガイモ | C40: 春作 | D40: 4 | E40: =ROUNDDOWN($D40*0.75,0) -> 3 | F40: =ROUNDDOWN($D40/2,0) -> 2 | G40: 15 | H40: =G40*0.75 -> 11.25 | I40: =G40/2 -> 7.5 | L40: =$B40&$C40 -> ジャガイモ春作 | M40: =E40 -> 3 | N40: =F40 -> 2 | O40: 0 | P40: =H40 -> 11.25 | Q40: =I40 -> 7.5 | R40: 0
B41: ジャガイモ | C41: 秋作 | D41: 5 | E41: =ROUNDDOWN($D41*0.75,0) -> 3 | F41: =ROUNDDOWN($D41/2,0) -> 2 | G41: 20 | H41: =G41*0.75 -> 15 | I41: =G41/2 -> 10 | L41: =$B41&$C41 -> ジャガイモ秋作 | M41: =E41 -> 3 | N41: =F41 -> 2 | O41: 0 | P41: =H41 -> 15 | Q41: =I41 -> 10 | R41: 0
B42: シュンギク | C42: 秋まき | D42: 3 | E42: =ROUNDDOWN($D42*0.75,0) -> 2 | F42: =ROUNDDOWN($D42/2,0) -> 1 | G42: 14 | H42: =G42*0.75 -> 10.5 | I42: =G42/2 -> 7 | L42: =$B42&$C42 -> シュンギク秋まき | M42: =E42 -> 2 | N42: =F42 -> 1 | O42: 0 | P42: =H42 -> 10.5 | Q42: =I42 -> 7 | R42: 0
B43: ショウガ | C43: 半促成・普通 | D43: 10 | E43: =ROUNDDOWN($D43*0.75,0) -> 7 | F43: =ROUNDDOWN($D43/2,0) -> 5 | G43: 15 | H43: =G43*0.75 -> 11.25 | I43: =G43/2 -> 7.5 | L43: =$B43&$C43 -> ショウガ半促成・普通 | M43: =E43 -> 7 | N43: =F43 -> 5 | O43: 0 | P43: =H43 -> 11.25 | Q43: =I43 -> 7.5 | R43: 0
B44: スイートコーン | C44: 早熟・普通 | D44: 7 | E44: =ROUNDDOWN($D44*0.75,0) -> 5 | F44: =ROUNDDOWN($D44/2,0) -> 3 | G44: 18 | H44: =G44*0.75 -> 13.5 | I44: =G44/2 -> 9 | L44: =$B44&$C44 -> スイートコーン早熟・普通 | M44: =E44 -> 5 | N44: =F44 -> 3 | O44: 0 | P44: =H44 -> 13.5 | Q44: =I44 -> 9 | R44: 0
B45: スイカ | C45: 早熟 | D45: 16 | E45: =ROUNDDOWN($D45*0.75,0) -> 12 | F45: =ROUNDDOWN($D45/2,0) -> 8 | G45: 12 | H45: =G45*0.75 -> 9 | I45: =G45/2 -> 6 | L45: =$B45&$C45 -> スイカ早熟 | M45: =E45 -> 12 | N45: =F45 -> 8 | O45: 0 | P45: =H45 -> 9 | Q45: =I45 -> 6 | R45: 0
... B57: トマト | C57: 小笠原（施設） | D57: 11 | E57: =ROUNDDOWN($D57*0.75,0) -> 8 | F57: =ROUNDDOWN($D57/2,0) -> 5 | G57: 40 | H57: =G57*0.75 -> 30 | I57: =G57/2 -> 20 | L57: =$B57&$C57 -> トマト小笠原（施設） | M57: =E57 -> 8 | N57: =F57 -> 5 | O57: 0 | P57: =H57 -> 30 | Q57: =I57 -> 20 | R57: 0
A58: 野 | B58: ナス | C58: 早熟 | D58: 39 | E58: =ROUNDDOWN($D58*0.75,0) -> 29 | F58: =ROUNDDOWN($D58/2,0) -> 19 | G58: 40 | H58: =G58*0.75 -> 30 | I58: =G58/2 -> 20 | L58: =$B58&$C58 -> ナス早熟 | M58: =E58 -> 29 | N58: =F58 -> 19 | O58: 0 | P58: =H58 -> 30 | Q58: =I58 -> 20 | R58: 0
B59: ナバナ類 | C59: 秋まき | D59: 3 | E59: =ROUNDDOWN($D59*0.75,0) -> 2 | F59: =ROUNDDOWN($D59/2,0) -> 1 | G59: 22 | H59: =G59*0.75 -> 16.5 | I59: =G59/2 -> 11 | L59: =$B59&$C59 -> ナバナ類秋まき | M59: =E59 -> 2 | N59: =F59 -> 1 | O59: 0 | P59: =H59 -> 16.5 | Q59: =I59 -> 11 | R59: 0
B60: ニガウリ | C60: 普通 | D60: 3 | E60: =ROUNDDOWN($D60*0.75,0) -> 2 | F60: =ROUNDDOWN($D60/2,0) -> 1 | G60: 11 | H60: =G60*0.75 -> 8.25 | I60: =G60/2 -> 5.5 | L60: =$B60&$C60 -> ニガウリ普通 | M60: =E60 -> 2 | N60: =F60 -> 1 | O60: 0 | P60: =H60 -> 8.25 | Q60: =I60 -> 5.5 | R60: 0
B61: ニンジン | C61: 春まき | D61: 8 | E61: =ROUNDDOWN($D61*0.75,0) -> 6 | F61: =ROUNDDOWN($D61/2,0) -> 4 | G61: 20 | H61: =G61*0.75 -> 15 | I61: =G61/2 -> 10 | L61: =$B61&$C61 -> ニンジン春まき | M61: =E61 -> 6 | N61: =F61 -> 4 | O61: 0 | P61: =H61 -> 15 | Q61: =I61 -> 10 | R61: 0
B62: ニンジン | C62: 夏まき | D62: 8 | E62: =ROUNDDOWN($D62*0.75,0) -> 6 | F62: =ROUNDDOWN($D62/2,0) -> 4 | G62: 20 | H62: =G62*0.75 -> 15 | I62: =G62/2 -> 10 | L62: =$B62&$C62 -> ニンジン夏まき | M62: =E62 -> 6 | N62: =F62 -> 4 | O62: 0 | P62: =H62 -> 15 | Q62: =I62 -> 10 | R62: 0
B63: ニンニク | C63: 普通 | D63: 6 | E63: =ROUNDDOWN($D63*0.75,0) -> 4 | F63: =ROUNDDOWN($D63/2,0) -> 3 | G63: 15 | H63: =G63*0.75 -> 11.25 | I63: =G63/2 -> 7.5 | L63: =$B63&$C63 -> ニンニク普通 | M63: =E63 -> 4 | N63: =F63 -> 3 | O63: 0 | P63: =H63 -> 11.25 | Q63: =I63 -> 7.5 | R63: 0
B64: ネギ | C64: 春まき | D64: 18 | E64: =ROUNDDOWN($D64*0.75,0) -> 13 | F64: =ROUNDDOWN($D64/2,0) -> 9 | G64: 20 | H64: =G64*0.75 -> 15 | I64: =G64/2 -> 10 | L64: =$B64&$C64 -> ネギ春まき | M64: =E64 -> 13 | N64: =F64 -> 9 | O64: 0 | P64: =H64 -> 15 | Q64: =I64 -> 10 | R64: 0
B65: ネギ | C65: 夏まき | D65: 18 | E65: =ROUNDDOWN($D65*0.75,0) -> 13 | F65: =ROUNDDOWN($D65/2,0) -> 9 | G65: 20 | H65: =G65*0.75 -> 15 | I65: =G65/2 -> 10 | L65: =$B65&$C65 -> ネギ夏まき | M65: =E65 -> 13 | N65: =F65 -> 9 | O65: 0 | P65: =H65 -> 15 | Q65: =I65 -> 10 | R65: 0
B66: ネギ | C66: 秋まき | D66: 18 | E66: =ROUNDDOWN($D66*0.75,0) -> 13 | F66: =ROUNDDOWN($D66/2,0) -> 9 | G66: 20 | H66: =G66*0.75 -> 15 | I66: =G66/2 -> 10 | L66: =$B66&$C66 -> ネギ秋まき | M66: =E66 -> 13 | N66: =F66 -> 9 | O66: 0 | P66: =H66 -> 15 | Q66: =I66 -> 10 | R66: 0
B67: ネギ | C67: 冬まき | D67: 18 | E67: =ROUNDDOWN($D67*0.75,0) -> 13 | F67: =ROUNDDOWN($D67/2,0) -> 9 | G67: 20 | H67: =G67*0.75 -> 15 | I67: =G67/2 -> 10 | L67: =$B67&$C67 -> ネギ冬まき | M67: =E67 -> 13 | N67: =F67 -> 9 | O67: 0 | P67: =H67 -> 15 | Q67: =I67 -> 10 | R67: 0
B68: ハクサイ | C68: 秋まき | D68: 11 | E68: =ROUNDDOWN($D68*0.75,0) -> 8 | F68: =ROUNDDOWN($D68/2,0) -> 5 | G68: 16 | H68: =G68*0.75 -> 12 | I68: =G68/2 -> 8 | L68: =$B68&$C68 -> ハクサイ秋まき | M68: =E68 -> 8 | N68: =F68 -> 5 | O68: 0 | P68: =H68 -> 12 | Q68: =I68 -> 8 | R68: 0
B69: 葉ショウガ | C69: 半促成・普通 | D69: 10 | E69: =ROUNDDOWN($D69*0.75,0) -> 7 | F69: =ROUNDDOWN($D69/2,0) -> 5 | G69: 15 | H69: =G69*0.75 -> 11.25 | I69: =G69/2 -> 7.5 | L69: =$B69&$C69 -> 葉ショウガ半促成・普通 | M69: =E69 -> 7 | N69: =F69 -> 5 | O69: 0 | P69: =H69 -> 11.25 | Q69: =I69 -> 7.5 | R69: 0
B70: 葉ダイコン | C70: 春まき | D70: 3 | E70: =ROUNDDOWN($D70*0.75,0) -> 2 | F70: =ROUNDDOWN($D70/2,0) -> 1 | G70: 14 | H70: =G70*0.75 -> 10.5 | I70: =G70/2 -> 7 | L70: =$B70&$C70 -> 葉ダイコン春まき | M70: =E70 -> 2 | N70: =F70 -> 1 | O70: 0 | P70: =H70 -> 10.5 | Q70: =I70 -> 7 | R70: 0
B71: 葉ダイコン | C71: 秋まき | D71: 2 | E71: =ROUNDDOWN($D71*0.75,0) -> 1 | F71: =ROUNDDOWN($D71/2,0) -> 1 | G71: 14 | H71: =G71*0.75 -> 10.5 | I71: =G71/2 -> 7 | L71: =$B71&$C71 -> 葉ダイコン秋まき | M71: =E71 -> 1 | N71: =F71 -> 1 | O71: 0 | P71: =H71 -> 10.5 | Q71: =I71 -> 7 | R71: 0
B72: ビーツ | C72: 春～秋まき | D72: 1 | E72: 0 | F72: 0 | G72: 14 | H72: 10.5 | I72: 7 | L72: =$B72&$C72 -> ビーツ春～秋まき | M72: =E72 -> 0 | N72: =F72 -> 0 | O72: 0 | P72: =H72 -> 10.5 | Q72: =I72 -> 7 | R72: 0
B73: ピーマン | C73: 早熟 | D73: 13 | E73: =ROUNDDOWN($D73*0.75,0) -> 9 | F73: =ROUNDDOWN($D73/2,0) -> 6 | G73: 20 | H73: =G73*0.75 -> 15 | I73: =G73/2 -> 10 | L73: =$B73&$C73 -> ピーマン早熟 | M73: =E73 -> 9 | N73: =F73 -> 6 | O73: 0 | P73: =H73 -> 15 | Q73: =I73 -> 10 | R73: 0
B74: 非結球レタス | C74: 春まき | D74: 5 | E74: =ROUNDDOWN($D74*0.75,0) -> 3 | F74: =ROUNDDOWN($D74/2,0) -> 2 | G74: 16 | H74: =G74*0.75 -> 12 | I74: =G74/2 -> 8 | L74: =$B74&$C74 -> 非結球レタス春まき | M74: =E74 -> 3 | N74: =F74 -> 2 | O74: 0 | P74: =H74 -> 12 | Q74: =I74 -> 8 | R74: 0
B75: 非結球レタス | C75: 夏まき | D75: 6 | E75: =ROUNDDOWN($D75*0.75,0) -> 4 | F75: =ROUNDDOWN($D75/2,0) -> 3 | G75: 10 | H75: =G75*0.75 -> 7.5 | I75: =G75/2 -> 5 | L75: =$B75&$C75 -> 非結球レタス夏まき | M75: =E75 -> 4 | N75: =F75 -> 3 | O75: 0 | P75: =H75 -> 7.5 | Q75: =I75 -> 5 | R75: 0
B76: 非結球レタス | C76: 秋まき・冬まき | D76: 5 | E76: =ROUNDDOWN($D76*0.75,0) -> 3 | F76: =ROUNDDOWN($D76/2,0) -> 2 | G76: 13 | H76: =G76*0.75 -> 9.75 | I76: =G76/2 -> 6.5 | L76: =$B76&$C76 -> 非結球レタス秋まき・冬まき | M76: =E76 -> 3 | N76: =F76 -> 2 | O76: 0 | P76: =H76 -> 9.75 | Q76: =I76 -> 6.5 | R76: 0
A77: 菜 | B77: ブロッコリー | C77: 春まき | D77: 10 | E77: =ROUNDDOWN($D77*0.75,0) -> 7 | F77: =ROUNDDOWN($D77/2,0) -> 5 | G77: 25 | H77: =G77*0.75 -> 18.75 | I77: =G77/2 -> 12.5 | L77: =$B77&$C77 -> ブロッコリー春まき | M77: =E77 -> 7 | N77: =F77 -> 5 | O77: 0 | P77: =H77 -> 18.75 | Q77: =I77 -> 12.5 | R77: 0
B78: ブロッコリー | C78: 夏まき | D78: 10 | E78: =ROUNDDOWN($D78*0.75,0) -> 7 | F78: =ROUNDDOWN($D78/2,0) -> 5 | G78: 25 | H78: =G78*0.75 -> 18.75 | I78: =G78/2 -> 12.5 | L78: =$B78&$C78 -> ブロッコリー夏まき | M78: =E78 -> 7 | N78: =F78 -> 5 | O78: 0 | P78: =H78 -> 18.75 | Q78: =I78 -> 12.5 | R78: 0
B79: ブロッコリー | C79: 冬まき | D79: 6.2 | E79: =ROUNDDOWN($D79*0.75,0) -> 4 | F79: =ROUNDDOWN($D79/2,0) -> 3 | G79: 20 | H79: =G79*0.75 -> 15 | I79: =G79/2 -> 10 | L79: =$B79&$C79 -> ブロッコリー冬まき | M79: =E79 -> 4 | N79: =F79 -> 3 | O79: 0 | P79: =H79 -> 15 | Q79: =I79 -> 10 | R79: 0
B80: ホウレンソウ | C80: 春～初秋まき | D80: 7 | E80: =ROUNDDOWN($D80*0.75,0) -> 5 | F80: =ROUNDDOWN($D80/2,0) -> 3 | G80: 14 | H80: =G80*0.75 -> 10.5 | I80: =G80/2 -> 7 | L80: =$B80&$C80 -> ホウレンソウ春～初秋まき | M80: =E80 -> 5 | N80: =F80 -> 3 | O80: 0 | P80: =H80 -> 10.5 | Q80: =I80 -> 7 | R80: 0
B81: ホウレンソウ | C81: 秋まき・冬まき | D81: 4 | E81: =ROUNDDOWN($D81*0.75,0) -> 3 | F81: =ROUNDDOWN($D81/2,0) -> 2 | G81: 15 | H81: =G81*0.75 -> 11.25 | I81: =G81/2 -> 7.5 | L81: =$B81&$C81 -> ホウレンソウ秋まき・冬まき | M81: =E81 -> 3 | N81: =F81 -> 2 | O81: 0 | P81: =H81 -> 11.25 | Q81: =I81 -> 7.5 | R81: 0
B82: ミズナ | C82: 春～秋まき | D82: 5 | E82: =ROUNDDOWN($D82*0.75,0) -> 3 | F82: =ROUNDDOWN($D82/2,0) -> 2 | G82: 14 | H82: =G82*0.75 -> 10.5 | I82: =G82/2 -> 7 | L82: =$B82&$C82 -> ミズナ春～秋まき | M82: =E82 -> 3 | N82: =F82 -> 2 | O82: 0 | P82: =H82 -> 10.5 | Q82: =I82 -> 7 | R82: 0
B83: ミズナ | C83: 冬まき | D83: 4 | E83: =ROUNDDOWN($D83*0.75,0) -> 3 | F83: =ROUNDDOWN($D83/2,0) -> 2 | G83: 8 | H83: =G83*0.75 -> 6 | I83: =G83/2 -> 4 | L83: =$B83&$C83 -> ミズナ冬まき | M83: =E83 -> 3 | N83: =F83 -> 2 | O83: 0 | P83: =H83 -> 6 | Q83: =I83 -> 4 | R83: 0
B84: ミニトマト | C84: 促成（施設） | D84: 36 | E84: =ROUNDDOWN($D84*0.75,0) -> 27 | F84: =ROUNDDOWN($D84/2,0) -> 18 | G84: 30 | H84: =G84*0.75 -> 22.5 | I84: =G84/2 -> 15 | L84: =$B84&$C84 -> ミニトマト促成（施設） | M84: =E84 -> 27 | N84: =F84 -> 18 | O84: 0 | P84: =H84 -> 22.5 | Q84: =I84 -> 15 | R84: 0
B85: ミニトマト | C85: 半促成（施設） | D85: 17 | E85: =ROUNDDOWN($D85*0.75,0) -> 12 | F85: =ROUNDDOWN($D85/2,0) -> 8 | G85: 30 | H85: =G85*0.75 -> 22.5 | I85: =G85/2 -> 15 | L85: =$B85&$C85 -> ミニトマト半促成（施設） | M85: =E85 -> 12 | N85: =F85 -> 8 | O85: 0 | P85: =H85 -> 22.5 | Q85: =I85 -> 15 | R85: 0
B86: ミニトマト | C86: 早熟・普通 | D86: 17 | E86: =ROUNDDOWN($D86*0.75,0) -> 12 | F86: =ROUNDDOWN($D86/2,0) -> 8 | G86: 25 | H86: =G86*0.75 -> 18.75 | I86: =G86/2 -> 12.5 | L86: =$B86&$C86 -> ミニトマト早熟・普通 | M86: =E86 -> 12 | N86: =F86 -> 8 | O86: 0 | P86: =H86 -> 18.75 | Q86: =I86 -> 12.5 | R86: 0
B87: ミニトマト | C87: 抑制（施設） | D87: 17 | E87: =ROUNDDOWN($D87*0.75,0) -> 12 | F87: =ROUNDDOWN($D87/2,0) -> 8 | G87: 15 | H87: =G87*0.75 -> 11.25 | I87: =G87/2 -> 7.5 | L87: =$B87&$C87 -> ミニトマト抑制（施設） | M87: =E87 -> 12 | N87: =F87 -> 8 | O87: 0 | P87: =H87 -> 11.25 | Q87: =I87 -> 7.5 | R87: 0
B88: ミニトマト | C88: 小笠原（施設） | D88: 11 | E88: =ROUNDDOWN($D88*0.75,0) -> 8 | F88: =ROUNDDOWN($D88/2,0) -> 5 | G88: 40 | H88: =G88*0.75 -> 30 | I88: =G88/2 -> 20 | L88: =$B88&$C88 -> ミニトマト小笠原（施設） | M88: =E88 -> 8 | N88: =F88 -> 5 | O88: 0 | P88: =H88 -> 30 | Q88: =I88 -> 20 | R88: 0
B89: モミジガサ | C89: 普通 | D89: 0 | E89: - | F89: - | G89: 0 | H89: - | I89: - | L89: =$B89&$C89 -> モミジガサ普通 | M89: =E89 -> - | N89: =F89 -> - | O89: 0 | P89: =H89 -> - | Q89: =I89 -> - | R89: 0
B90: モロヘイヤ | C90: 早熟・普通 | D90: 2 | E90: =ROUNDDOWN($D90*0.75,0) -> 1 | F90: =ROUNDDOWN($D90/2,0) -> 1 | G90: 14 | H90: =G90*0.75 -> 10.5 | I90: =G90/2 -> 7 | L90: =$B90&$C90 -> モロヘイヤ早熟・普通 | M90: =E90 -> 1 | N90: =F90 -> 1 | O90: 0 | P90: =H90 -> 10.5 | Q90: =I90 -> 7 | R90: 0
B91: ヤマノイモ | C91: 普通 | D91: 8 | E91: =ROUNDDOWN($D91*0.75,0) -> 6 | F91: =ROUNDDOWN($D91/2,0) -> 4 | G91: 20 | H91: =G91*0.75 -> 15 | I91: =G91/2 -> 10 | L91: =$B91&$C91 -> ヤマノイモ普通 | M91: =E91 -> 6 | N91: =F91 -> 4 | O91: 0 | P91: =H91 -> 15 | Q91: =I91 -> 10 | R91: 0
B92: ラッカセイ | C92: 普通 | D92: 4 | E92: =ROUNDDOWN($D92*0.75,0) -> 3 | F92: =ROUNDDOWN($D92/2,0) -> 2 | G92: 5 | H92: =G92*0.75 -> 3.75 | I92: =G92/2 -> 2.5 | L92: =$B92&$C92 -> ラッカセイ普通 | M92: =E92 -> 3 | N92: =F92 -> 2 | O92: 0 | P92: =H92 -> 3.75 | Q92: =I92 -> 2.5 | R92: 0
B93: ラッキョウ | C93: 普通（１年掘り） | D93: 3 | E93: =ROUNDDOWN($D93*0.75,0) -> 2 | F93: =ROUNDDOWN($D93/2,0) -> 1 | G93: 20 | H93: =G93*0.75 -> 15 | I93: =G93/2 -> 10 | L93: =$B93&$C93 -> ラッキョウ普通（１年掘り） | M93: =E93 -> 2 | N93: =F93 -> 1 | O93: 0 | P93: =H93 -> 15 | Q93: =I93 -> 10 | R93: 0
A94: 野 | B94: ルッコラ | C94: 春まき・秋まき | D94: 8 | E94: =ROUNDDOWN($D94*0.75,0) -> 6 | F94: =ROUNDDOWN($D94/2,0) -> 4 | G94: 14 | H94: =G94*0.75 -> 10.5 | I94: =G94/2 -> 7 | L94: =$B94&$C94 -> ルッコラ春まき・秋まき | M94: =E94 -> 6 | N94: =F94 -> 4 | O94: 0 | P94: =H94 -> 10.5 | Q94: =I94 -> 7 | R94: 0
A95: 菜 | B95: レタス | C95: 春まき・夏まき・ 秋まき | D95: 8 | E95: =ROUNDDOWN($D95*0.75,0) -> 6 | F95: =ROUNDDOWN($D95/2,0) -> 4 | G95: 12 | H95: =G95*0.75 -> 9 | I95: =G95/2 -> 6 | L95: =$B95&$C95 -> レタス春まき・夏まき・ 秋まき | M95: =E95 -> 6 | N95: =F95 -> 4 | O95: 0 | P95: =H95 -> 9 | Q95: =I95 -> 6 | R95: 0
B96: レタス | C96: 冬まき | D96: 2 | E96: =ROUNDDOWN($D96*0.75,0) -> 1 | F96: =ROUNDDOWN($D96/2,0) -> 1 | G96: 20 | H96: =G96*0.75 -> 15 | I96: =G96/2 -> 10 | L96: =$B96&$C96 -> レタス冬まき | M96: =E96 -> 1 | N96: =F96 -> 1 | O96: 0 | P96: =H96 -> 15 | Q96: =I96 -> 10 | R96: 0
B97: イチジク | D97: 10 | E97: =ROUNDDOWN($D97*0.75,0) -> 7 | F97: =ROUNDDOWN($D97/2,0) -> 5 | G97: 24 | H97: =G97*0.75 -> 18 | I97: =G97/2 -> 12 | L97: =$B97&$C97 -> イチジク | M97: =E97 -> 7 | N97: =F97 -> 5 | O97: 0 | P97: =H97 -> 18 | Q97: =I97 -> 12 | R97: 0
B98: ウメ | D98: 8 | E98: =ROUNDDOWN($D98*0.75,0) -> 6 | F98: =ROUNDDOWN($D98/2,0) -> 4 | G98: 18 | H98: =G98*0.75 -> 13.5 | I98: =G98/2 -> 9 | L98: =$B98&$C98 -> ウメ | M98: =E98 -> 6 | N98: =F98 -> 4 | O98: 0 | P98: =H98 -> 13.5 | Q98: =I98 -> 9 | R98: 0
B99: 温州ミカン | D99: 13 | E99: =ROUNDDOWN($D99*0.75,0) -> 9 | F99: =ROUNDDOWN($D99/2,0) -> 6 | G99: 25 | H99: =G99*0.75 -> 18.75 | I99: =G99/2 -> 12.5 | L99: =$B99&$C99 -> 温州ミカン | M99: =E99 -> 9 | N99: =F99 -> 6 | O99: 0 | P99: =H99 -> 18.75 | Q99: =I99 -> 12.5 | R99: 0
A100: 果 | B100: カキ | D100: 10 | E100: =ROUNDDOWN($D100*0.75,0) -> 7 | F100: =ROUNDDOWN($D100/2,0) -> 5 | G100: 14 | H100: =G100*0.75 -> 10.5 | I100: =G100/2 -> 7 | L100: =$B100&$C100 -> カキ | M100: =E100 -> 7 | N100: =F100 -> 5 | O100: 0 | P100: =H100 -> 10.5 | Q100: =I100 -> 7 | R100: 0
B101: キウイフルーツ | D101: 11 | E101: =ROUNDDOWN($D101*0.75,0) -> 8 | F101: =ROUNDDOWN($D101/2,0) -> 5 | G101: 16 | H101: =G101*0.75 -> 12 | I101: =G101/2 -> 8 | L101: =$B101&$C101 -> キウイフルーツ | M101: =E101 -> 8 | N101: =F101 -> 5 | O101: 0 | P101: =H101 -> 12 | Q101: =I101 -> 8 | R101: 0
B102: クリ | D102: 4 | E102: =ROUNDDOWN($D102*0.75,0) -> 3 | F102: =ROUNDDOWN($D102/2,0) -> 2 | G102: 5 | H102: =G102*0.75 -> 3.75 | I102: =G102/2 -> 2.5 | L102: =$B102&$C102 -> クリ | M102: =E102 -> 3 | N102: =F102 -> 2 | O102: 0 | P102: =H102 -> 3.75 | Q102: =I102 -> 2.5 | R102: 0
B103: ナシ | D103: 36 | E103: =ROUNDDOWN($D103*0.75,0) -> 27 | F103: =ROUNDDOWN($D103/2,0) -> 18 | G103: 30 | H103: =G103*0.75 -> 22.5 | I103: =G103/2 -> 15 | L103: =$B103&$C103 -> ナシ | M103: =E103 -> 27 | N103: =F103 -> 18 | O103: 0 | P103: =H103 -> 22.5 | Q103: =I103 -> 15 | R103: 0
A104: 樹 | B104: ブドウ | D104: 29 | E104: =ROUNDDOWN($D104*0.75,0) -> 21 | F104: =ROUNDDOWN($D104/2,0) -> 14 | G104: 8 | H104: =G104*0.75 -> 6 | I104: =G104/2 -> 4 | L104: =$B104&$C104 -> ブドウ | M104: =E104 -> 21 | N104: =F104 -> 14 | O104: 0 | P104: =H104 -> 6 | Q104: =I104 -> 4 | R104: 0
B105: ブルーベリー | D105: 4 | E105: =ROUNDDOWN($D105*0.75,0) -> 3 | F105: =ROUNDDOWN($D105/2,0) -> 2 | G105: 10 | H105: =G105*0.75 -> 7.5 | I105: =G105/2 -> 5 | L105: =$B105&$C105 -> ブルーベリー | M105: =E105 -> 3 | N105: =F105 -> 2 | O105: 0 | P105: =H105 -> 7.5 | Q105: =I105 -> 5 | R105: 0
B106: パッションフルーツ | C106: 施設 | D106: 5 | E106: =ROUNDDOWN($D106*0.75,0) -> 3 | F106: =ROUNDDOWN($D106/2,0) -> 2 | G106: 20 | H106: =G106*0.75 -> 15 | I106: =G106/2 -> 10 | L106: =$B106&$C106 -> パッションフルーツ施設 | M106: =E106 -> 3 | N106: =F106 -> 2 | O106: 0 | P106: =H106 -> 15 | Q106: =I106 -> 10 | R106: 0
B107: ユズ | D107: 6 | E107: =ROUNDDOWN($D107*0.75,0) -> 4 | F107: =ROUNDDOWN($D107/2,0) -> 3 | G107: 18 | H107: =G107*0.75 -> 13.5 | I107: =G107/2 -> 9 | L107: =$B107&$C107 -> ユズ | M107: =E107 -> 4 | N107: =F107 -> 3 | O107: 0 | P107: =H107 -> 13.5 | Q107: =I107 -> 9 | R107: 0
B108: リンゴ | D108: 35 | E108: =ROUNDDOWN($D108*0.75,0) -> 26 | F108: =ROUNDDOWN($D108/2,0) -> 17 | G108: 12 | H108: =G108*0.75 -> 9 | I108: =G108/2 -> 6 | L108: =$B108&$C108 -> リンゴ | M108: =E108 -> 26 | N108: =F108 -> 17 | O108: 0 | P108: =H108 -> 9 | Q108: =I108 -> 6 | R108: 0
B109: レモン | C109: 露地(島しょを除く) | D109: 12 | E109: =ROUNDDOWN($D109*0.75,0) -> 9 | F109: =ROUNDDOWN($D109/2,0) -> 6 | G109: 20 | H109: =G109*0.75 -> 15 | I109: =G109/2 -> 10 | L109: =$B109&$C109 -> レモン露地(島しょを除く) | M109: =E109 -> 9 | N109: =F109 -> 6 | O109: 1 | P109: =H109 -> 15 | Q109: =I109 -> 10 | R109: 1
B110: レモン | C110: 島しょ | D110: 14 | E110: =ROUNDDOWN($D110*0.75,0) -> 10 | F110: =ROUNDDOWN($D110/2,0) -> 7 | G110: 30 | H110: =G110*0.75 -> 22.5 | I110: =G110/2 -> 15 | L110: =$B110&$C110 -> レモン島しょ | M110: =E110 -> 10 | N110: =F110 -> 7 | O110: 2 | P110: =H110 -> 22.5 | Q110: =I110 -> 15 | R110: 2
B111: レモン | C111: 長期樹上着果（島しょ） | D111: 21 | E111: =ROUNDDOWN($D111*0.75,0) -> 15 | F111: =ROUNDDOWN($D111/2,0) -> 10 | G111: 40 | H111: =G111*0.75 -> 30 | I111: =G111/2 -> 20 | L111: =$B111&$C111 -> レモン長期樹上着果（島しょ） | M111: =E111 -> 15 | N111: =F111 -> 10 | O111: 0 | P111: =H111 -> 30 | Q111: =I111 -> 20 | R111: 0
...

Sheet List
A1: 番号 | B1: （区市町村を選択） | C1: 地域 | E1: 【土づくりの技術】 | F1: 【化学合成農薬削減技術】 | G1: 【化学肥料削減技術】
A2: 110 | B2: 目黒区 | C2: 区部 | E2: ① 堆肥施用 | F2: ① 温湯種子消毒技術 | G2: ① 局所施肥
A3: 111 | B3: 大田区 | C3: 区部 | E3: ② 緑肥作物利用 | F3: ② 機械除草技術 | G3: ② 肥効調節型肥料施肥
A4: 112 | B4: 世田谷区 | C4: 区部 | E4: ③ その他 試験研究機関等で開発された技術 | F4: ③ 除草用動物利用技術 | G4: ③ 有機質肥料施肥
A5: 114 | B5: 中野区 | C5: 区部 | F5: ④ 生物農薬利用技術 | G5: ④ その他 試験研究機関等で開発された技術
A6: 115 | B6: 杉並区 | C6: 区部 | F6: ⑤ 対抗植物利用技術
A7: 117 | B7: 北区 | C7: 区部 | F7: ⑥ 抵抗性品種栽培・台木利用技術
A8: 119 | B8: 板橋区 | C8: 区部 | F8: ⑦ 土壌還元消毒技術
A9: 120 | B9: 練馬区 | C9: 区部 | F9: ⑧ 熱利用土壌消毒技術
A10: 121 | B10: 足立区 | C10: 区部 | F10: ⑨ 光利用技術
A11: 122 | B11: 葛飾区 | C11: 区部 | F11: ⑩ 被覆栽培技術
A12: 123 | B12: 江戸川区 | C12: 区部 | F12: ⑪ フェロモン剤利用技術
A13: 202 | B13: 立川市 | C13: 北多摩 | F13: ⑫ マルチ栽培技術
A14: 203 | B14: 武蔵野市 | C14: 北多摩 | F14: ⑬ 天然物質由来農薬等利用技術
A15: 204 | B15: 三鷹市 | C15: 北多摩 | F15: ⑭ その他 試験研究機関等で開発された技術
A16: 206 | B16: 府中市 | C16: 北多摩
A17: 207 | B17: 昭島市 | C17: 北多摩
A18: 208 | B18: 調布市 | C18: 北多摩 | F18: 【化学合成農薬削減技術】 | G18: 【排液流出防止技術】
A19: 210 | B19: 小金井市 | C19: 北多摩 | F19: ① 温湯種子消毒技術 | G19: ① 循環型栽培（排液なし）
A20: 211 | B20: 小平市 | C20: 北多摩 | F20: ④ 生物農薬利用技術 | G20: ② 肥料として利用
A21: 213 | B21: 東村山市 | C21: 北多摩 | F21: ⑥ 抵抗性品種栽培・台木利用技術 | G21: ③ 堆肥に添加
A22: 214 | B22: 国分寺市 | C22: 北多摩 | F22: ⑨ 光利用技術 | G22: ④ 資材で吸着回収し、産廃処理
A23: 215 | B23: 国立市 | C23: 北多摩 | F23: ⑩ 被覆栽培技術 | G23: ⑤ 浄化槽で処理・放流
A24: 219 | B24: 狛江市 | C24: 北多摩 | F24: ⑪ フェロモン剤利用技術 | G24: ⑥ 希釈後、公共下水道へ放流
A25: 220 | B25: 東大和市 | C25: 北多摩 | F25: ⑬ 天然物質由来農薬等利用技術 | G25: ⑦ その他の技術
A26: 221 | B26: 清瀬市 | C26: 北多摩 | F26: ⑭ その他 試験研究機関等で開発された技術
A27: 222 | B27: 東久留米市 | C27: 北多摩
A28: 223 | B28: 武蔵村山市 | C28: 北多摩
A29: 229 | B29: 西東京市 | C29: 北多摩
A30: 201 | B30: 八王子市 | C30: 南多摩
A31: 209 | B31: 町田市 | C31: 南多摩
A32: 212 | B32: 日野市 | C32: 南多摩
A33: 224 | B33: 多摩市 | C33: 南多摩
A34: 225 | B34: 稲城市 | C34: 南多摩
A35: 205 | B35: 青梅市 | C35: 西多摩
A36: 218 | B36: 福生市 | C36: 西多摩
A37: 227 | B37: 羽村市 | C37: 西多摩
A38: 228 | B38: あきる野市 | C38: 西多摩
... A51: 421 | B51: 小笠原村 | C51: 島しょ
A54: 目黒区 | B54: =LEFT(A54,3) -> 目黒区 | C54: =A54 -> 目黒区 | D54: 区部 | E54: 区部農業改良普及センター | F54: 農協名 | G54: JA名 | H54: JA略称
A55: 大田区 | B55: =LEFT(A55,3) -> 大田区 | C55: =A55 -> 大田区 | D55: 区部 | E55: 区部農業改良普及センター | F55: 西東京農業協同組合 | G55: JA西東京 | H55: 西東京
A56: 世田谷区 | B56: =LEFT(A56,3) -> 世田谷 | C56: =A56 -> 世田谷区 | D56: 区部 | E56: 区部農業改良普及センター | F56: 秋川農業協同組合 | G56: JAあきがわ | H56: 秋川
A57: 中野区 | B57: =LEFT(A57,3) -> 中野区 | C57: =A57 -> 中野区 | D57: 区部 | E57: 区部農業改良普及センター | F57: 西多摩農業協同組合 | G57: JAにしたま | H57: 西多摩
A58: 杉並区 | B58: =LEFT(A58,3) -> 杉並区 | C58: =A58 -> 杉並区 | D58: 区部 | E58: 区部農業改良普及センター | F58: 八王子市農業協同組合 | G58: JA八王子 | H58: 八王子
A59: 板橋区 | B59: =LEFT(A59,3) -> 板橋区 | C59: =A59 -> 板橋区 | D59: 区部 | E59: 区部農業改良普及センター | F59: 東京南農業協同組合 | G59: JA東京みなみ | H59: 東京南
A60: 練馬区 | B60: =LEFT(A60,3) -> 練馬区 | C60: =A60 -> 練馬区 | D60: 区部 | E60: 区部農業改良普及センター | F60: 町田市農業協同組合 | G60: JA町田市 | H60: 町田市
A61: 葛飾区 | B61: =LEFT(A61,3) -> 葛飾区 | C61: =A61 -> 葛飾区 | D61: 区部 | E61: 区部農業改良普及センター | F61: マインズ農業協同組合 | G61: JAマインズ | H61: ﾏｲﾝｽﾞ
A62: 江戸川区 | B62: =LEFT(A62,3) -> 江戸川 | C62: =A62 -> 江戸川区 | D62: 区部 | E62: 区部農業改良普及センター | F62: 東京みどり農業協同組合 | G62: JA東京みどり | H62: 東京みどり
A63: 足立区 | B63: =LEFT(A63,3) -> 足立区 | C63: =A63 -> 足立区 | D63: 区部 | E63: 区部農業改良普及センター | F63: 東京みらい農業協同組合 | G63: JA東京みらい | H63: 東京みらい
A64: 立川市 | B64: =LEFT(A64,3) -> 立川市 | C64: =A64 -> 立川市 | D64: 北多摩 | E64: 北多摩農業改良普及センター | F64: 東京むさし農業協同組合 | G64: JA東京むさし | H64: 東京むさし
A65: 武蔵野市 | B65: =LEFT(A65,3) -> 武蔵野 | C65: =A65 -> 武蔵野市 | D65: 北多摩 | E65: 北多摩農業改良普及センター | F65: 東京中央農業協同組合 | G65: JA東京中央 | H65: 東京中央
... A73: 国分寺市 | B73: =LEFT(A73,3) -> 国分寺 | C73: =A73 -> 国分寺市 | D73: 北多摩 | E73: 北多摩農業改良普及センター | F73: 小笠原アイランズ農業協同組合 | G73: 小笠原アイランズ農協 | H73: 小笠原
A74: 国立市 | B74: =LEFT(A74,3) -> 国立市 | C74: =A74 -> 国立市 | D74: 北多摩 | E74: 北多摩農業改良普及センター | G74: 東京都農業振興事務所 | H74: (該当なし)
A75: 狛江市 | B75: =LEFT(A75,3) -> 狛江市 | C75: =A75 -> 狛江市 | D75: 北多摩 | E75: 北多摩農業改良普及センター
A76: 東大和市 | B76: =LEFT(A76,3) -> 東大和 | C76: =A76 -> 東大和市 | D76: 北多摩 | E76: 北多摩農業改良普及センター
A77: 清瀬市 | B77: =LEFT(A77,3) -> 清瀬市 | C77: =A77 -> 清瀬市 | D77: 北多摩 | E77: 北多摩農業改良普及センター
A78: 東久留米市 | B78: =LEFT(A78,3) -> 東久留 | C78: =A78 -> 東久留米市 | D78: 北多摩 | E78: 北多摩農業改良普及センター
A79: 武蔵村山市 | B79: =LEFT(A79,3) -> 武蔵村 | C79: =A79 -> 武蔵村山市 | D79: 北多摩 | E79: 北多摩農業改良普及センター
A80: 西東京市 | B80: =LEFT(A80,3) -> 西東京 | C80: =A80 -> 西東京市 | D80: 北多摩 | E80: 北多摩農業改良普及センター
A81: 八王子市 | B81: =LEFT(A81,3) -> 八王子 | C81: =A81 -> 八王子市 | D81: 南多摩 | E81: 南多摩農業改良普及センター
A82: 町田市 | B82: =LEFT(A82,3) -> 町田市 | C82: =A82 -> 町田市 | D82: 南多摩 | E82: 南多摩農業改良普及センター
A83: 日野市 | B83: =LEFT(A83,3) -> 日野市 | C83: =A83 -> 日野市 | D83: 南多摩 | E83: 南多摩農業改良普及センター
A84: 多摩市 | B84: =LEFT(A84,3) -> 多摩市 | C84: =A84 -> 多摩市 | D84: 南多摩 | E84: 南多摩農業改良普及センター
A85: 稲城市 | B85: =LEFT(A85,3) -> 稲城市 | C85: =A85 -> 稲城市 | D85: 南多摩 | E85: 南多摩農業改良普及センター
A86: 青梅市 | B86: =LEFT(A86,3) -> 青梅市 | C86: =A86 -> 青梅市 | D86: 西多摩 | E86: 西多摩農業改良普及センター
... A88: 羽村市 | B88: =LEFT(A88,3) -> 羽村市 | C88: =A88 -> 羽村市 | D88: 西多摩 | E88: 西多摩農業改良普及センター
A89: あきる野市 | B89: =LEFT(A89,3) -> あきる | C89: 西多摩郡あきる野市 | D89: 西多摩 | E89: 西多摩農業改良普及センター
A90: 瑞穂町 | B90: =LEFT(A90,3) -> 瑞穂町 | C90: 西多摩郡瑞穂町 | D90: 西多摩 | E90: 西多摩農業改良普及センター
A91: 日の出町 | B91: =LEFT(A91,3) -> 日の出 | C91: 西多摩郡日の出町 | D91: 西多摩 | E91: 西多摩農業改良普及センター
A92: 奥多摩町 | B92: =LEFT(A92,3) -> 奥多摩 | C92: 西多摩郡奥多摩町 | D92: 西多摩 | E92: 西多摩農業改良普及センター
A93: 檜原村 | B93: =LEFT(A93,3) -> 檜原村 | C93: 西多摩郡檜原村 | D93: 西多摩 | E93: 西多摩農業改良普及センター
A94: 西多摩郡 | B94: =LEFT(A94,3) -> 西多摩 | C94: =A94 -> 西多摩郡 | D94: 西多摩 | E94: 西多摩農業改良普及センター
A95: 大島町 | B95: =LEFT(A95,3) -> 大島町 | C95: =A95 -> 大島町 | D95: 島しょ | E95: 大島支庁産業課
A96: 利島村 | B96: =LEFT(A96,3) -> 利島村 | C96: =A96 -> 利島村 | D96: 島しょ | E96: 大島支庁産業課
A97: 新島村 | B97: =LEFT(A97,3) -> 新島村 | C97: =A97 -> 新島村 | D97: 島しょ | E97: 大島支庁産業課
A98: 神津島 | B98: =LEFT(A98,3) -> 神津島 | C98: =A98 -> 神津島 | D98: 島しょ | E98: 大島支庁産業課
A99: 三宅村 | B99: =LEFT(A99,3) -> 三宅村 | C99: =A99 -> 三宅村 | D99: 島しょ | E99: 三宅支庁産業課
A100: 御蔵島村 | B100: =LEFT(A100,3) -> 御蔵島 | C100: =A100 -> 御蔵島村 | D100: 島しょ | E100: 三宅支庁産業課
A101: 八丈町 | B101: =LEFT(A101,3) -> 八丈町 | C101: =A101 -> 八丈町 | D101: 島しょ | E101: 八丈支庁産業課
A102: 青ヶ島村 | B102: =LEFT(A102,3) -> 青ヶ島 | C102: =A102 -> 青ヶ島村 | D102: 島しょ | E102: 八丈支庁産業課
A103: 小笠原村 | B103: =LEFT(A103,3) -> 小笠原 | C103: =A103 -> 小笠原村 | D103: 島しょ | E103: 小笠原支庁産業課

Sheet 栽培実績表
B1: 別記様式第５号
C3: 年分 東京都エコ農産物認証実績報告書
H5: 令和 年 月 日
B7: 東京都知事 殿
B9: 東京都エコ農産物認証要綱第９の規定に基づき、次のとおり栽培実績を報告します。
B14: 各年度の実績表にコピーして値付けしてください. | E14: 氏名 | I14: 色付きセルは重複品目、栽培場所・時期
E16: 認証番号
J17: 養液栽培
B18: 農産物名 | C18: 認証区分 | D18: 作付面積（a） | F18: 東京都エコ農産物の出荷量（㎏） | G18: うちマークを付した農産物の出荷量（㎏） | H18: 備考 | J18: 農産物名 | K18: 認証区分 | L18: 作付面積（a） | N18: 東京都エコ農産物の出荷量（㎏） | O18: うちマークを付した農産物の出荷量（㎏） | P18: 備考
C19: 削減割合 | D19: 計画 | E19: 実績 | K19: 削減割合 | L19: 計画 | M19: 実績
A20: 1 | B20: =' 【申請用】栽培計画書'!$A$10&' 【申請用】栽培計画書'!$C$10 | C20: =(IF(' 【申請用】栽培計画書'!$B$10="","",IF(' 【申請用】栽培計画書'!$B$10=$J$29,$K$29,IF(' 【申請用】栽培計画書'!$B$10=$J$30,$K$30,$K$31)))) | D20: =' 【申請用】栽培計画書'!$D$10 | I20: 1 | J20: ='【申請用】栽培計画書（養液栽培）'!$A$10&'【申請用】栽培計画書（養液栽培）'!$C$10 | K20: =(IF('【申請用】栽培計画書（養液栽培）'!$B$10="","",IF('【申請用】栽培計画書（養液栽培）'!$B$10=$J$29,$K$29,$K$30))) | L20: ='【申請用】栽培計画書（養液栽培）'!$D$10
A21: 2 | B21: =' 【申請用】栽培計画書'!$A$17&' 【申請用】栽培計画書'!$C$17 | C21: =(IF(' 【申請用】栽培計画書'!$B$17="","",IF(' 【申請用】栽培計画書'!$B$17=$J$29,$K$29,IF(' 【申請用】栽培計画書'!$B$17=$J$30,$K$30,$K$31)))) | D21: =' 【申請用】栽培計画書'!$D$17 | I21: 2 | J21: ='【申請用】栽培計画書（養液栽培）'!$A$17&'【申請用】栽培計画書（養液栽培）'!$C$17 | K21: =(IF('【申請用】栽培計画書（養液栽培）'!$B$17="","",IF('【申請用】栽培計画書（養液栽培）'!$B$17=$J$29,$K$29,$K$30))) | L21: ='【申請用】栽培計画書（養液栽培）'!$D$17
A22: 3 | B22: =' 【申請用】栽培計画書'!$A$24&' 【申請用】栽培計画書'!$C$24 | C22: =(IF(' 【申請用】栽培計画書'!$B$24="","",IF(' 【申請用】栽培計画書'!$B$24=$J$29,$K$29,IF(' 【申請用】栽培計画書'!$B$24=$J$30,$K$30,$K$31)))) | D22: =' 【申請用】栽培計画書'!$D$24 | I22: 3 | J22: ='【申請用】栽培計画書（養液栽培）'!$A$24&'【申請用】栽培計画書（養液栽培）'!$C$24 | K22: =(IF('【申請用】栽培計画書（養液栽培）'!$B$24="","",IF('【申請用】栽培計画書（養液栽培）'!$B$24=$J$29,$K$29,$K$30))) | L22: ='【申請用】栽培計画書（養液栽培）'!$D$24
A23: 4 | B23: =' 【申請用】栽培計画書'!$A$31&' 【申請用】栽培計画書'!$C$31 | C23: =(IF(' 【申請用】栽培計画書'!$B$31="","",IF(' 【申請用】栽培計画書'!$B$31=$J$29,$K$29,IF(' 【申請用】栽培計画書'!$B$31=$J$30,$K$30,$K$31)))) | D23: =' 【申請用】栽培計画書'!$D$31 | I23: 4 | J23: ='【申請用】栽培計画書（養液栽培）'!$A$31&'【申請用】栽培計画書（養液栽培）'!$C$31 | K23: =(IF('【申請用】栽培計画書（養液栽培）'!$B$31="","",IF('【申請用】栽培計画書（養液栽培）'!$B$31=$J$29,$K$29,$K$30))) | L23: ='【申請用】栽培計画書（養液栽培）'!$D$31
A24: 5 | B24: =' 【申請用】栽培計画書'!$A$38&' 【申請用】栽培計画書'!$C$38 | C24: =(IF(' 【申請用】栽培計画書'!$B$38="","",IF(' 【申請用】栽培計画書'!$B$38=$J$29,$K$29,IF(' 【申請用】栽培計画書'!$B$38=$J$30,$K$30,$K$31)))) | D24: =' 【申請用】栽培計画書'!$D$38 | I24: 5 | J24: ='【申請用】栽培計画書（養液栽培）'!$A$38&'【申請用】栽培計画書（養液栽培）'!$C$38 | K24: =(IF('【申請用】栽培計画書（養液栽培）'!$B$38="","",IF('【申請用】栽培計画書（養液栽培）'!$B$38=$J$29,$K$29,$K$30))) | L24: ='【申請用】栽培計画書（養液栽培）'!$D$38
A25: 6 | B25: =' 【申請用】栽培計画書'!$A$57&' 【申請用】栽培計画書'!$C$57 | C25: =(IF(' 【申請用】栽培計画書'!$B$57="","",IF(' 【申請用】栽培計画書'!$B$57=$J$29,$K$29,IF(' 【申請用】栽培計画書'!$B$57=$J$30,$K$30,$K$31)))) | D25: =' 【申請用】栽培計画書'!$D$57 | J25: 計 | L25: =SUM(L20:L24) -> 0
A26: 7 | B26: =' 【申請用】栽培計画書'!$A$64&' 【申請用】栽培計画書'!$C$64 | C26: =(IF(' 【申請用】栽培計画書'!$B$64="","",IF(' 【申請用】栽培計画書'!$B$64=$J$29,$K$29,IF(' 【申請用】栽培計画書'!$B$64=$J$30,$K$30,$K$31)))) | D26: =' 【申請用】栽培計画書'!$D$64
A27: 8 | B27: =' 【申請用】栽培計画書'!$A$71&' 【申請用】栽培計画書'!$C$71 | C27: =(IF(' 【申請用】栽培計画書'!$B$71="","",IF(' 【申請用】栽培計画書'!$B$71=$J$29,$K$29,IF(' 【申請用】栽培計画書'!$B$71=$J$30,$K$30,$K$31)))) | D27: =' 【申請用】栽培計画書'!$D$71
A28: 9 | B28: =' 【申請用】栽培計画書'!$A$78&' 【申請用】栽培計画書'!$C$78 | C28: =(IF(' 【申請用】栽培計画書'!$B$78="","",IF(' 【申請用】栽培計画書'!$B$78=$J$29,$K$29,IF(' 【申請用】栽培計画書'!$B$78=$J$30,$K$30,$K$31)))) | D28: =' 【申請用】栽培計画書'!$D$78 | J28: 申請書 | K28: 実績表
A29: 10 | B29: =' 【申請用】栽培計画書'!$A$85&' 【申請用】栽培計画書'!$C$85 | C29: =(IF(' 【申請用】栽培計画書'!$B$85="","",IF(' 【申請用】栽培計画書'!$B$85=$J$29,$K$29,IF(' 【申請用】栽培計画書'!$B$85=$J$30,$K$30,$K$31)))) | D29: =' 【申請用】栽培計画書'!$D$85 | J29: ①エコ25 | K29: 東京エコ25
A30: 11 | B30: =' 【申請用】栽培計画書'!$A$104&' 【申請用】栽培計画書'!$C$104 | C30: =(IF(' 【申請用】栽培計画書'!$B$104="","",IF(' 【申請用】栽培計画書'!$B$104=$J$29,$K$29,IF(' 【申請用】栽培計画書'!$B$104=$J$30,$K$30,$K$31)))) | D30: =' 【申請用】栽培計画書'!$D$104 | J30: ②エコ50 | K30: 東京エコ50
A31: 12 | B31: =' 【申請用】栽培計画書'!$A$111&' 【申請用】栽培計画書'!$C$111 | C31: =(IF(' 【申請用】栽培計画書'!$B$111="","",IF(' 【申請用】栽培計画書'!$B$111=$J$29,$K$29,IF(' 【申請用】栽培計画書'!$B$111=$J$30,$K$30,$K$31)))) | D31: =' 【申請用】栽培計画書'!$D$111 | J31: ③エコ100 | K31: 東京エコ100
A32: 13 | B32: =' 【申請用】栽培計画書'!$A$118&' 【申請用】栽培計画書'!$C$118 | C32: =(IF(' 【申請用】栽培計画書'!$B$118="","",IF(' 【申請用】栽培計画書'!$B$118=$J$29,$K$29,IF(' 【申請用】栽培計画書'!$B$118=$J$30,$K$30,$K$31)))) | D32: =' 【申請用】栽培計画書'!$D$118
A33: 14 | B33: =' 【申請用】栽培計画書'!$A$125&' 【申請用】栽培計画書'!$C$125 | C33: =(IF(' 【申請用】栽培計画書'!$B$125="","",IF(' 【申請用】栽培計画書'!$B$125=$J$29,$K$29,IF(' 【申請用】栽培計画書'!$B$125=$J$30,$K$30,$K$31)))) | D33: =' 【申請用】栽培計画書'!$D$125
A34: 15 | B34: =' 【申請用】栽培計画書'!$A$132&' 【申請用】栽培計画書'!$C$132 | C34: =(IF(' 【申請用】栽培計画書'!$B$132="","",IF(' 【申請用】栽培計画書'!$B$132=$J$29,$K$29,IF(' 【申請用】栽培計画書'!$B$132=$J$30,$K$30,$K$31)))) | D34: =' 【申請用】栽培計画書'!$D$132
A35: 16 | B35: =' 【申請用】栽培計画書'!$A$151&' 【申請用】栽培計画書'!$C$151 | C35: =(IF(' 【申請用】栽培計画書'!$B$151="","",IF(' 【申請用】栽培計画書'!$B$151=$J$29,$K$29,IF(' 【申請用】栽培計画書'!$B$151=$J$30,$K$30,$K$31)))) | D35: =' 【申請用】栽培計画書'!$D$151
A36: 17 | B36: =' 【申請用】栽培計画書'!$A$158&' 【申請用】栽培計画書'!$C$158 | C36: =(IF(' 【申請用】栽培計画書'!$B$158="","",IF(' 【申請用】栽培計画書'!$B$158=$J$29,$K$29,IF(' 【申請用】栽培計画書'!$B$158=$J$30,$K$30,$K$31)))) | D36: =' 【申請用】栽培計画書'!$D$158
A37: 18 | B37: =' 【申請用】栽培計画書'!$A$165&' 【申請用】栽培計画書'!$C$165 | C37: =(IF(' 【申請用】栽培計画書'!$B$165="","",IF(' 【申請用】栽培計画書'!$B$165=$J$29,$K$29,IF(' 【申請用】栽培計画書'!$B$165=$J$30,$K$30,$K$31)))) | D37: =' 【申請用】栽培計画書'!$D$165
A38: 19 | B38: =' 【申請用】栽培計画書'!$A$172&' 【申請用】栽培計画書'!$C$172 | C38: =(IF(' 【申請用】栽培計画書'!$B$172="","",IF(' 【申請用】栽培計画書'!$B$172=$J$29,$K$29,IF(' 【申請用】栽培計画書'!$B$172=$J$30,$K$30,$K$31)))) | D38: =' 【申請用】栽培計画書'!$D$172
A39: 20 | B39: =' 【申請用】栽培計画書'!$A$179&' 【申請用】栽培計画書'!$C$179 | C39: =(IF(' 【申請用】栽培計画書'!$B$179="","",IF(' 【申請用】栽培計画書'!$B$179=$J$29,$K$29,IF(' 【申請用】栽培計画書'!$B$179=$J$30,$K$30,$K$31)))) | D39: =' 【申請用】栽培計画書'!$D$179
A40: 21 | B40: =' 【申請用】栽培計画書'!$A$198&' 【申請用】栽培計画書'!$C$198 | C40: =(IF(' 【申請用】栽培計画書'!$B$198="","",IF(' 【申請用】栽培計画書'!$B$198=$J$29,$K$29,IF(' 【申請用】栽培計画書'!$B$198=$J$30,$K$30,$K$31)))) | D40: =' 【申請用】栽培計画書'!$D$198
A41: 22 | B41: =' 【申請用】栽培計画書'!$A$205&' 【申請用】栽培計画書'!$C$205 | C41: =(IF(' 【申請用】栽培計画書'!$B$205="","",IF(' 【申請用】栽培計画書'!$B$205=$J$29,$K$29,IF(' 【申請用】栽培計画書'!$B$205=$J$30,$K$30,$K$31)))) | D41: =' 【申請用】栽培計画書'!$D$205
A42: 23 | B42: =' 【申請用】栽培計画書'!$A$212&' 【申請用】栽培計画書'!$C$212 | C42: =(IF(' 【申請用】栽培計画書'!$B$212="","",IF(' 【申請用】栽培計画書'!$B$212=$J$29,$K$29,IF(' 【申請用】栽培計画書'!$B$212=$J$30,$K$30,$K$31)))) | D42: =' 【申請用】栽培計画書'!$D$212
A43: 24 | B43: =' 【申請用】栽培計画書'!$A$219&' 【申請用】栽培計画書'!$C$219 | C43: =(IF(' 【申請用】栽培計画書'!$B$219="","",IF(' 【申請用】栽培計画書'!$B$219=$J$29,$K$29,IF(' 【申請用】栽培計画書'!$B$219=$J$30,$K$30,$K$31)))) | D43: =' 【申請用】栽培計画書'!$D$219
A44: 25 | B44: =' 【申請用】栽培計画書'!$A$226&' 【申請用】栽培計画書'!$C$226 | C44: =(IF(' 【申請用】栽培計画書'!$B$226="","",IF(' 【申請用】栽培計画書'!$B$226=$J$29,$K$29,IF(' 【申請用】栽培計画書'!$B$226=$J$30,$K$30,$K$31)))) | D44: =' 【申請用】栽培計画書'!$D$226
A45: 26 | B45: =' 【申請用】栽培計画書'!$A$245&' 【申請用】栽培計画書'!$C$245 | C45: =(IF(' 【申請用】栽培計画書'!$B$245="","",IF(' 【申請用】栽培計画書'!$B$245=$J$29,$K$29,IF(' 【申請用】栽培計画書'!$B$245=$J$30,$K$30,$K$31)))) | D45: =' 【申請用】栽培計画書'!$D$245
A46: 27 | B46: =' 【申請用】栽培計画書'!$A$252&' 【申請用】栽培計画書'!$C$252 | C46: =(IF(' 【申請用】栽培計画書'!$B$252="","",IF(' 【申請用】栽培計画書'!$B$252=$J$29,$K$29,IF(' 【申請用】栽培計画書'!$B$252=$J$30,$K$30,$K$31)))) | D46: =' 【申請用】栽培計画書'!$D$252
A47: 28 | B47: =' 【申請用】栽培計画書'!$A$259&' 【申請用】栽培計画書'!$C$259 | C47: =(IF(' 【申請用】栽培計画書'!$B$259="","",IF(' 【申請用】栽培計画書'!$B$259=$J$29,$K$29,IF(' 【申請用】栽培計画書'!$B$259=$J$30,$K$30,$K$31)))) | D47: =' 【申請用】栽培計画書'!$D$259
A48: 29 | B48: =' 【申請用】栽培計画書'!$A$266&' 【申請用】栽培計画書'!$C$266 | C48: =(IF(' 【申請用】栽培計画書'!$B$266="","",IF(' 【申請用】栽培計画書'!$B$266=$J$29,$K$29,IF(' 【申請用】栽培計画書'!$B$266=$J$30,$K$30,$K$31)))) | D48: =' 【申請用】栽培計画書'!$D$266
A49: 30 | B49: =' 【申請用】栽培計画書'!$A$273&' 【申請用】栽培計画書'!$C$273 | C49: =(IF(' 【申請用】栽培計画書'!$B$273="","",IF(' 【申請用】栽培計画書'!$B$273=$J$29,$K$29,IF(' 【申請用】栽培計画書'!$B$273=$J$30,$K$30,$K$31)))) | D49: =' 【申請用】栽培計画書'!$D$273
A50: 31 | B50: =' 【申請用】栽培計画書'!$A$291&' 【申請用】栽培計画書'!$C$291 | C50: =(IF(' 【申請用】栽培計画書'!$B$291="","",IF(' 【申請用】栽培計画書'!$B$291=$J$29,$K$29,IF(' 【申請用】栽培計画書'!$B$291=$J$30,$K$30,$K$31)))) | D50: =' 【申請用】栽培計画書'!$D$291
A51: 32 | B51: =' 【申請用】栽培計画書'!$A$298&' 【申請用】栽培計画書'!$C$298 | C51: =(IF(' 【申請用】栽培計画書'!$B$298="","",IF(' 【申請用】栽培計画書'!$B$298=$J$29,$K$29,IF(' 【申請用】栽培計画書'!$B$298=$J$30,$K$30,$K$31)))) | D51: =' 【申請用】栽培計画書'!$D$298
A52: 33 | B52: =' 【申請用】栽培計画書'!$A$305&' 【申請用】栽培計画書'!$C$305 | C52: =(IF(' 【申請用】栽培計画書'!$B$305="","",IF(' 【申請用】栽培計画書'!$B$305=$J$29,$K$29,IF(' 【申請用】栽培計画書'!$B$305=$J$30,$K$30,$K$31)))) | D52: =' 【申請用】栽培計画書'!$D$305
A53: 34 | B53: =' 【申請用】栽培計画書'!$A$312&' 【申請用】栽培計画書'!$C$312 | C53: =(IF(' 【申請用】栽培計画書'!$B$312="","",IF(' 【申請用】栽培計画書'!$B$312=$J$29,$K$29,IF(' 【申請用】栽培計画書'!$B$312=$J$30,$K$30,$K$31)))) | D53: =' 【申請用】栽培計画書'!$D$312
A54: 35 | B54: =' 【申請用】栽培計画書'!$A$319&' 【申請用】栽培計画書'!$C$319 | C54: =(IF(' 【申請用】栽培計画書'!$B$319="","",IF(' 【申請用】栽培計画書'!$B$319=$J$29,$K$29,IF(' 【申請用】栽培計画書'!$B$319=$J$30,$K$30,$K$31)))) | D54: =' 【申請用】栽培計画書'!$D$319
A55: 36 | B55: =' 【申請用】栽培計画書'!$A$338&' 【申請用】栽培計画書'!$C$338 | C55: =(IF(' 【申請用】栽培計画書'!$B$338="","",IF(' 【申請用】栽培計画書'!$B$338=$J$29,$K$29,IF(' 【申請用】栽培計画書'!$B$338=$J$30,$K$30,$K$31)))) | D55: =' 【申請用】栽培計画書'!$D$338
A56: 37 | B56: =' 【申請用】栽培計画書'!$A$345&' 【申請用】栽培計画書'!$C$345 | C56: =(IF(' 【申請用】栽培計画書'!$B$345="","",IF(' 【申請用】栽培計画書'!$B$345=$J$29,$K$29,IF(' 【申請用】栽培計画書'!$B$345=$J$30,$K$30,$K$31)))) | D56: =' 【申請用】栽培計画書'!$D$345
A57: 38 | B57: =' 【申請用】栽培計画書'!$A$352&' 【申請用】栽培計画書'!$C$352 | C57: =(IF(' 【申請用】栽培計画書'!$B$352="","",IF(' 【申請用】栽培計画書'!$B$352=$J$29,$K$29,IF(' 【申請用】栽培計画書'!$B$352=$J$30,$K$30,$K$31)))) | D57: =' 【申請用】栽培計画書'!$D$352
A58: 39 | B58: =' 【申請用】栽培計画書'!$A$359&' 【申請用】栽培計画書'!$C$359 | C58: =(IF(' 【申請用】栽培計画書'!$B$359="","",IF(' 【申請用】栽培計画書'!$B$359=$J$29,$K$29,IF(' 【申請用】栽培計画書'!$B$359=$J$30,$K$30,$K$31)))) | D58: =' 【申請用】栽培計画書'!$D$359
A59: 40 | B59: =' 【申請用】栽培計画書'!$A$366&' 【申請用】栽培計画書'!$C$366 | C59: =(IF(' 【申請用】栽培計画書'!$B$366="","",IF(' 【申請用】栽培計画書'!$B$366=$J$29,$K$29,IF(' 【申請用】栽培計画書'!$B$366=$J$30,$K$30,$K$31)))) | D59: =' 【申請用】栽培計画書'!$D$366
A60: 41 | B60: =' 【申請用】栽培計画書'!$A$384&' 【申請用】栽培計画書'!$C$384 | C60: =(IF(' 【申請用】栽培計画書'!$B$384="","",IF(' 【申請用】栽培計画書'!$B$384=$J$29,$K$29,IF(' 【申請用】栽培計画書'!$B$384=$J$30,$K$30,$K$31)))) | D60: =' 【申請用】栽培計画書'!$D$384
A61: 42 | B61: =' 【申請用】栽培計画書'!$A$391&' 【申請用】栽培計画書'!$C$391 | C61: =(IF(' 【申請用】栽培計画書'!$B$391="","",IF(' 【申請用】栽培計画書'!$B$391=$J$29,$K$29,IF(' 【申請用】栽培計画書'!$B$391=$J$30,$K$30,$K$31)))) | D61: =' 【申請用】栽培計画書'!$D$391
A62: 43 | B62: =' 【申請用】栽培計画書'!$A$398&' 【申請用】栽培計画書'!$C$398 | C62: =(IF(' 【申請用】栽培計画書'!$B$398="","",IF(' 【申請用】栽培計画書'!$B$398=$J$29,$K$29,IF(' 【申請用】栽培計画書'!$B$398=$J$30,$K$30,$K$31)))) | D62: =' 【申請用】栽培計画書'!$D$398
A63: 44 | B63: =' 【申請用】栽培計画書'!$A$405&' 【申請用】栽培計画書'!$C$405 | C63: =(IF(' 【申請用】栽培計画書'!$B$405="","",IF(' 【申請用】栽培計画書'!$B$405=$J$29,$K$29,IF(' 【申請用】栽培計画書'!$B$405=$J$30,$K$30,$K$31)))) | D63: =' 【申請用】栽培計画書'!$D$405
A64: 45 | B64: =' 【申請用】栽培計画書'!$A$412&' 【申請用】栽培計画書'!$C$412 | C64: =(IF(' 【申請用】栽培計画書'!$B$412="","",IF(' 【申請用】栽培計画書'!$B$412=$J$29,$K$29,IF(' 【申請用】栽培計画書'!$B$412=$J$30,$K$30,$K$31)))) | D64: =' 【申請用】栽培計画書'!$D$412
A65: 46 | B65: =' 【申請用】栽培計画書'!$A$431&' 【申請用】栽培計画書'!$C$431 | C65: =(IF(' 【申請用】栽培計画書'!$B$431="","",IF(' 【申請用】栽培計画書'!$B$431=$J$29,$K$29,IF(' 【申請用】栽培計画書'!$B$431=$J$30,$K$30,$K$31)))) | D65: =' 【申請用】栽培計画書'!$D$431
A66: 47 | B66: =' 【申請用】栽培計画書'!$A$438&' 【申請用】栽培計画書'!$C$438 | C66: =(IF(' 【申請用】栽培計画書'!$B$438="","",IF(' 【申請用】栽培計画書'!$B$438=$J$29,$K$29,IF(' 【申請用】栽培計画書'!$B$438=$J$30,$K$30,$K$31)))) | D66: =' 【申請用】栽培計画書'!$D$438
A67: 48 | B67: =' 【申請用】栽培計画書'!$A$445&' 【申請用】栽培計画書'!$C$445 | C67: =(IF(' 【申請用】栽培計画書'!$B$445="","",IF(' 【申請用】栽培計画書'!$B$445=$J$29,$K$29,IF(' 【申請用】栽培計画書'!$B$445=$J$30,$K$30,$K$31)))) | D67: =' 【申請用】栽培計画書'!$D$445
A68: 49 | B68: =' 【申請用】栽培計画書'!$A$452&' 【申請用】栽培計画書'!$C$452 | C68: =(IF(' 【申請用】栽培計画書'!$B$452="","",IF(' 【申請用】栽培計画書'!$B$452=$J$29,$K$29,IF(' 【申請用】栽培計画書'!$B$452=$J$30,$K$30,$K$31)))) | D68: =' 【申請用】栽培計画書'!$D$452
A69: 50 | B69: =' 【申請用】栽培計画書'!$A$459&' 【申請用】栽培計画書'!$C$459 | C69: =(IF(' 【申請用】栽培計画書'!$B$459="","",IF(' 【申請用】栽培計画書'!$B$459=$J$29,$K$29,IF(' 【申請用】栽培計画書'!$B$459=$J$30,$K$30,$K$31)))) | D69: =' 【申請用】栽培計画書'!$D$459
A70: 51 | B70: =' 【申請用】栽培計画書'!$A$477&' 【申請用】栽培計画書'!$C$477 | C70: =(IF(' 【申請用】栽培計画書'!$B$477="","",IF(' 【申請用】栽培計画書'!$B$477=$J$29,$K$29,IF(' 【申請用】栽培計画書'!$B$477=$J$30,$K$30,$K$31)))) | D70: =' 【申請用】栽培計画書'!$D$477
A71: 52 | B71: =' 【申請用】栽培計画書'!$A$484&' 【申請用】栽培計画書'!$C$484 | C71: =(IF(' 【申請用】栽培計画書'!$B$484="","",IF(' 【申請用】栽培計画書'!$B$484=$J$29,$K$29,IF(' 【申請用】栽培計画書'!$B$484=$J$30,$K$30,$K$31)))) | D71: =' 【申請用】栽培計画書'!$D$484
A72: 53 | B72: =' 【申請用】栽培計画書'!$A$491&' 【申請用】栽培計画書'!$C$491 | C72: =(IF(' 【申請用】栽培計画書'!$B$491="","",IF(' 【申請用】栽培計画書'!$B$491=$J$29,$K$29,IF(' 【申請用】栽培計画書'!$B$491=$J$30,$K$30,$K$31)))) | D72: =' 【申請用】栽培計画書'!$D$491
A73: 54 | B73: =' 【申請用】栽培計画書'!$A$498&' 【申請用】栽培計画書'!$C$498 | C73: =(IF(' 【申請用】栽培計画書'!$B$498="","",IF(' 【申請用】栽培計画書'!$B$498=$J$29,$K$29,IF(' 【申請用】栽培計画書'!$B$498=$J$30,$K$30,$K$31)))) | D73: =' 【申請用】栽培計画書'!$D$498
A74: 55 | B74: =' 【申請用】栽培計画書'!$A$505&' 【申請用】栽培計画書'!$C$505 | C74: =(IF(' 【申請用】栽培計画書'!$B$505="","",IF(' 【申請用】栽培計画書'!$B$505=$J$29,$K$29,IF(' 【申請用】栽培計画書'!$B$505=$J$30,$K$30,$K$31)))) | D74: =' 【申請用】栽培計画書'!$D$505
A75: 56 | B75: =' 【申請用】栽培計画書'!$A$524&' 【申請用】栽培計画書'!$C$524 | C75: =(IF(' 【申請用】栽培計画書'!$B$524="","",IF(' 【申請用】栽培計画書'!$B$524=$J$29,$K$29,IF(' 【申請用】栽培計画書'!$B$524=$J$30,$K$30,$K$31)))) | D75: =' 【申請用】栽培計画書'!$D$524
A76: 57 | B76: =' 【申請用】栽培計画書'!$A$531&' 【申請用】栽培計画書'!$C$531 | C76: =(IF(' 【申請用】栽培計画書'!$B$531="","",IF(' 【申請用】栽培計画書'!$B$531=$J$29,$K$29,IF(' 【申請用】栽培計画書'!$B$531=$J$30,$K$30,$K$31)))) | D76: =' 【申請用】栽培計画書'!$D$531
A77: 58 | B77: =' 【申請用】栽培計画書'!$A$538&' 【申請用】栽培計画書'!$C$538 | C77: =(IF(' 【申請用】栽培計画書'!$B$538="","",IF(' 【申請用】栽培計画書'!$B$538=$J$29,$K$29,IF(' 【申請用】栽培計画書'!$B$538=$J$30,$K$30,$K$31)))) | D77: =' 【申請用】栽培計画書'!$D$538
A78: 59 | B78: =' 【申請用】栽培計画書'!$A$545&' 【申請用】栽培計画書'!$C$545 | C78: =(IF(' 【申請用】栽培計画書'!$B$545="","",IF(' 【申請用】栽培計画書'!$B$545=$J$29,$K$29,IF(' 【申請用】栽培計画書'!$B$545=$J$30,$K$30,$K$31)))) | D78: =' 【申請用】栽培計画書'!$D$545
A79: 60 | B79: =' 【申請用】栽培計画書'!$A$552&' 【申請用】栽培計画書'!$C$552 | C79: =(IF(' 【申請用】栽培計画書'!$B$552="","",IF(' 【申請用】栽培計画書'!$B$552=$J$29,$K$29,IF(' 【申請用】栽培計画書'!$B$552=$J$30,$K$30,$K$31)))) | D79: =' 【申請用】栽培計画書'!$D$552
A80: 61 | C80: =(IF(' 【申請用】栽培計画書'!$B$10="","",IF(' 【申請用】栽培計画書'!$B$10=J89,K89,IF(' 【申請用】栽培計画書'!$B$10=J90,K90,K91))))
A81: 62 | C81: =(IF(' 【申請用】栽培計画書'!$B$10="","",IF(' 【申請用】栽培計画書'!$B$10=J90,K90,IF(' 【申請用】栽培計画書'!$B$10=J91,K91,K92))))
A82: 63 | C82: =(IF(' 【申請用】栽培計画書'!$B$10="","",IF(' 【申請用】栽培計画書'!$B$10=J91,K91,IF(' 【申請用】栽培計画書'!$B$10=J92,K92,K93))))
A83: 64 | C83: =(IF(' 【申請用】栽培計画書'!$B$10="","",IF(' 【申請用】栽培計画書'!$B$10=J92,K92,IF(' 【申請用】栽培計画書'!$B$10=J93,K93,K94))))
A84: 65 | C84: =(IF(' 【申請用】栽培計画書'!$B$10="","",IF(' 【申請用】栽培計画書'!$B$10=J93,K93,IF(' 【申請用】栽培計画書'!$B$10=J94,K94,K95))))
A85: 66 | C85: =(IF(' 【申請用】栽培計画書'!$B$10="","",IF(' 【申請用】栽培計画書'!$B$10=J94,K94,IF(' 【申請用】栽培計画書'!$B$10=J95,K95,K96))))
A86: 67 | C86: =(IF(' 【申請用】栽培計画書'!$B$10="","",IF(' 【申請用】栽培計画書'!$B$10=J95,K95,IF(' 【申請用】栽培計画書'!$B$10=J96,K96,K97))))
A87: 68 | C87: =(IF(' 【申請用】栽培計画書'!$B$10="","",IF(' 【申請用】栽培計画書'!$B$10=J96,K96,IF(' 【申請用】栽培計画書'!$B$10=J97,K97,K98))))
A88: 69 | C88: =(IF(' 【申請用】栽培計画書'!$B$10="","",IF(' 【申請用】栽培計画書'!$B$10=J97,K97,IF(' 【申請用】栽培計画書'!$B$10=J98,K98,K99))))
A89: 70 | C89: =(IF(' 【申請用】栽培計画書'!$B$10="","",IF(' 【申請用】栽培計画書'!$B$10=J98,K98,IF(' 【申請用】栽培計画書'!$B$10=J99,K99,K100))))
A90: 71 | C90: =(IF(' 【申請用】栽培計画書'!$B$10="","",IF(' 【申請用】栽培計画書'!$B$10=J99,K99,IF(' 【申請用】栽培計画書'!$B$10=J100,K100,K101))))
A91: 72 | C91: =(IF(' 【申請用】栽培計画書'!$B$10="","",IF(' 【申請用】栽培計画書'!$B$10=J100,K100,IF(' 【申請用】栽培計画書'!$B$10=J101,K101,K102))))
... A124: 105 | C124: =(IF(' 【申請用】栽培計画書'!$B$10="","",IF(' 【申請用】栽培計画書'!$B$10=J133,K133,IF(' 【申請用】栽培計画書'!$B$10=J134,K134,K135))))
B125: 計 | D125: =SUM(D20:D124) -> 0

Sheet 集計（エクセル用）
F1: ↓更新申請の場合は、この集計表からコピペする前に、認証開始年月日をエクセルのデータベースから転記しておくこと | V1: ↓（青文字部分）更新申請の場合は、この集計表からコピペする前にエクセルのデータベースを見て、何か記載があれば転記しておく | CN1: ↓（備考欄）更新申請の場合は、この集計表からコピペする前にエクセルのデータベースを見て、何か記載があれば転記する | CV1: ↓希望票から転記する | DV1: ↓5項目以降は手入力
A2: 認証番号 | B2: ※ | C2: 屋号 | D2: 氏名 | E2: 認証あり（ＴＲＵＥ） 認証なし（ＦＡＬＳＥ） | F2: 認証開始年月日 | G2: 認証終了年月日 | H2: 申請年月日 | I2: 氏名ふりがな | J2: 共同申請者氏名 | K2: 共同申請者ふりがな | L2: 郵便番号 | M2: 住所区市町村 | N2: 住所区市町村以下 | O2: 連絡先電話番号１ | P2: 連絡先電話番号２ | Q2: メールアドレス | R2: 団体名１ | S2: 団体名２ | T2: 団体名３ | U2: 代表者名 | V2: 連絡担当者 | W2: 連絡用電話番号 | X2: 書類送付先郵便番号 | Y2: 書類送付先住所 | Z2: 特記事項 | AA2: 備考 | AB2: 連絡方法 郵送 | AC2: 連絡方法 メール | AD2: 販売場所 | AE2: 生産ほ場数 | AF2: 生産ほ場1 | AG2: 1面積(a) | AH2: 1うち施設面積(a) | AI2: 生産ほ場2 | AJ2: 2面積(a) | AK2: 2うち施設面積(a) | AL2: 生産ほ場3 | AM2: 3面積(a) | AN2: 3うち施設面積(a) | AO2: 生産ほ場4 | AP2: 4面積(a) | AQ2: 4うち施設面積(a) | AR2: 生産ほ場5 | AS2: 5面積(a) | AT2: 5うち施設面積(a) | AU2: 生産ほ場6 | AV2: 6面積(a) | AW2: 6うち施設面積(a) | AX2: 生産ほ場7 | AY2: 7面積(a) | AZ2: 7うち施設面積(a) | BA2: 生産ほ場8 | BB2: 8面積(a) | BC2: 8うち施設面積(a) | BD2: 生産ほ場9 | BE2: 9面積(a) | BF2: 9うち施設面積(a) | BG2: 生産ほ場10 | BH2: 10面積(a) | BI2: 10うち施設面積(a) | BJ2: 生産ほ場11 | BK2: 11面積(a) | BL2: 11うち施設面積(a) | BM2: 生産ほ場12 | BN2: 12面積(a) | BO2: 12うち施設面積(a) | BP2: 生産ほ場13 | BQ2: 13面積(a) | BR2: 13うち施設面積(a) | BS2: 生産ほ場14 | BT2: 14面積(a) | BU2: 14うち施設面積(a) | BV2: 生産ほ場15 | BW2: 15面積(a) | BX2: 15うち施設面積(a) | BY2: 生産ほ場16 | BZ2: 16面積(a) | CA2: 16うち施設面積(a) | CB2: 生産ほ場17 | CC2: 17面積(a) | CD2: 17うち施設面積(a) | CE2: 東京エコ25 | CF2: 東京エコ50 | CG2: 東京エコ100 | CH2: 25認証農産物品目数 | CI2: 50認証農産物品目数 | CJ2: 100認証農産物品目数 | CK2: 25作付面積合計(a) | CL2: 50作付面積合計(a) | CM2: 100作付面積合計(a) | CN2: 備考 | CO2: JA名等 | CP2: 東京エコ25（作型入） | CQ2: 東京エコ50（作型入） | CR2: 東京エコ100（作型入） | CS2: 25作型数 | CT2: 50作型数 | CU2: 100作型数 | CV2: 2025PR集 | CW2: 公開希望 | CX2: 住所 | CY2: 電話番号 | CZ2: Ｅﾒｰﾙｱﾄﾞﾚｽ | DA2: HPアドレス | DB2: 認証生産者メッセージ | DC2: 販売希望の有無 | DD2: とうきょう特産食材使用店 | DE2: 飲食店 | DF2: 生協 | DG2: 量販店 | DH2: 市場 | DI2: その他 | DJ2: 1農産物名 | DK2: 取引希望時期 | DL2: 取引希望数量 | DM2: 2農産物名 | DN2: 取引希望時期 | DO2: 取引希望数量 | DP2: 3農産物名 | DQ2: 取引希望時期 | DR2: 取引希望数量 | DS2: 4農産物名 | DT2: 取引希望時期 | DU2: 取引希望数量 | DV2: 5農産物名 | DW2: 取引希望時期 | DX2: 取引希望数量 | DY2: 6農産物名 | DZ2: 取引希望時期 | EA2: 取引希望数量 | EB2: 7農産物名 | EC2: 取引希望時期 | ED2: 取引希望数量 | EE2: 8農産物名 | EF2: 取引希望時期 | EG2: 取引希望数量 | EH2: 9農産物名 | EI2: 取引希望時期 | EJ2: 取引希望数量 | EK2: 10農産物名 | EL2: 取引希望時期 | EM2: 取引希望数量 | EN2: 11農産物名 | EO2: 取引希望時期 | EP2: 取引希望数量 | EQ2: 12農産物名 | ER2: 取引希望時期 | ES2: 取引希望数量 | ET2: 13農産物名 | EU2: 取引希望時期 | EV2: 取引希望数量 | EW2: 14農産物名 | EX2: 取引希望時期 | EY2: 取引希望数量 | EZ2: 15農産物名 | FA2: 取引希望時期 | FB2: 取引希望数量 | FC2: 16農産物名 | FD2: 取引希望時期 | FE2: 取引希望数量 | FF2: 17農産物名 | FG2: 取引希望時期 | FH2: 取引希望数量 | FI2: 18農産物名 | FJ2: 取引希望時期 | FK2: 取引希望数量 | FL2: 地域 | FM2: 25品目 | FN2: 50品目 | FO2: 100品目 | FP2: 25品目数 | FQ2: 50品目数 | FR2: 100品目数 | FS2: 品目数 計 | FT2: 25作型数 | FU2: 50作型数 | FV2: 100作型数 | FW2: 作型数計 | FY2: 生産ほ場1 | FZ2: 1面積(a) | GA2: 1うち施設面積(a) | GB2: 生産ほ場2 | GC2: 2面積(a) | GD2: 2うち施設面積(a) | GE2: 生産ほ場3 | GF2: 3面積(a) | GG2: 3うち施設面積(a) | GH2: 生産ほ場4 | GI2: 4面積(a) | GJ2: 4うち施設面積(a) | GK2: 生産ほ場5 | GL2: 5面積(a) | GM2: 5うち施設面積(a) | GN2: 生産ほ場6 | GO2: 6面積(a) | GP2: 6うち施設面積(a) | GQ2: 生産ほ場7 | GR2: 7面積(a) | GS2: 7うち施設面積(a) | GT2: 生産ほ場8 | GU2: 8面積(a) | GV2: 8うち施設面積(a) | GW2: 生産ほ場9 | GX2: 9面積(a) | GY2: 9うち施設面積(a) | GZ2: 生産ほ場10 | HA2: 10面積(a) | HB2: 10うち施設面積(a) | HC2: 生産ほ場11 | HD2: 11面積(a) | HE2: 11うち施設面積(a) | HF2: 生産ほ場12 | HG2: 12面積(a) | HH2: 12うち施設面積(a) | HI2: 生産ほ場13 | HJ2: 13面積(a) | HK2: 13うち施設面積(a) | HL2: 生産ほ場14 | HM2: 14面積(a) | HN2: 14うち施設面積(a) | HO2: 生産ほ場15 | HP2: 15面積(a) | HQ2: 15うち施設面積(a) | HR2: 生産ほ場16 | HS2: 16面積(a) | HT2: 16うち施設面積(a) | HU2: 生産ほ場17 | HV2: 17面積(a) | HW2: 17うち施設面積(a) | HX2: 圃場数 | HY2: 圃場面積計 | HZ2: 施設面積計 | IB2: 総計⇒ | IC2: 認証品目数 | ID2: 認証作型数 | IE2: 圃場数 | IF2: 圃場面積 | IH2: のべ栽培面積 | IJ2: 計
A3: ='申請書（別記様式第１号）'!$D$31 -> 0 | B3: =LEFT('申請書（別記様式第１号）'!$D$3,1) -> 新 | C3: ='申請書（別記様式第１号）'!$D$7 -> 0 | D3: ='申請書（別記様式第１号）'!$D$12 -> 0 | E3: TRUE | F3: =IF('申請書（別記様式第１号）'!$D$3="新規",'申請書（別記様式第１号）'!$C$38,"") -> 46388 | G3: ='申請書（別記様式第１号）'!$E$38 -> 48213 | H3: ='申請書（別記様式第１号）'!$F$4 -> 年 月 日 | I3: ='申請書（別記様式第１号）'!$D$11 -> 0 | J3: ='申請書（別記様式第１号）'!$D$21 | K3: ='申請書（別記様式第１号）'!$D$20 | L3: ='申請書（別記様式第１号）'!$E$14 -> 0 | M3: ='申請書（別記様式第１号）'!$E$15 -> （区市町村を選択） | N3: ='申請書（別記様式第１号）'!$D$16 -> 0 | O3: ='申請書（別記様式第１号）'!$D$24 -> 0 | Q3: ='申請書（別記様式第１号）'!$D$28 -> 0 | R3: ='申請書（別記様式第１号）'!$D$34 -> 0 | AB3: TRUE | AC3: FALSE | AD3: =情報公開項目!$F$11 -> 0 | AE3: =COUNTA(生産ほ場一覧!B7:B23) -> 0 | AF3: =IF(生産ほ場一覧!B7="","",生産ほ場一覧!B7) | AG3: =IF(生産ほ場一覧!C7="","",生産ほ場一覧!C7) | AH3: =IF(生産ほ場一覧!D7="","",生産ほ場一覧!D7) | AI3: {=_xlfn.IFS($AE$3=1,"（以下余白）",生産ほ場一覧!B8<>"",生産ほ場一覧!B8,TRUE,"")} | AJ3: =IF(生産ほ場一覧!C8="","",生産ほ場一覧!C8) | AK3: =IF(生産ほ場一覧!D8="","",生産ほ場一覧!D8) | AL3: {=_xlfn.IFS($AE$3=2,"（以下余白）",生産ほ場一覧!B9<>"",生産ほ場一覧!B9,TRUE,"")} | AM3: =IF(生産ほ場一覧!C9="","",生産ほ場一覧!C9) | AN3: =IF(生産ほ場一覧!D9="","",生産ほ場一覧!D9) | AO3: {=_xlfn.IFS($AE$3=3,"（以下余白）",生産ほ場一覧!B10<>"",生産ほ場一覧!B10,TRUE,"")} | AP3: =IF(生産ほ場一覧!C10="","",生産ほ場一覧!C10) | AQ3: =IF(生産ほ場一覧!D10="","",生産ほ場一覧!D10) | AR3: {=_xlfn.IFS($AE$3=4,"（以下余白）",生産ほ場一覧!B11<>"",生産ほ場一覧!B11,TRUE,"")} | AS3: =IF(生産ほ場一覧!C11="","",生産ほ場一覧!C11) | AT3: =IF(生産ほ場一覧!D11="","",生産ほ場一覧!D11) | AU3: {=_xlfn.IFS($AE$3=5,"（以下余白）",生産ほ場一覧!B12<>"",生産ほ場一覧!B12,TRUE,"")} | AV3: =IF(生産ほ場一覧!C12="","",生産ほ場一覧!C12) | AW3: =IF(生産ほ場一覧!D12="","",生産ほ場一覧!D12) | AX3: {=_xlfn.IFS($AE$3=6,"（以下余白）",生産ほ場一覧!B13<>"",生産ほ場一覧!B13,TRUE,"")} | AY3: =IF(生産ほ場一覧!C13="","",生産ほ場一覧!C13) | AZ3: =IF(生産ほ場一覧!D13="","",生産ほ場一覧!D13) | BA3: {=_xlfn.IFS($AE$3=7,"（以下余白）",生産ほ場一覧!B14<>"",生産ほ場一覧!B14,TRUE,"")} | BB3: =IF(生産ほ場一覧!C14="","",生産ほ場一覧!C14) | BC3: =IF(生産ほ場一覧!D14="","",生産ほ場一覧!D14) | BD3: {=_xlfn.IFS($AE$3=8,"（以下余白）",生産ほ場一覧!B15<>"",生産ほ場一覧!B15,TRUE,"")} | BE3: =IF(生産ほ場一覧!C15="","",生産ほ場一覧!C15) | BF3: =IF(生産ほ場一覧!D15="","",生産ほ場一覧!D15) | BG3: {=_xlfn.IFS($AE$3=9,"（以下余白）",生産ほ場一覧!B16<>"",生産ほ場一覧!B16,TRUE,"")} | BH3: =IF(生産ほ場一覧!C16="","",生産ほ場一覧!C16) | BI3: =IF(生産ほ場一覧!D16="","",生産ほ場一覧!D16) | BJ3: {=_xlfn.IFS($AE$3=10,"（以下余白）",生産ほ場一覧!B2<>"",生産ほ場一覧!B17,TRUE,"")} | BK3: =IF(生産ほ場一覧!C17="","",生産ほ場一覧!C17) | BL3: =IF(生産ほ場一覧!D17="","",生産ほ場一覧!D17) | BM3: {=_xlfn.IFS($AE$3=11,"（以下余白）",生産ほ場一覧!B18<>"",生産ほ場一覧!B18,TRUE,"")} | BN3: =IF(生産ほ場一覧!C18="","",生産ほ場一覧!C18) | BO3: =IF(生産ほ場一覧!D18="","",生産ほ場一覧!D18) | BP3: {=_xlfn.IFS($AE$3=12,"（以下余白）",生産ほ場一覧!B19<>"",生産ほ場一覧!B19,TRUE,"")} | BQ3: =IF(生産ほ場一覧!C19="","",生産ほ場一覧!C19) | BR3: =IF(生産ほ場一覧!D19="","",生産ほ場一覧!D19) | BS3: {=_xlfn.IFS($AE$3=13,"（以下余白）",生産ほ場一覧!B20<>"",生産ほ場一覧!B20,TRUE,"")} | BT3: =IF(生産ほ場一覧!C20="","",生産ほ場一覧!C20) | BU3: =IF(生産ほ場一覧!D20="","",生産ほ場一覧!D20) | BV3: {=_xlfn.IFS($AE$3=14,"（以下余白）",生産ほ場一覧!B21<>"",生産ほ場一覧!B21,TRUE,"")} | BW3: =IF(生産ほ場一覧!C21="","",生産ほ場一覧!C21) | BX3: =IF(生産ほ場一覧!D21="","",生産ほ場一覧!D21) | BY3: {=_xlfn.IFS($AE$3=15,"（以下余白）",生産ほ場一覧!B22<>"",生産ほ場一覧!B22,TRUE,"")} | BZ3: =IF(生産ほ場一覧!C22="","",生産ほ場一覧!C22) | CA3: =IF(生産ほ場一覧!D22="","",生産ほ場一覧!D22) | CB3: {=_xlfn.IFS($AE$3=16,"（以下余白）",生産ほ場一覧!B23<>"",生産ほ場一覧!B23,TRUE,"")} | CC3: =IF(生産ほ場一覧!C23="","",生産ほ場一覧!C23) | CD3: =IF(生産ほ場一覧!D23="","",生産ほ場一覧!D23) | CE3: =IF(CH3=0,"（該当なし）",' 【申請用】栽培計画書'!T144&'【申請用】栽培計画書（養液栽培）'!Q35&"") -> （該当なし） | CF3: =IF(CI3=0,"（該当なし）",' 【申請用】栽培計画書'!U144&'【申請用】栽培計画書（養液栽培）'!R35&"") -> （該当なし） | CG3: =IF(CJ3=0,"（該当なし）",' 【申請用】栽培計画書'!V144&'【申請用】栽培計画書（養液栽培）'!S35&"") -> （該当なし） | CH3: =' 【申請用】栽培計画書'!T150+'【申請用】栽培計画書（養液栽培）'!Q37 -> 0 | CI3: =' 【申請用】栽培計画書'!U150+'【申請用】栽培計画書（養液栽培）'!R37 -> 0 | CJ3: =' 【申請用】栽培計画書'!V150 -> 0 | CK3: =' 【申請用】栽培計画書'!AB84+'【申請用】栽培計画書（養液栽培）'!Y29 -> 0 | CL3: =' 【申請用】栽培計画書'!AC84+'【申請用】栽培計画書（養液栽培）'!Z29 -> 0 | CM3: =' 【申請用】栽培計画書'!AD84 -> 0 | CO3: =$C$7 -> JA町田市 | CP3: =IF(CH3=0,"（該当なし）",' 【申請用】栽培計画書'!W144&'【申請用】栽培計画書（養液栽培）'!T35&"") -> （該当なし） | CQ3: =IF(CI3=0,"（該当なし）",' 【申請用】栽培計画書'!X144&'【申請用】栽培計画書（養液栽培）'!U35&"") -> （該当なし） | CR3: =IF(CJ3=0,"（該当なし）",' 【申請用】栽培計画書'!Y144&'【申請用】栽培計画書（養液栽培）'!V35&"") -> （該当なし） | CS3: =' 【申請用】栽培計画書'!W150+'【申請用】栽培計画書（養液栽培）'!T37 -> 0 | CT3: =' 【申請用】栽培計画書'!X150+'【申請用】栽培計画書（養液栽培）'!U37 -> 0 | CU3: =' 【申請用】栽培計画書'!Y150 -> 0 | CW3: =IF(情報公開項目!B13=TRUE,TRUE,FALSE) -> FALSE | CX3: =IF(情報公開項目!B13=TRUE,情報公開項目!F13,"非公開") -> 非公開 | CY3: =IF(情報公開項目!B14=TRUE,情報公開項目!F14,"非公開") -> 非公開 | CZ3: =IF(情報公開項目!B15=TRUE,情報公開項目!F15,"非公開") -> 非公開 | DA3: =IF(情報公開項目!B16=TRUE,情報公開項目!F16,"非公開") -> 非公開 | DB3: =IF(情報公開項目!B17=TRUE,情報公開項目!F17,"なし") -> なし | DC3: =IF(情報公開項目!B18=TRUE,TRUE,FALSE) -> FALSE | DD3: =IF(情報公開項目!D19=TRUE,TRUE,FALSE) -> FALSE | DE3: =IF(情報公開項目!H19=TRUE,TRUE,FALSE) -> FALSE | DF3: =IF(情報公開項目!K19=TRUE,TRUE,FALSE) -> FALSE | DG3: =IF(情報公開項目!D20=TRUE,TRUE,FALSE) -> FALSE | DH3: =IF(情報公開項目!F20=TRUE,TRUE,FALSE) -> FALSE | DI3: =IF(情報公開項目!H20=TRUE,情報公開項目!J20,FALSE) -> FALSE | DJ3: =IF(情報公開項目!D22="","",情報公開項目!D22) | DK3: =IF(情報公開項目!G22="","",情報公開項目!G22) | DL3: =IF(情報公開項目!J22="","",情報公開項目!J22) | DM3: =IF(情報公開項目!D23="","",情報公開項目!D23) | DN3: =IF(情報公開項目!G23="","",情報公開項目!G23) | DO3: =IF(情報公開項目!J23="","",情報公開項目!J23) | DP3: =IF(情報公開項目!D24="","",情報公開項目!D24) | DQ3: =IF(情報公開項目!G24="","",情報公開項目!G24) | DR3: =IF(情報公開項目!J24="","",情報公開項目!J24) | DS3: =IF(情報公開項目!$D25="","",情報公開項目!$D25) | DT3: =IF(情報公開項目!$G25="","",情報公開項目!$G25) | DU3: =IF(情報公開項目!$J25="","",情報公開項目!$J25)
C6: ①↓最初に申請者が所属するJA名を選択 | G6: ② 上のセルに集計された内容で間違いがないか確認する
C7: JA町田市
C8: ＊JAが関与していないところ（学校や法人等）は、 | G8: ③ 更新申請の場合
C11: 「東京都農業振興事務所」を選択する | G11: 上のセルで集計された内容では、「認証開始年月日」や「備考」などは空欄になっている
G12: これをこのままコピー＆貼り付けすると、エクセルのデータベースに書いてあった内容が上書きされて空欄になってしまう
C13: JA名のリスト | G13: → エクセルのデータベースから、「認証開始年月日」「備考」などの内容をこの集計表に転記しておくこと
C14: JA西東京
C15: JAあきがわ | G15: ④ 集計表からコピー＆エクセルのデータベースに貼り付け
C16: JAにしたま | G16: このシートに集計された内容のうち、赤い枠で囲まれた部分をコピーして、エクセルのデータベースファイルに
C17: JA八王子 | G17: 「値の貼り付け」で張り付ける
C18: JA東京みなみ
C19: JA町田市 | G19: （注意１） 行全体をコピーしてエクセルのデータベースに貼り付けると、 | H19: 行全体をコピーしてエクセルのデータベースに貼り付けると、
C20: JAマインズ | H20: エクセルのデータベース側の式（右端のほうにいろいろ入っている）が壊れるので、枠外は選択できないように設定してあります
C21: JA東京みどり
C22: JA東京みらい | G22: （注意２） 行全体をコピーしてエクセルのデータベースに貼り付けると、 | H22: そのまま「貼り付け」すると、セルにある式がコピー＆貼り付けされ、
C23: JA東京むさし | H23: ファイル間で値を参照するリンクが作られてしまう | U23: （参考）枠内を楽に選択するには
C24: JA東京中央 | H24: リンクのエラー発生の原因になるため、必ず「値の貼り付け」を選ぶこと
C25: JA世田谷目黒
C26: JA東京あおば | H26: 「値の貼り付け」を選ぶには：
C27: JA東京スマイル | H27: 貼り付けする位置で右クリック→出てくるメニューの「貼り付けのオプション」の下にいくつかアイコンがあるので、
C28: 八丈島農協 | H28: そこから「クリップボードに「１２３」と書いてあるアイコン」を選択してクリック で、
C29: 新島村農協 | H29: 「値の貼り付け」ができます
C30: 利島農協
C31: 三宅島農業振興会 | G31: ＊この集計シートは、編集や選択が必要なセル（JA選択セルと、赤い枠で囲まれた集計部分）以外は、
C32: 小笠原アイランズ農協 | G32: セルの選択ができないようにしてあります。
C33: 東京都農業振興事務所 | G33: 選択や編集が必要な場合は、
G34: 「校閲」タブ→「シート保護の解除」をクリックしてください | U34: 上の図のところにあるプルダウンメニューから
U40: 「コピペ範囲」という名前をさがして選択すると、
U41: 赤い枠の中の範囲が選択されます

Sheet 申請書（別記様式第１号）
A1: 別記様式第１号
B2: 東京都エコ農産物認証申請書
C3: （ | D3: 新規 | E3: ）
F4: 年 月 日
B5: 東京都知事 殿
D6: 屋 号
D9: （ふりがな）
D10: 氏 名
D14: 郵便番号
D15: 住 所 | E15: （区市町村を選択）
D18: （ふりがな）
D19: 共同申請者氏名（同一経営体内の申請の場合記入）
D23: 連絡先電話番号
D26: Ｅメールアドレス
D27: （Ｅメールによる通知等を希望しない場合は記入不要）
D30: 認証番号（更新等の場合※に記入）
D33: 団体名（団体申請しない場合は記入不要）
B36: 東京都エコ農産物認証要綱第６の規定に基づき、次のとおり申請します。
B38: 認証期間 | C38: 46388 | D38: から | E38: =DATE(YEAR(C38)+5, MONTH(C38), DAY(C38)-1) -> 48213 | F38: まで | L38: 認証期間５年間
I39: 申請時期 | J39: 認証開始 | L39: → | M39: 認証終了
A40: ※更新等の場合 … 更新申請の他、一旦認証期間が終了した者（または同一経営体に属する者）が 改めて認証申請するにあたり、前回受けていた認証番号の使用を希望する場合 | I40: 2025(R7)年 9月 | J40: 46023 | K40: 46023 | L40: → | M40: 47848 | N40: 47848
L41: →
A42: 添付資料 | I42: 2026(R8)年 9月 | J42: 46388 | K42: 46388 | L42: → | M42: 48213 | N42: 48213
A43: ・ 別紙１ 生産ほ場一覧 | I43: 2027(R9)年 9月 | J43: 46753 | K43: 46753 | L43: → | M43: 48579 | N43: 48579
A44: ・ 別紙２ 東京都エコ農産物認証申請書（栽培計画書）または（養液栽培計画書） | I44: 2028(R10)年 9月 | J44: 47119 | K44: 47119 | L44: → | M44: 48944 | N44: 48944
A45: ・ 別紙３ 東京都エコ農産物 認証情報公開項目 届出書 | I45: 2029(R11)年 9月 | J45: 47484 | K45: 47484 | L45: → | M45: 49309 | N45: 49309

Sheet 生産ほ場一覧
A1: 別記様式第1号（別紙１）
A2: 生産ほ場一覧（申請する農産物を栽培するほ場の所在地）
A4: ほ場 番号 | B4: ほ 場 の 所 在 地 | C4: 面積 （a）※ | D4: うち施設 面積 （a）※
A7: 1
A8: 2
A9: 3
A10: 4
A11: 5
A12: 6
A13: 7
A14: 8
A15: 9
A16: 10
A17: 11
A18: 12
... A23: 17
B24: 合 計 | C24: =SUM(C7:C23) -> 0 | D24: =SUM(D7:D23) -> 0
A26: ※小数点以下は第１位まで
A27: 添付資料
A28: ・ 生産ほ場の位置と形状がわかる地図
A29: 【注意】著作者より利用許諾された地図、または利用規約を遵守した地図を添付してください。著作権侵害の恐れのある地図は受理できません。なお、農林水産省地理情報共通管理システムの「eMAFF農地ナビ」画面を利用する場合は、下段の「 mapbox～©Mapbox©OpenStreetMap Improve this map©Maxar」の表記が入るよう留意してください。国土地理院の地図を利用する場合も、原則自由に利用できますが、こちらも出典・加工について明示する義務があります（利用規約を要確認）。

Sheet 【入力シート】栽培計画書
A1: 【入力シート】栽培計画書 各項目について 選択・・・プルダウンにて選択してください。 直接入力・・・直接入力してください。 自動入力・・・農作物+認証+作型により上限が入力されます。 各単位は自動入力されます。 行、列の挿入、削除はできません。
E2: 作付場所 | I2: 土づくり技術 | N2: 化学合成農薬削減の技術 | R2: 化学合成肥料削減の技術
B3: 農作物名 | C3: 認証区分 | D3: 作型 | E3: 露地 または施設 | F3: 作付面積 (a） | G3: 栽培開始月 | H3: 栽培終了月 | I3: 番号 | J3: 有機質資材の使用量 （㎏/10a） | K3: 番号 | L3: 有機質資材の使用量 （㎏/10a） | M3: 具体的内容 | N3: 番号 | O3: 番号 | P3: 化学農薬使用回数(回) | Q3: 具体的内容 | R3: 番号 | S3: 番号 | T3: 化学肥料使用回数(回） | U3: 具体的内容 | V3: 目標収量（㎏/10a）
B4: 選択 | C4: 選択 | D4: 選択 | E4: 選択 | F4: 直接入力 | G4: 直接入力 | H4: 直接入力 | I4: 選択 | J4: 直接入力 | K4: 選択 | L4: 直接入力 | M4: 直接入力 | N4: 選択 | O4: 選択 | P4: 自動入力 | Q4: 直接入力 | R4: 選択 | S4: 選択 | T4: 自動入力 | U4: 直接入力 | V4: 直接入力
A5: 例 | B5: キャベツ | C5: ①エコ25 | D5: 秋まき初夏どり | E5: 露地 | F5: 5 | G5: 11 | H5: 6 | I5: ① 堆肥施用 | J5: 1000 | K5: ③ その他 試験研究機関等で開発された技術 | L5: 10 | M5: ①牛ふん堆肥の施用 ②エン麦を栽培しすき込む | N5: ④ 生物農薬利用技術 | O5: ⑪ フェロモン剤利用技術 | P5: {=_xlfn.IFS(C5="③エコ100",0,C5="①エコ25",VLOOKUP(B5&D5,エコ基準検索表,2,FALSE),C5="②エコ50",VLOOKUP(B5&D5,エコ基準検索表,3,FALSE),TRUE,"")} -> 11 | Q5: ④BT剤をローテーション散布に組み込む ⑪フェロモン剤により交尾障害を図る | R5: ① 局所施肥 | S5: ③ 有機質肥料施肥 | T5: {=_xlfn.IFS(C5="③エコ100",0,C5="①エコ25",VLOOKUP(B5&D5,エコ基準検索表,5,FALSE),C5="②エコ50",VLOOKUP(B5&D5,エコ基準検索表,6,FALSE),TRUE,"")} -> 18.75 | U5: ①条施肥を行う ③有機質肥料（ナタネ油かす）を施用 | V5: 4000
A6: 1 | P6: {=_xlfn.IFS(C6="③エコ100",0,C6="①エコ25",VLOOKUP(B6&D6,エコ基準検索表,2,FALSE),C6="②エコ50",VLOOKUP(B6&D6,エコ基準検索表,3,FALSE),TRUE,"")} | T6: {=_xlfn.IFS(C6="③エコ100",0,C6="①エコ25",VLOOKUP(B6&D6,エコ基準検索表,5,FALSE),C6="②エコ50",VLOOKUP(B6&D6,エコ基準検索表,6,FALSE),TRUE,"")} | W6: =IF(ISNUMBER(SEARCH("施設", D6)), "施設", IF(ISNUMBER(SEARCH("露地", D6)), "露地", "露地施設")) -> 露地施設
A7: 2 | P7: {=_xlfn.IFS(C7="③エコ100",0,C7="①エコ25",VLOOKUP(B7&D7,エコ基準検索表,2,FALSE),C7="②エコ50",VLOOKUP(B7&D7,エコ基準検索表,3,FALSE),TRUE,"")} | T7: {=_xlfn.IFS(C7="③エコ100",0,C7="①エコ25",VLOOKUP(B7&D7,エコ基準検索表,5,FALSE),C7="②エコ50",VLOOKUP(B7&D7,エコ基準検索表,6,FALSE),TRUE,"")} | W7: =IF(ISNUMBER(SEARCH("施設", D7)), "施設", IF(ISNUMBER(SEARCH("露地", D7)), "露地", "露地施設")) -> 露地施設
A8: 3 | P8: {=_xlfn.IFS(C8="③エコ100",0,C8="①エコ25",VLOOKUP(B8&D8,エコ基準検索表,2,FALSE),C8="②エコ50",VLOOKUP(B8&D8,エコ基準検索表,3,FALSE),TRUE,"")} | T8: {=_xlfn.IFS(C8="③エコ100",0,C8="①エコ25",VLOOKUP(B8&D8,エコ基準検索表,5,FALSE),C8="②エコ50",VLOOKUP(B8&D8,エコ基準検索表,6,FALSE),TRUE,"")} | W8: =IF(ISNUMBER(SEARCH("施設", D8)), "施設", IF(ISNUMBER(SEARCH("露地", D8)), "露地", "露地施設")) -> 露地施設
A9: 4 | P9: {=_xlfn.IFS(C9="③エコ100",0,C9="①エコ25",VLOOKUP(B9&D9,エコ基準検索表,2,FALSE),C9="②エコ50",VLOOKUP(B9&D9,エコ基準検索表,3,FALSE),TRUE,"")} | T9: {=_xlfn.IFS(C9="③エコ100",0,C9="①エコ25",VLOOKUP(B9&D9,エコ基準検索表,5,FALSE),C9="②エコ50",VLOOKUP(B9&D9,エコ基準検索表,6,FALSE),TRUE,"")} | W9: =IF(ISNUMBER(SEARCH("施設", D9)), "施設", IF(ISNUMBER(SEARCH("露地", D9)), "露地", "露地施設")) -> 露地施設
A10: 5 | P10: {=_xlfn.IFS(C10="③エコ100",0,C10="①エコ25",VLOOKUP(B10&D10,エコ基準検索表,2,FALSE),C10="②エコ50",VLOOKUP(B10&D10,エコ基準検索表,3,FALSE),TRUE,"")} | T10: {=_xlfn.IFS(C10="③エコ100",0,C10="①エコ25",VLOOKUP(B10&D10,エコ基準検索表,5,FALSE),C10="②エコ50",VLOOKUP(B10&D10,エコ基準検索表,6,FALSE),TRUE,"")} | W10: =IF(ISNUMBER(SEARCH("施設", D10)), "施設", IF(ISNUMBER(SEARCH("露地", D10)), "露地", "露地施設")) -> 露地施設
A11: 6 | P11: {=_xlfn.IFS(C11="③エコ100",0,C11="①エコ25",VLOOKUP(B11&D11,エコ基準検索表,2,FALSE),C11="②エコ50",VLOOKUP(B11&D11,エコ基準検索表,3,FALSE),TRUE,"")} | T11: {=_xlfn.IFS(C11="③エコ100",0,C11="①エコ25",VLOOKUP(B11&D11,エコ基準検索表,5,FALSE),C11="②エコ50",VLOOKUP(B11&D11,エコ基準検索表,6,FALSE),TRUE,"")} | W11: =IF(ISNUMBER(SEARCH("施設", D11)), "施設", IF(ISNUMBER(SEARCH("露地", D11)), "露地", "露地施設")) -> 露地施設
A12: 7 | P12: {=_xlfn.IFS(C12="③エコ100",0,C12="①エコ25",VLOOKUP(B12&D12,エコ基準検索表,2,FALSE),C12="②エコ50",VLOOKUP(B12&D12,エコ基準検索表,3,FALSE),TRUE,"")} | T12: {=_xlfn.IFS(C12="③エコ100",0,C12="①エコ25",VLOOKUP(B12&D12,エコ基準検索表,5,FALSE),C12="②エコ50",VLOOKUP(B12&D12,エコ基準検索表,6,FALSE),TRUE,"")} | W12: =IF(ISNUMBER(SEARCH("施設", D12)), "施設", IF(ISNUMBER(SEARCH("露地", D12)), "露地", "露地施設")) -> 露地施設
A13: 8 | P13: {=_xlfn.IFS(C13="③エコ100",0,C13="①エコ25",VLOOKUP(B13&D13,エコ基準検索表,2,FALSE),C13="②エコ50",VLOOKUP(B13&D13,エコ基準検索表,3,FALSE),TRUE,"")} | T13: {=_xlfn.IFS(C13="③エコ100",0,C13="①エコ25",VLOOKUP(B13&D13,エコ基準検索表,5,FALSE),C13="②エコ50",VLOOKUP(B13&D13,エコ基準検索表,6,FALSE),TRUE,"")} | W13: =IF(ISNUMBER(SEARCH("施設", D13)), "施設", IF(ISNUMBER(SEARCH("露地", D13)), "露地", "露地施設")) -> 露地施設
A14: 9 | P14: {=_xlfn.IFS(C14="③エコ100",0,C14="①エコ25",VLOOKUP(B14&D14,エコ基準検索表,2,FALSE),C14="②エコ50",VLOOKUP(B14&D14,エコ基準検索表,3,FALSE),TRUE,"")} | T14: {=_xlfn.IFS(C14="③エコ100",0,C14="①エコ25",VLOOKUP(B14&D14,エコ基準検索表,5,FALSE),C14="②エコ50",VLOOKUP(B14&D14,エコ基準検索表,6,FALSE),TRUE,"")} | W14: =IF(ISNUMBER(SEARCH("施設", D14)), "施設", IF(ISNUMBER(SEARCH("露地", D14)), "露地", "露地施設")) -> 露地施設
A15: 10 | P15: {=_xlfn.IFS(C15="③エコ100",0,C15="①エコ25",VLOOKUP(B15&D15,エコ基準検索表,2,FALSE),C15="②エコ50",VLOOKUP(B15&D15,エコ基準検索表,3,FALSE),TRUE,"")} | T15: {=_xlfn.IFS(C15="③エコ100",0,C15="①エコ25",VLOOKUP(B15&D15,エコ基準検索表,5,FALSE),C15="②エコ50",VLOOKUP(B15&D15,エコ基準検索表,6,FALSE),TRUE,"")} | W15: =IF(ISNUMBER(SEARCH("施設", D15)), "施設", IF(ISNUMBER(SEARCH("露地", D15)), "露地", "露地施設")) -> 露地施設
A16: 11 | P16: {=_xlfn.IFS(C16="③エコ100",0,C16="①エコ25",VLOOKUP(B16&D16,エコ基準検索表,2,FALSE),C16="②エコ50",VLOOKUP(B16&D16,エコ基準検索表,3,FALSE),TRUE,"")} | T16: {=_xlfn.IFS(C16="③エコ100",0,C16="①エコ25",VLOOKUP(B16&D16,エコ基準検索表,5,FALSE),C16="②エコ50",VLOOKUP(B16&D16,エコ基準検索表,6,FALSE),TRUE,"")} | W16: =IF(ISNUMBER(SEARCH("施設", D16)), "施設", IF(ISNUMBER(SEARCH("露地", D16)), "露地", "露地施設")) -> 露地施設
A17: 12 | P17: {=_xlfn.IFS(C17="③エコ100",0,C17="①エコ25",VLOOKUP(B17&D17,エコ基準検索表,2,FALSE),C17="②エコ50",VLOOKUP(B17&D17,エコ基準検索表,3,FALSE),TRUE,"")} | T17: {=_xlfn.IFS(C17="③エコ100",0,C17="①エコ25",VLOOKUP(B17&D17,エコ基準検索表,5,FALSE),C17="②エコ50",VLOOKUP(B17&D17,エコ基準検索表,6,FALSE),TRUE,"")} | W17: =IF(ISNUMBER(SEARCH("施設", D17)), "施設", IF(ISNUMBER(SEARCH("露地", D17)), "露地", "露地施設")) -> 露地施設
... A65: 60 | P65: {=_xlfn.IFS(C65="③エコ100",0,C65="①エコ25",VLOOKUP(B65&D65,エコ基準検索表,2,FALSE),C65="②エコ50",VLOOKUP(B65&D65,エコ基準検索表,3,FALSE),TRUE,"")} | T65: {=_xlfn.IFS(C65="③エコ100",0,C65="①エコ25",VLOOKUP(B65&D65,エコ基準検索表,5,FALSE),C65="②エコ50",VLOOKUP(B65&D65,エコ基準検索表,6,FALSE),TRUE,"")} | W65: =IF(ISNUMBER(SEARCH("施設", D65)), "施設", IF(ISNUMBER(SEARCH("露地", D65)), "露地", "露地施設")) -> 露地施設

Sheet 【入力シート】栽培計画書 (養液栽培)
A1: 【入力シート】栽培計画書 各項目について 選択・・・プルダウンにて選択してください。 直接入力・・・直接入力してください。 自動入力・・・農作物+認証+作型により上限が入力されます。 各単位は自動入力されます。 行、列の挿入、削除はできません。
H2: 養液栽培の形式 | I2: 化学合成農薬削減の技術 | M2: 排液流出防止の技術 | P2: 廃棄素材の処理方法
B3: 農作物名 | C3: 認証区分 | D3: 作型 | E3: 作付面積 (a ) | F3: 栽培開始月 | G3: 栽培終了月 | I3: 番号 | J3: 番号 | K3: 化学農薬使用回数(回) | L3: 具体的内容 | M3: 番号 | N3: 番号 | O3: 具体的内容 | P3: 具体的内容 | Q3: 目標収量（㎏/10a）
B4: 選択 | C4: 選択 | D4: 自動入力 | E4: 直接入力 | F4: 直接入力 | G4: 直接入力 | H4: 直接入力 | I4: 選択 | J4: 選択 | K4: 自動入力 | L4: 直接入力 | M4: 選択 | N4: 選択 | O4: 直接入力 | P4: 直接入力 | Q4: 直接入力
A5: 例 | B5: ミニトマト（養液栽培） | C5: ①エコ25 | D5: =IF(B5="","",IF(B5="イチゴ（養液栽培）","促成（施設）","促成長期（施設）")) -> 促成長期（施設） | E5: 2 | F5: 9 | G5: 6 | H5: ロックウール栽培システム | I5: ⑥ 抵抗性品種栽培・台木利用技術 | J5: ⑩ 被覆栽培技術 | K5: {=_xlfn.IFS(C5="①エコ25",VLOOKUP(B5&D5,養液栽培基準検索表,5,FALSE),C5="②エコ50",VLOOKUP(B5&D5,養液栽培基準検索表,6,FALSE),TRUE,"")} -> 25 | L5: ⑥抵抗性品種利用（CF桃太郎ファイト） ⑩ハウスの開口部に防虫ネットを張る | M5: ③ 堆肥に添加 | N5: ⑥ 希釈後、公共下水道へ放流 | O5: ③自己管理ほ場の堆肥に添加し再利用 ⑥薄めて公設下水道へ排水 | P5: 有機性資材は堆肥利用 それ以外は産業廃棄物として処分 | Q5: 15000
A6: 1 | D6: =IF(B6="","",IF(B6="イチゴ（養液栽培）","促成（施設）","促成長期（施設）")) | K6: {=_xlfn.IFS(C6="①エコ25",VLOOKUP(B6&D6,養液栽培基準検索表,5,FALSE),C6="②エコ50",VLOOKUP(B6&D6,養液栽培基準検索表,6,FALSE),TRUE,"")} | R6: =IF(ISNUMBER(SEARCH("施設", D6)), "施設", IF(ISNUMBER(SEARCH("露地", D6)), "露地", "露地施設")) -> 露地施設
A7: 2 | D7: =IF(B7="","",IF(B7="イチゴ（養液栽培）","促成（施設）","促成長期（施設）")) | K7: {=_xlfn.IFS(C7="①エコ25",VLOOKUP(B7&D7,養液栽培基準検索表,5,FALSE),C7="②エコ50",VLOOKUP(B7&D7,養液栽培基準検索表,6,FALSE),TRUE,"")} | R7: =IF(ISNUMBER( SEARCH("施設",#REF!)), "施設", IF(ISNUMBER( SEARCH("露地",#REF!)), "露地", "露地施設")) -> 露地施設
A8: 3 | D8: =IF(B8="","",IF(B8="イチゴ（養液栽培）","促成（施設）","促成長期（施設）")) | K8: {=_xlfn.IFS(C8="①エコ25",VLOOKUP(B8&D8,養液栽培基準検索表,5,FALSE),C8="②エコ50",VLOOKUP(B8&D8,養液栽培基準検索表,6,FALSE),TRUE,"")} | R8: =IF(ISNUMBER(SEARCH("施設", D8)), "施設", IF(ISNUMBER(SEARCH("露地", D8)), "露地", "露地施設")) -> 露地施設
A9: 4 | D9: =IF(B9="","",IF(B9="イチゴ（養液栽培）","促成（施設）","促成長期（施設）")) | K9: {=_xlfn.IFS(C9="①エコ25",VLOOKUP(B9&D9,養液栽培基準検索表,5,FALSE),C9="②エコ50",VLOOKUP(B9&D9,養液栽培基準検索表,6,FALSE),TRUE,"")} | R9: =IF(ISNUMBER(SEARCH("施設", D9)), "施設", IF(ISNUMBER(SEARCH("露地", D9)), "露地", "露地施設")) -> 露地施設
A10: 5 | D10: =IF(B10="","",IF(B10="イチゴ（養液栽培）","促成（施設）","促成長期（施設）")) | K10: {=_xlfn.IFS(C10="①エコ25",VLOOKUP(B10&D10,養液栽培基準検索表,5,FALSE),C10="②エコ50",VLOOKUP(B10&D10,養液栽培基準検索表,6,FALSE),TRUE,"")} | R10: =IF(ISNUMBER(SEARCH("施設", D10)), "施設", IF(ISNUMBER(SEARCH("露地", D10)), "露地", "露地施設")) -> 露地施設

Sheet 情報公開項目
A1: 別記様式第1号（別紙３）
A2: 認証情報公開項目届出書
G3: 屋号 | H3: ='申請書（別記様式第１号）'!$D$7&""
G4: 申請者氏名 | H4: ='申請書（別記様式第１号）'!$D$12&""
A5: 東京都のホームページに掲載する項目を、以下のとおり届け出ます
A6: 項 目 | F6: 具 体 的 な 内 容
A7: 必須公開項目
B8: 認証生産者の屋号及び氏名・認証番号 | F8: 記 入 不 要
B9: 居住区市町村名（又は主たるほ場所在地）
B10: 認証農産物・作型・認証区分
B11: 認証農産物を購入できる場所（店）
A12: 希望公開項目（公開を希望する項目の□にレを記入すること）
B13: FALSE | C13: 認証生産者住所
B14: FALSE | C14: 電話番号
B15: FALSE | C15: Ｅメールアドレス
B16: FALSE | C16: ホームページ、 SNSのアドレス（URL）
B17: FALSE | C17: 認証生産者のメッセージ
B18: FALSE | C18: 農産物の販売取引の希望 | F18: 以下に具体的に記入する | N18: （記入される方へ） 取引を希望する農産物は、 申請している農産物（下の枠内にある品目）にあるものをご記入ください。
C19: 希望する取引先 | D19: FALSE | E19: とうきょう特産食材使用店 | H19: FALSE | I19: 飲食店 | K19: FALSE | L19: 生協
C20: 希望する取引先の □にレを記入 | D20: FALSE | E20: 量販店 | F20: FALSE | G20: 市場 | H20: FALSE | I20: その他
C21: 希望する 取引の内容 | D21: 農産物名 | G21: 取引希望時期 | J21: 取引希望数量 | N21: エコ25 | O21: エコ50 | P21: エコ100 | Q21: 養液栽培エコ25 | R21: 養液栽培エコ50
N22: =' 【申請用】栽培計画書'!T84&"" | O22: =' 【申請用】栽培計画書'!U84&"" | P22: =' 【申請用】栽培計画書'!V84&"" | Q22: ='【申請用】栽培計画書（養液栽培）'!Q29&"" | R22: ='【申請用】栽培計画書（養液栽培）'!R29&""
N23: =' 【申請用】栽培計画書'!T85&"" | O23: =' 【申請用】栽培計画書'!U85&"" | P23: =' 【申請用】栽培計画書'!V85&"" | Q23: ='【申請用】栽培計画書（養液栽培）'!Q30&"" | R23: ='【申請用】栽培計画書（養液栽培）'!R30&""
N24: =' 【申請用】栽培計画書'!T86&"" | O24: =' 【申請用】栽培計画書'!U86&"" | P24: =' 【申請用】栽培計画書'!V86&"" | Q24: ='【申請用】栽培計画書（養液栽培）'!Q31&"" | R24: ='【申請用】栽培計画書（養液栽培）'!R31&""
N25: =' 【申請用】栽培計画書'!T87&"" | O25: =' 【申請用】栽培計画書'!U87&"" | P25: =' 【申請用】栽培計画書'!V87&"" | Q25: ='【申請用】栽培計画書（養液栽培）'!Q32&"" | R25: ='【申請用】栽培計画書（養液栽培）'!R32&""
N26: =' 【申請用】栽培計画書'!T88&"" | O26: =' 【申請用】栽培計画書'!U88&"" | P26: =' 【申請用】栽培計画書'!V88&""
N27: =' 【申請用】栽培計画書'!T89&"" | O27: =' 【申請用】栽培計画書'!U89&"" | P27: =' 【申請用】栽培計画書'!V89&""
N28: =' 【申請用】栽培計画書'!T90&"" | O28: =' 【申請用】栽培計画書'!U90&"" | P28: =' 【申請用】栽培計画書'!V90&""
N29: =' 【申請用】栽培計画書'!T91&"" | O29: =' 【申請用】栽培計画書'!U91&"" | P29: =' 【申請用】栽培計画書'!V91&""
N30: =' 【申請用】栽培計画書'!T92&"" | O30: =' 【申請用】栽培計画書'!U92&"" | P30: =' 【申請用】栽培計画書'!V92&""
N31: =' 【申請用】栽培計画書'!T93&"" | O31: =' 【申請用】栽培計画書'!U93&"" | P31: =' 【申請用】栽培計画書'!V93&""
N32: =' 【申請用】栽培計画書'!T94&"" | O32: =' 【申請用】栽培計画書'!U94&"" | P32: =' 【申請用】栽培計画書'!V94&""
N33: =' 【申請用】栽培計画書'!T95&"" | O33: =' 【申請用】栽培計画書'!U95&"" | P33: =' 【申請用】栽培計画書'!V95&""
N34: =' 【申請用】栽培計画書'!T96&"" | O34: =' 【申請用】栽培計画書'!U96&"" | P34: =' 【申請用】栽培計画書'!V96&""
N35: =' 【申請用】栽培計画書'!T97&"" | O35: =' 【申請用】栽培計画書'!U97&"" | P35: =' 【申請用】栽培計画書'!V97&""
N36: =' 【申請用】栽培計画書'!T98&"" | O36: =' 【申請用】栽培計画書'!U98&"" | P36: =' 【申請用】栽培計画書'!V98&""
N37: =' 【申請用】栽培計画書'!T99&"" | O37: =' 【申請用】栽培計画書'!U99&"" | P37: =' 【申請用】栽培計画書'!V99&""
N38: =' 【申請用】栽培計画書'!T100&"" | O38: =' 【申請用】栽培計画書'!U100&"" | P38: =' 【申請用】栽培計画書'!V100&""
N39: =' 【申請用】栽培計画書'!T101&"" | O39: =' 【申請用】栽培計画書'!U101&"" | P39: =' 【申請用】栽培計画書'!V101&"" | Q39: ='【申請用】栽培計画書（養液栽培）'!Q33&"" | R39: ='【申請用】栽培計画書（養液栽培）'!R33&""
N40: =' 【申請用】栽培計画書'!T102&"" | O40: =' 【申請用】栽培計画書'!U102&"" | P40: =' 【申請用】栽培計画書'!V102&""
N41: =' 【申請用】栽培計画書'!T103&"" | O41: =' 【申請用】栽培計画書'!U103&"" | P41: =' 【申請用】栽培計画書'!V103&""
N42: =' 【申請用】栽培計画書'!T104&"" | O42: =' 【申請用】栽培計画書'!U104&"" | P42: =' 【申請用】栽培計画書'!V104&""
N43: =' 【申請用】栽培計画書'!T105&"" | O43: =' 【申請用】栽培計画書'!U105&"" | P43: =' 【申請用】栽培計画書'!V105&""
N44: =' 【申請用】栽培計画書'!T106&"" | O44: =' 【申請用】栽培計画書'!U106&"" | P44: =' 【申請用】栽培計画書'!V106&""
N45: =' 【申請用】栽培計画書'!T107&"" | O45: =' 【申請用】栽培計画書'!U107&"" | P45: =' 【申請用】栽培計画書'!V107&""
N46: =' 【申請用】栽培計画書'!T108&"" | O46: =' 【申請用】栽培計画書'!U108&"" | P46: =' 【申請用】栽培計画書'!V108&""
N47: =' 【申請用】栽培計画書'!T109&"" | O47: =' 【申請用】栽培計画書'!U109&"" | P47: =' 【申請用】栽培計画書'!V109&""
N48: =' 【申請用】栽培計画書'!T110&"" | O48: =' 【申請用】栽培計画書'!U110&"" | P48: =' 【申請用】栽培計画書'!V110&""
N49: =' 【申請用】栽培計画書'!T111&"" | O49: =' 【申請用】栽培計画書'!U111&"" | P49: =' 【申請用】栽培計画書'!V111&""
N50: =' 【申請用】栽培計画書'!T112&"" | O50: =' 【申請用】栽培計画書'!U112&"" | P50: =' 【申請用】栽培計画書'!V112&""
N51: =' 【申請用】栽培計画書'!T113&"" | O51: =' 【申請用】栽培計画書'!U113&"" | P51: =' 【申請用】栽培計画書'!V113&""
... N64: =' 【申請用】栽培計画書'!T126&"" | O64: =' 【申請用】栽培計画書'!U126&"" | P64: =' 【申請用】栽培計画書'!V126&""
N65: （ご注意）
N66: 上の枠内のリストは、栽培計画書の６ページ目までに記入されている品目を集計して表示しています。
N67: 栽培計画書のページ数が６ページよりも多くなっている場合は、お手数ですが栽培計画書もご参照いただき、
N68: 申請している農作物（取引希望に記入できる農作物）をご確認ください。

Sheet  【申請用】栽培計画書
A1: 別記様式第1号（別紙２－１）
A2: 東京都エコ農産物認証申請書（栽培計画書）
A3: 申請者氏名： | C3: ='申請書（別記様式第１号）'!$D$12&"" | M3: No. 1
A5: ＊１ | B5: 認証区分 | C5: ＊１ | D5: 作付面積 | E5: 栽培期間 | G5: 土づくりの技術 | I5: 化学合成農薬 削減の技術 | K5: 化学肥料削減の技術 | M5: 目標収量 （kg/10a）
A6: 農産物名
C7: 作型 | G7: ＊２ | H7: ＊３ | I7: ＊2 | J7: ＊３ | K7: ＊２ | L7: ＊３
G8: 番号 | H8: 有機質資材等 | I8: 番号 | J8: 化学合成農薬 | K8: 番号 | L8: 化学肥料施用量
D9: (a) | H9: 使用量(kg/10a) | J9: 使用回数（回） | L9: (窒素成分kg/10a)
A10: =IF(ISBLANK(【入力シート】栽培計画書!$B$6),"",(【入力シート】栽培計画書!$B$6)) | B10: =IF(ISBLANK(【入力シート】栽培計画書!$C$6),"",(【入力シート】栽培計画書!$C$6)) | C10: =IF(ISBLANK(【入力シート】栽培計画書!$D$6),"",(【入力シート】栽培計画書!$D$6)) | D10: =IF(ISBLANK(【入力シート】栽培計画書!$F$6),"",(【入力シート】栽培計画書!$F$6)) | E10: =IF(ISBLANK(【入力シート】栽培計画書!$G$6),"",(【入力シート】栽培計画書!$G$6)) | F10: 月 | G10: =IF(ISBLANK(【入力シート】栽培計画書!$I$6),"",(【入力シート】栽培計画書!$I$6)) | H10: =IF(ISBLANK(【入力シート】栽培計画書!$J$6),"",IF(OR(【入力シート】栽培計画書!$I$6=List!$E$2,【入力シート】栽培計画書!$I$6=List!$E$4),【入力シート】栽培計画書!$J$6&"kg/10a",IF(【入力シート】栽培計画書!$I$6=List!$E$3,"播種量"&【入力シート】栽培計画書!$J$6&"kg/10a",""))) | I10: =IF(ISBLANK(【入力シート】栽培計画書!$N$6),"",(【入力シート】栽培計画書!$N$6)) | J10: =IF(ISBLANK(【入力シート】栽培計画書!$P$6),"",(【入力シート】栽培計画書!$P$6)) | K10: =IF(ISBLANK(【入力シート】栽培計画書!$R$6),"",(【入力シート】栽培計画書!$R$6)) | L10: =IF(ISBLANK(【入力シート】栽培計画書!$T$6),"",(【入力シート】栽培計画書!$T$6)) | M10: =IF(ISBLANK(【入力シート】栽培計画書!$V$6),"",(【入力シート】栽培計画書!$V$6))
B11: =IF(ISBLANK(【入力シート】栽培計画書!$B$6),"",(【入力シート】栽培計画書!$B$6)) | C11: =IF(ISBLANK(【入力シート】栽培計画書!$B$6),"",(【入力シート】栽培計画書!$B$6)) | D11: =IF(ISBLANK(【入力シート】栽培計画書!$B$6),"",(【入力シート】栽培計画書!$B$6)) | E11: ～ | G11: =IF(ISBLANK(【入力シート】栽培計画書!$B$6),"",(【入力シート】栽培計画書!$B$6)) | H11: =IF(ISBLANK(【入力シート】栽培計画書!$B$6),"",(【入力シート】栽培計画書!$B$6)) | I11: =IF(ISBLANK(【入力シート】栽培計画書!$B$6),"",(【入力シート】栽培計画書!$B$6)) | J11: =IF(ISBLANK(【入力シート】栽培計画書!$B$6),"",(【入力シート】栽培計画書!$B$6)) | K11: =IF(ISBLANK(【入力シート】栽培計画書!$B$6),"",(【入力シート】栽培計画書!$B$6)) | L11: =IF(ISBLANK(【入力シート】栽培計画書!$B$6),"",(【入力シート】栽培計画書!$B$6)) | M11: =IF(ISBLANK(【入力シート】栽培計画書!$B$6),"",(【入力シート】栽培計画書!$B$6))
B12: =IF(ISBLANK(【入力シート】栽培計画書!$B$6),"",(【入力シート】栽培計画書!$B$6)) | C12: =IF(ISBLANK(【入力シート】栽培計画書!$B$6),"",(【入力シート】栽培計画書!$B$6)) | D12: =IF(ISBLANK(【入力シート】栽培計画書!$B$6),"",(【入力シート】栽培計画書!$B$6)) | G12: =IF(ISBLANK(【入力シート】栽培計画書!$K$6),"",(【入力シート】栽培計画書!$K$6)) | H12: =IF(ISBLANK(【入力シート】栽培計画書!$L$6),"",IF(OR(【入力シート】栽培計画書!$K$6=List!$E$2,【入力シート】栽培計画書!$K$6=List!$E$4),【入力シート】栽培計画書!$L$6&"kg/10a",IF(【入力シート】栽培計画書!$K$6=List!$E$3,"播種量"&【入力シート】栽培計画書!$L$6&"kg/10a",""))) | I12: =IF(ISBLANK(【入力シート】栽培計画書!$O$6),"",(【入力シート】栽培計画書!$O$6)) | J12: =IF(ISBLANK(【入力シート】栽培計画書!$N$6),"",(【入力シート】栽培計画書!$N$6)) | K12: =IF(ISBLANK(【入力シート】栽培計画書!$S$6),"",(【入力シート】栽培計画書!$S$6)) | L12: =IF(ISBLANK(【入力シート】栽培計画書!$N$6),"",(【入力シート】栽培計画書!$N$6)) | M12: =IF(ISBLANK(【入力シート】栽培計画書!$B$6),"",(【入力シート】栽培計画書!$B$6))
B13: =IF(ISBLANK(【入力シート】栽培計画書!$B$6),"",(【入力シート】栽培計画書!$B$6)) | C13: =IF(ISBLANK(【入力シート】栽培計画書!$E$6),"",(【入力シート】栽培計画書!$E$6)) | D13: =IF(ISBLANK(【入力シート】栽培計画書!$B$6),"",(【入力シート】栽培計画書!$B$6)) | E13: =IF(ISBLANK(【入力シート】栽培計画書!$H$6),"",(【入力シート】栽培計画書!$H$6)) | F13: 月 | G13: =IF(ISBLANK(【入力シート】栽培計画書!$B$6),"",(【入力シート】栽培計画書!$B$6)) | H13: =IF(ISBLANK(【入力シート】栽培計画書!$B$6),"",(【入力シート】栽培計画書!$B$6)) | I13: =IF(ISBLANK(【入力シート】栽培計画書!$B$6),"",(【入力シート】栽培計画書!$B$6)) | J13: =IF(ISBLANK(【入力シート】栽培計画書!$B$6),"",(【入力シート】栽培計画書!$B$6)) | K13: =IF(ISBLANK(【入力シート】栽培計画書!$B$6),"",(【入力シート】栽培計画書!$B$6)) | L13: =IF(ISBLANK(【入力シート】栽培計画書!$B$6),"",(【入力シート】栽培計画書!$B$6)) | M13: =IF(ISBLANK(【入力シート】栽培計画書!$B$6),"",(【入力シート】栽培計画書!$B$6)) | O13: =IF(ISNUMBER(SEARCH("施設", C10)), "施設", IF(ISNUMBER(SEARCH("露地", C10)), "露地", "露地施設")) -> 露地施設
B14: =IF(ISBLANK(【入力シート】栽培計画書!$B$6),"",(【入力シート】栽培計画書!$B$6)) | C14: 土づくりの技術 具体的内容 | G14: =IF(ISBLANK(【入力シート】栽培計画書!$M$6),"",(【入力シート】栽培計画書!$M$6))
B15: =IF(ISBLANK(【入力シート】栽培計画書!$B$6),"",(【入力シート】栽培計画書!$B$6)) | C15: 化学合成農薬削減の技術 具体的内容 | G15: =IF(ISBLANK(【入力シート】栽培計画書!$Q$6),"",(【入力シート】栽培計画書!$Q$6))
B16: =IF(ISBLANK(【入力シート】栽培計画書!$B$6),"",(【入力シート】栽培計画書!$B$6)) | C16: 化学肥料削減の技術 具体的内容 | G16: =IF(ISBLANK(【入力シート】栽培計画書!$U$6),"",(【入力シート】栽培計画書!$U$6))
A17: =IF(ISBLANK(【入力シート】栽培計画書!$B$7),"",(【入力シート】栽培計画書!$B$7)) | B17: =IF(ISBLANK(【入力シート】栽培計画書!$C$7),"",(【入力シート】栽培計画書!$C$7)) | C17: =IF(ISBLANK(【入力シート】栽培計画書!$D$7),"",(【入力シート】栽培計画書!$D$7)) | D17: =IF(ISBLANK(【入力シート】栽培計画書!$F$7),"",(【入力シート】栽培計画書!$F$7)) | E17: =IF(ISBLANK(【入力シート】栽培計画書!$G$7),"",(【入力シート】栽培計画書!$G$7)) | F17: 月 | G17: =IF(ISBLANK(【入力シート】栽培計画書!$I$7),"",(【入力シート】栽培計画書!$I$7)) | H17: =IF(ISBLANK(【入力シート】栽培計画書!$J$7),"",IF(OR(【入力シート】栽培計画書!$I$7=List!$E$2,【入力シート】栽培計画書!$I$7=List!$E$4),【入力シート】栽培計画書!$J$7&"kg/10a",IF(【入力シート】栽培計画書!$I$7=List!$E$3,"播種量"&【入力シート】栽培計画書!$J$7&"kg/10a",""))) | I17: =IF(ISBLANK(【入力シート】栽培計画書!$N$7),"",(【入力シート】栽培計画書!$N$7)) | J17: =IF(ISBLANK(【入力シート】栽培計画書!$P$7),"",(【入力シート】栽培計画書!$P$7)) | K17: =IF(ISBLANK(【入力シート】栽培計画書!$R$7),"",(【入力シート】栽培計画書!$R$7)) | L17: =IF(ISBLANK(【入力シート】栽培計画書!$T$7),"",(【入力シート】栽培計画書!$T$7)) | M17: =IF(ISBLANK(【入力シート】栽培計画書!$V$7),"",(【入力シート】栽培計画書!$V$7))
B18: =IF(ISBLANK(【入力シート】栽培計画書!$B$6),"",(【入力シート】栽培計画書!$B$6)) | C18: =IF(ISBLANK(【入力シート】栽培計画書!$B$6),"",(【入力シート】栽培計画書!$B$6)) | D18: =IF(ISBLANK(【入力シート】栽培計画書!$B$6),"",(【入力シート】栽培計画書!$B$6)) | E18: ～ | G18: =IF(ISBLANK(【入力シート】栽培計画書!$B$6),"",(【入力シート】栽培計画書!$B$6)) | H18: =IF(ISBLANK(【入力シート】栽培計画書!$B$6),"",(【入力シート】栽培計画書!$B$6)) | I18: =IF(ISBLANK(【入力シート】栽培計画書!$B$6),"",(【入力シート】栽培計画書!$B$6)) | J18: =IF(ISBLANK(【入力シート】栽培計画書!$B$6),"",(【入力シート】栽培計画書!$B$6)) | K18: =IF(ISBLANK(【入力シート】栽培計画書!$B$6),"",(【入力シート】栽培計画書!$B$6)) | L18: =IF(ISBLANK(【入力シート】栽培計画書!$B$6),"",(【入力シート】栽培計画書!$B$6)) | M18: =IF(ISBLANK(【入力シート】栽培計画書!$B$6),"",(【入力シート】栽培計画書!$B$6))
B19: =IF(ISBLANK(【入力シート】栽培計画書!$B$6),"",(【入力シート】栽培計画書!$B$6)) | C19: =IF(ISBLANK(【入力シート】栽培計画書!$B$6),"",(【入力シート】栽培計画書!$B$6)) | D19: =IF(ISBLANK(【入力シート】栽培計画書!$B$6),"",(【入力シート】栽培計画書!$B$6)) | G19: =IF(ISBLANK(【入力シート】栽培計画書!$K$7),"",(【入力シート】栽培計画書!$K$7)) | H19: =IF(ISBLANK(【入力シート】栽培計画書!$L$7),"",IF(OR(【入力シート】栽培計画書!$K$7=List!$E$2,【入力シート】栽培計画書!$K$7=List!$E$4),【入力シート】栽培計画書!$L$7&"kg/10a",IF(【入力シート】栽培計画書!$K$7=List!$E$3,"播種量"&【入力シート】栽培計画書!$L$7&"kg/10a",""))) | I19: =IF(ISBLANK(【入力シート】栽培計画書!$O$7),"",(【入力シート】栽培計画書!$O$7)) | J19: =IF(ISBLANK(【入力シート】栽培計画書!$N$6),"",(【入力シート】栽培計画書!$N$6)) | K19: =IF(ISBLANK(【入力シート】栽培計画書!$S$7),"",(【入力シート】栽培計画書!$S$7)) | L19: =IF(ISBLANK(【入力シート】栽培計画書!$N$6),"",(【入力シート】栽培計画書!$N$6)) | M19: =IF(ISBLANK(【入力シート】栽培計画書!$B$6),"",(【入力シート】栽培計画書!$B$6))
B20: =IF(ISBLANK(【入力シート】栽培計画書!$B$6),"",(【入力シート】栽培計画書!$B$6)) | C20: =IF(ISBLANK(【入力シート】栽培計画書!$E$7),"",(【入力シート】栽培計画書!$E$7)) | D20: =IF(ISBLANK(【入力シート】栽培計画書!$B$6),"",(【入力シート】栽培計画書!$B$6)) | E20: =IF(ISBLANK(【入力シート】栽培計画書!$H$7),"",(【入力シート】栽培計画書!$H$7)) | F20: 月 | G20: =IF(ISBLANK(【入力シート】栽培計画書!$B$6),"",(【入力シート】栽培計画書!$B$6)) | H20: =IF(ISBLANK(【入力シート】栽培計画書!$B$6),"",(【入力シート】栽培計画書!$B$6)) | I20: =IF(ISBLANK(【入力シート】栽培計画書!$B$6),"",(【入力シート】栽培計画書!$B$6)) | J20: =IF(ISBLANK(【入力シート】栽培計画書!$B$6),"",(【入力シート】栽培計画書!$B$6)) | K20: =IF(ISBLANK(【入力シート】栽培計画書!$B$6),"",(【入力シート】栽培計画書!$B$6)) | L20: =IF(ISBLANK(【入力シート】栽培計画書!$B$6),"",(【入力シート】栽培計画書!$B$6)) | M20: =IF(ISBLANK(【入力シート】栽培計画書!$B$6),"",(【入力シート】栽培計画書!$B$6)) | O20: =IF(ISNUMBER(SEARCH("施設", C17)), "施設", IF(ISNUMBER(SEARCH("露地", C17)), "露地", "露地施設")) -> 露地施設
B21: =IF(ISBLANK(【入力シート】栽培計画書!$B$6),"",(【入力シート】栽培計画書!$B$6)) | C21: 土づくりの技術 具体的内容 | G21: =IF(ISBLANK(【入力シート】栽培計画書!$M$7),"",(【入力シート】栽培計画書!$M$7)) | Q21: 品目・作型の列挙、合体の処理
B22: =IF(ISBLANK(【入力シート】栽培計画書!$B$6),"",(【入力シート】栽培計画書!$B$6)) | C22: 化学合成農薬削減の技術 具体的内容 | G22: =IF(ISBLANK(【入力シート】栽培計画書!$Q$7),"",(【入力シート】栽培計画書!$Q$7)) | Q22: ①入力内容の値を↓ここに自動的に持ってきて、 次に↓エコ区分ごとに分ける （作型なし版、作型あり版） | AA22: 作付面積はD列
B23: =IF(ISBLANK(【入力シート】栽培計画書!$B$6),"",(【入力シート】栽培計画書!$B$6)) | C23: 化学肥料削減の技術 具体的内容 | G23: =IF(ISBLANK(【入力シート】栽培計画書!$U$7),"",(【入力シート】栽培計画書!$U$7)) | P23: 品目・作型の集計 | Q23: エコ区分 | R23: 作物名 | S23: 作型 | T23: ①エコ25 | U23: ②エコ50 | V23: ③エコ100 | W23: エコ25作型付き | X23: エコ50作型付き | Y23: エコ100作型付き | Z23: （参考） 参照する欄の行番号 | AA23: 作付面積 （区分問わず） | AB23: エコ25 作付面積 | AC23: エコ50 作付面積 | AD23: エコ100 作付面積
A24: =IF(ISBLANK(【入力シート】栽培計画書!$B$8),"",(【入力シート】栽培計画書!$B$8)) | B24: =IF(ISBLANK(【入力シート】栽培計画書!$C$8),"",(【入力シート】栽培計画書!$C$8)) | C24: =IF(ISBLANK(【入力シート】栽培計画書!$D$8),"",(【入力シート】栽培計画書!$D$8)) | D24: =IF(ISBLANK(【入力シート】栽培計画書!$F$8),"",(【入力シート】栽培計画書!$F$8)) | E24: =IF(ISBLANK(【入力シート】栽培計画書!$G$8),"",(【入力シート】栽培計画書!$G$8)) | F24: 月 | G24: =IF(ISBLANK(【入力シート】栽培計画書!$I$8),"",(【入力シート】栽培計画書!$I$8)) | H24: =IF(ISBLANK(【入力シート】栽培計画書!$J$8),"",IF(OR(【入力シート】栽培計画書!$I$8=List!$E$2,【入力シート】栽培計画書!$I$8=List!$E$4),【入力シート】栽培計画書!$J$8&"kg/10a",IF(【入力シート】栽培計画書!$I$8=List!$E$3,"播種量"&【入力シート】栽培計画書!$J$8&"kg/10a",""))) | I24: =IF(ISBLANK(【入力シート】栽培計画書!$N$8),"",(【入力シート】栽培計画書!$N$8)) | J24: =IF(ISBLANK(【入力シート】栽培計画書!$P$8),"",(【入力シート】栽培計画書!$P$8)) | K24: =IF(ISBLANK(【入力シート】栽培計画書!$R$8),"",(【入力シート】栽培計画書!$R$8)) | L24: =IF(ISBLANK(【入力シート】栽培計画書!$T$8),"",(【入力シート】栽培計画書!$T$8)) | M24: =IF(ISBLANK(【入力シート】栽培計画書!$V$8),"",(【入力シート】栽培計画書!$V$8)) | P24: ページ１ 欄1 | Q24: =IF(A10="","",B10) | R24: =IF(A10="","",A10) | S24: =IF(A10="","",IF(C10="","",C10)) | T24: =IF($Q24="①エコ25",$R24,"") | U24: =IF($Q24="②エコ50",$R24,"") | V24: =IF($Q24="③エコ100",$R24,"") | W24: =IF($Q24="①エコ25",$R24&$S24,"") | X24: =IF($Q24="②エコ50",$R24&$S24,"") | Y24: =IF($Q24="③エコ100",$R24&$S24,"") | Z24: 9 | AA24: =IF(A10="","",D10) | AB24: =IF($Q24="①エコ25",$AA24,"") | AC24: =IF($Q24="②エコ50",$AA24,"") | AD24: =IF($Q24="③エコ100",$AA24,"")
B25: =IF(ISBLANK(【入力シート】栽培計画書!$B$6),"",(【入力シート】栽培計画書!$B$6)) | C25: =IF(ISBLANK(【入力シート】栽培計画書!$B$6),"",(【入力シート】栽培計画書!$B$6)) | D25: =IF(ISBLANK(【入力シート】栽培計画書!$B$6),"",(【入力シート】栽培計画書!$B$6)) | E25: ～ | G25: =IF(ISBLANK(【入力シート】栽培計画書!$B$6),"",(【入力シート】栽培計画書!$B$6)) | H25: =IF(ISBLANK(【入力シート】栽培計画書!$B$6),"",(【入力シート】栽培計画書!$B$6)) | I25: =IF(ISBLANK(【入力シート】栽培計画書!$B$6),"",(【入力シート】栽培計画書!$B$6)) | J25: =IF(ISBLANK(【入力シート】栽培計画書!$B$6),"",(【入力シート】栽培計画書!$B$6)) | K25: =IF(ISBLANK(【入力シート】栽培計画書!$B$6),"",(【入力シート】栽培計画書!$B$6)) | L25: =IF(ISBLANK(【入力シート】栽培計画書!$B$6),"",(【入力シート】栽培計画書!$B$6)) | M25: =IF(ISBLANK(【入力シート】栽培計画書!$B$6),"",(【入力シート】栽培計画書!$B$6)) | P25: 欄2 | Q25: =IF(A17="","",B17) | R25: =IF(A17="","",A17) | S25: =IF(A17="","",IF(C17="","",C17)) | T25: =IF($Q25="①エコ25",$R25,"") | U25: =IF($Q25="②エコ50",$R25,"") | V25: =IF($Q25="③エコ100",$R25,"") | W25: =IF($Q25="①エコ25",$R25&$S25,"") | X25: =IF($Q25="②エコ50",$R25&$S25,"") | Y25: =IF($Q25="③エコ100",$R25&$S25,"") | Z25: 16 | AA25: =IF(A17="","",D17) | AB25: =IF($Q25="①エコ25",AA25,"") | AC25: =IF($Q25="②エコ50",$AA25,"") | AD25: =IF($Q25="③エコ100",$AA25,"")
B26: =IF(ISBLANK(【入力シート】栽培計画書!$B$6),"",(【入力シート】栽培計画書!$B$6)) | C26: =IF(ISBLANK(【入力シート】栽培計画書!$B$6),"",(【入力シート】栽培計画書!$B$6)) | D26: =IF(ISBLANK(【入力シート】栽培計画書!$B$6),"",(【入力シート】栽培計画書!$B$6)) | G26: =IF(ISBLANK(【入力シート】栽培計画書!$K$8),"",(【入力シート】栽培計画書!$K$8)) | H26: =IF(ISBLANK(【入力シート】栽培計画書!$L$8),"",IF(OR(【入力シート】栽培計画書!$K$8=List!$E$2,【入力シート】栽培計画書!$K$8=List!$E$4),【入力シート】栽培計画書!$L$8&"kg/10a",IF(【入力シート】栽培計画書!$K$8=List!$E$3,"播種量"&【入力シート】栽培計画書!$L$8&"kg/10a",""))) | I26: =IF(ISBLANK(【入力シート】栽培計画書!$O$8),"",(【入力シート】栽培計画書!$O$8)) | J26: =IF(ISBLANK(【入力シート】栽培計画書!$N$6),"",(【入力シート】栽培計画書!$N$6)) | K26: =IF(ISBLANK(【入力シート】栽培計画書!$S$8),"",(【入力シート】栽培計画書!$S$8)) | L26: =IF(ISBLANK(【入力シート】栽培計画書!$N$6),"",(【入力シート】栽培計画書!$N$6)) | M26: =IF(ISBLANK(【入力シート】栽培計画書!$B$6),"",(【入力シート】栽培計画書!$B$6)) | P26: 欄3 | Q26: =IF(A24="","",B24) | R26: =IF(A24="","",A24) | S26: =IF(A24="","",IF(C24="","",C24)) | T26: =IF($Q26="①エコ25",$R26,"") | U26: =IF($Q26="②エコ50",$R26,"") | V26: =IF($Q26="③エコ100",$R26,"") | W26: =IF($Q26="①エコ25",$R26&$S26,"") | X26: =IF($Q26="②エコ50",$R26&$S26,"") | Y26: =IF($Q26="③エコ100",$R26&$S26,"") | Z26: 23 | AA26: =IF(A24="","",D24) | AB26: =IF($Q26="①エコ25",AA26,"") | AC26: =IF($Q26="②エコ50",$AA26,"") | AD26: =IF($Q26="③エコ100",$AA26,"")
B27: =IF(ISBLANK(【入力シート】栽培計画書!$B$6),"",(【入力シート】栽培計画書!$B$6)) | C27: =IF(ISBLANK(【入力シート】栽培計画書!$E$8),"",(【入力シート】栽培計画書!$E$8)) | D27: =IF(ISBLANK(【入力シート】栽培計画書!$B$6),"",(【入力シート】栽培計画書!$B$6)) | E27: =IF(ISBLANK(【入力シート】栽培計画書!$H$8),"",(【入力シート】栽培計画書!$H$8)) | F27: 月 | G27: =IF(ISBLANK(【入力シート】栽培計画書!$B$6),"",(【入力シート】栽培計画書!$B$6)) | H27: =IF(ISBLANK(【入力シート】栽培計画書!$B$6),"",(【入力シート】栽培計画書!$B$6)) | I27: =IF(ISBLANK(【入力シート】栽培計画書!$B$6),"",(【入力シート】栽培計画書!$B$6)) | J27: =IF(ISBLANK(【入力シート】栽培計画書!$B$6),"",(【入力シート】栽培計画書!$B$6)) | K27: =IF(ISBLANK(【入力シート】栽培計画書!$B$6),"",(【入力シート】栽培計画書!$B$6)) | L27: =IF(ISBLANK(【入力シート】栽培計画書!$B$6),"",(【入力シート】栽培計画書!$B$6)) | M27: =IF(ISBLANK(【入力シート】栽培計画書!$B$6),"",(【入力シート】栽培計画書!$B$6)) | O27: =IF(ISNUMBER(SEARCH("施設", C24)), "施設", IF(ISNUMBER(SEARCH("露地", C24)), "露地", "露地施設")) -> 露地施設 | P27: 欄4 | Q27: =IF(A31="","",B31) | R27: =IF(A31="","",A31) | S27: =IF(A31="","",IF(C31="","",C31)) | T27: =IF($Q27="①エコ25",$R27,"") | U27: =IF($Q27="②エコ50",$R27,"") | V27: =IF($Q27="③エコ100",$R27,"") | W27: =IF($Q27="①エコ25",$R27&$S27,"") | X27: =IF($Q27="②エコ50",$R27&$S27,"") | Y27: =IF($Q27="③エコ100",$R27&$S27,"") | Z27: 30 | AA27: =IF(A31="","",D31) | AB27: =IF($Q27="①エコ25",AA27,"") | AC27: =IF($Q27="②エコ50",$AA27,"") | AD27: =IF($Q27="③エコ100",$AA27,"")
B28: =IF(ISBLANK(【入力シート】栽培計画書!$B$6),"",(【入力シート】栽培計画書!$B$6)) | C28: 土づくりの技術 具体的内容 | G28: =IF(ISBLANK(【入力シート】栽培計画書!$M$8),"",(【入力シート】栽培計画書!$M$8)) | P28: 欄5 | Q28: =IF(A38="","",B38) | R28: =IF(A38="","",A38) | S28: =IF(A38="","",IF(C38="","",C38)) | T28: =IF($Q28="①エコ25",$R28,"") | U28: =IF($Q28="②エコ50",$R28,"") | V28: =IF($Q28="③エコ100",$R28,"") | W28: =IF($Q28="①エコ25",$R28&$S28,"") | X28: =IF($Q28="②エコ50",$R28&$S28,"") | Y28: =IF($Q28="③エコ100",$R28&$S28,"") | Z28: 37 | AA28: =IF(A38="","",D38) | AB28: =IF($Q28="①エコ25",AA28,"") | AC28: =IF($Q28="②エコ50",$AA28,"") | AD28: =IF($Q28="③エコ100",$AA28,"")
B29: =IF(ISBLANK(【入力シート】栽培計画書!$B$6),"",(【入力シート】栽培計画書!$B$6)) | C29: 化学合成農薬削減の技術 具体的内容 | G29: =IF(ISBLANK(【入力シート】栽培計画書!$Q$8),"",(【入力シート】栽培計画書!$Q$8)) | P29: ページ２ 欄1 | Q29: =IF(A57="","",B57) | R29: =IF(A57="","",A57) | S29: =IF(A57="","",IF(C57="","",C57)) | T29: =IF($Q29="①エコ25",$R29,"") | U29: =IF($Q29="②エコ50",$R29,"") | V29: =IF($Q29="③エコ100",$R29,"") | W29: =IF($Q29="①エコ25",$R29&$S29,"") | X29: =IF($Q29="②エコ50",$R29&$S29,"") | Y29: =IF($Q29="③エコ100",$R29&$S29,"") | Z29: 56 | AA29: =IF(A57="","",D57) | AB29: =IF($Q29="①エコ25",AA29,"") | AC29: =IF($Q29="②エコ50",$AA29,"") | AD29: =IF($Q29="③エコ100",$AA29,"")
B30: =IF(ISBLANK(【入力シート】栽培計画書!$B$6),"",(【入力シート】栽培計画書!$B$6)) | C30: 化学肥料削減の技術 具体的内容 | G30: =IF(ISBLANK(【入力シート】栽培計画書!$U$8),"",(【入力シート】栽培計画書!$U$8)) | P30: 欄2 | Q30: =IF(A64="","",B64) | R30: =IF(A64="","",A64) | S30: =IF(A64="","",IF(C64="","",C64)) | T30: =IF($Q30="①エコ25",$R30,"") | U30: =IF($Q30="②エコ50",$R30,"") | V30: =IF($Q30="③エコ100",$R30,"") | W30: =IF($Q30="①エコ25",$R30&$S30,"") | X30: =IF($Q30="②エコ50",$R30&$S30,"") | Y30: =IF($Q30="③エコ100",$R30&$S30,"") | Z30: 63 | AA30: =IF(A64="","",D64) | AB30: =IF($Q30="①エコ25",AA30,"") | AC30: =IF($Q30="②エコ50",$AA30,"") | AD30: =IF($Q30="③エコ100",$AA30,"")
A31: =IF(ISBLANK(【入力シート】栽培計画書!$B$9),"",(【入力シート】栽培計画書!$B$9)) | B31: =IF(ISBLANK(【入力シート】栽培計画書!$C$9),"",(【入力シート】栽培計画書!$C$9)) | C31: =IF(ISBLANK(【入力シート】栽培計画書!$D$9),"",(【入力シート】栽培計画書!$D$9)) | D31: =IF(ISBLANK(【入力シート】栽培計画書!$F$9),"",(【入力シート】栽培計画書!$F$9)) | E31: =IF(ISBLANK(【入力シート】栽培計画書!$G$9),"",(【入力シート】栽培計画書!$G$9)) | F31: 月 | G31: =IF(ISBLANK(【入力シート】栽培計画書!$I$9),"",(【入力シート】栽培計画書!$I$9)) | H31: =IF(ISBLANK(【入力シート】栽培計画書!$J$9),"",IF(OR(【入力シート】栽培計画書!$I$9=List!$E$2,【入力シート】栽培計画書!$I$9=List!$E$4),【入力シート】栽培計画書!$J$9&"kg/10a",IF(【入力シート】栽培計画書!$I$9=List!$E$3,"播種量"&【入力シート】栽培計画書!$J$9&"kg/10a",""))) | I31: =IF(ISBLANK(【入力シート】栽培計画書!$N$9),"",(【入力シート】栽培計画書!$N$9)) | J31: =IF(ISBLANK(【入力シート】栽培計画書!$P$9),"",(【入力シート】栽培計画書!$P$9)) | K31: =IF(ISBLANK(【入力シート】栽培計画書!$R$9),"",(【入力シート】栽培計画書!$R$9)) | L31: =IF(ISBLANK(【入力シート】栽培計画書!$T$9),"",(【入力シート】栽培計画書!$T$9)) | M31: =IF(ISBLANK(【入力シート】栽培計画書!$V$9),"",(【入力シート】栽培計画書!$V$9)) | P31: 欄3 | Q31: =IF(A71="","",B71) | R31: =IF(A71="","",A71) | S31: =IF(A71="","",IF(C71="","",C71)) | T31: =IF($Q31="①エコ25",$R31,"") | U31: =IF($Q31="②エコ50",$R31,"") | V31: =IF($Q31="③エコ100",$R31,"") | W31: =IF($Q31="①エコ25",$R31&$S31,"") | X31: =IF($Q31="②エコ50",$R31&$S31,"") | Y31: =IF($Q31="③エコ100",$R31&$S31,"") | Z31: 70 | AA31: =IF(A71="","",D71) | AB31: =IF($Q31="①エコ25",AA31,"") | AC31: =IF($Q31="②エコ50",$AA31,"") | AD31: =IF($Q31="③エコ100",$AA31,"")
B32: =IF(ISBLANK(【入力シート】栽培計画書!$B$6),"",(【入力シート】栽培計画書!$B$6)) | C32: =IF(ISBLANK(【入力シート】栽培計画書!$B$6),"",(【入力シート】栽培計画書!$B$6)) | D32: =IF(ISBLANK(【入力シート】栽培計画書!$B$6),"",(【入力シート】栽培計画書!$B$6)) | E32: ～ | G32: =IF(ISBLANK(【入力シート】栽培計画書!$B$6),"",(【入力シート】栽培計画書!$B$6)) | H32: =IF(ISBLANK(【入力シート】栽培計画書!$B$6),"",(【入力シート】栽培計画書!$B$6)) | I32: =IF(ISBLANK(【入力シート】栽培計画書!$B$6),"",(【入力シート】栽培計画書!$B$6)) | J32: =IF(ISBLANK(【入力シート】栽培計画書!$B$6),"",(【入力シート】栽培計画書!$B$6)) | K32: =IF(ISBLANK(【入力シート】栽培計画書!$B$6),"",(【入力シート】栽培計画書!$B$6)) | L32: =IF(ISBLANK(【入力シート】栽培計画書!$B$6),"",(【入力シート】栽培計画書!$B$6)) | M32: =IF(ISBLANK(【入力シート】栽培計画書!$B$6),"",(【入力シート】栽培計画書!$B$6)) | P32: 欄4 | Q32: =IF(A78="","",B78) | R32: =IF(A78="","",A78) | S32: =IF(A78="","",IF(C78="","",C78)) | T32: =IF($Q32="①エコ25",$R32,"") | U32: =IF($Q32="②エコ50",$R32,"") | V32: =IF($Q32="③エコ100",$R32,"") | W32: =IF($Q32="①エコ25",$R32&$S32,"") | X32: =IF($Q32="②エコ50",$R32&$S32,"") | Y32: =IF($Q32="③エコ100",$R32&$S32,"") | Z32: 77 | AA32: =IF(A78="","",D78) | AB32: =IF($Q32="①エコ25",AA32,"") | AC32: =IF($Q32="②エコ50",$AA32,"") | AD32: =IF($Q32="③エコ100",$AA32,"")
B33: =IF(ISBLANK(【入力シート】栽培計画書!$B$6),"",(【入力シート】栽培計画書!$B$6)) | C33: =IF(ISBLANK(【入力シート】栽培計画書!$B$6),"",(【入力シート】栽培計画書!$B$6)) | D33: =IF(ISBLANK(【入力シート】栽培計画書!$B$6),"",(【入力シート】栽培計画書!$B$6)) | G33: =IF(ISBLANK(【入力シート】栽培計画書!$K$9),"",(【入力シート】栽培計画書!$K$9)) | H33: =IF(ISBLANK(【入力シート】栽培計画書!$L$9),"",IF(OR(【入力シート】栽培計画書!$K$9=List!$E$2,【入力シート】栽培計画書!$K$9=List!$E$4),【入力シート】栽培計画書!$L$9&"kg/10a",IF(【入力シート】栽培計画書!$K$9=List!$E$3,"播種量"&【入力シート】栽培計画書!$L$9&"kg/10a",""))) | I33: =IF(ISBLANK(【入力シート】栽培計画書!$O$9),"",(【入力シート】栽培計画書!$O$9)) | J33: =IF(ISBLANK(【入力シート】栽培計画書!$N$6),"",(【入力シート】栽培計画書!$N$6)) | K33: =IF(ISBLANK(【入力シート】栽培計画書!$S$9),"",(【入力シート】栽培計画書!$S$9)) | L33: =IF(ISBLANK(【入力シート】栽培計画書!$N$6),"",(【入力シート】栽培計画書!$N$6)) | M33: =IF(ISBLANK(【入力シート】栽培計画書!$B$6),"",(【入力シート】栽培計画書!$B$6)) | P33: 欄5 | Q33: =IF(A85="","",B85) | R33: =IF(A85="","",A85) | S33: =IF(A85="","",IF(C85="","",C85)) | T33: =IF($Q33="①エコ25",$R33,"") | U33: =IF($Q33="②エコ50",$R33,"") | V33: =IF($Q33="③エコ100",$R33,"") | W33: =IF($Q33="①エコ25",$R33&$S33,"") | X33: =IF($Q33="②エコ50",$R33&$S33,"") | Y33: =IF($Q33="③エコ100",$R33&$S33,"") | Z33: 84 | AA33: =IF(A85="","",D85) | AB33: =IF($Q33="①エコ25",AA33,"") | AC33: =IF($Q33="②エコ50",$AA33,"") | AD33: =IF($Q33="③エコ100",$AA33,"")
B34: =IF(ISBLANK(【入力シート】栽培計画書!$B$6),"",(【入力シート】栽培計画書!$B$6)) | C34: =IF(ISBLANK(【入力シート】栽培計画書!$E$9),"",(【入力シート】栽培計画書!$E$9)) | D34: =IF(ISBLANK(【入力シート】栽培計画書!$B$6),"",(【入力シート】栽培計画書!$B$6)) | E34: =IF(ISBLANK(【入力シート】栽培計画書!$H$9),"",(【入力シート】栽培計画書!$H$9)) | F34: 月 | G34: =IF(ISBLANK(【入力シート】栽培計画書!$B$6),"",(【入力シート】栽培計画書!$B$6)) | H34: =IF(ISBLANK(【入力シート】栽培計画書!$B$6),"",(【入力シート】栽培計画書!$B$6)) | I34: =IF(ISBLANK(【入力シート】栽培計画書!$B$6),"",(【入力シート】栽培計画書!$B$6)) | J34: =IF(ISBLANK(【入力シート】栽培計画書!$B$6),"",(【入力シート】栽培計画書!$B$6)) | K34: =IF(ISBLANK(【入力シート】栽培計画書!$B$6),"",(【入力シート】栽培計画書!$B$6)) | L34: =IF(ISBLANK(【入力シート】栽培計画書!$B$6),"",(【入力シート】栽培計画書!$B$6)) | M34: =IF(ISBLANK(【入力シート】栽培計画書!$B$6),"",(【入力シート】栽培計画書!$B$6)) | O34: =IF(ISNUMBER(SEARCH("施設", C31)), "施設", IF(ISNUMBER(SEARCH("露地", C31)), "露地", "露地施設")) -> 露地施設 | P34: ページ３ 欄1 | Q34: =IF(A104="","",B104) | R34: =IF(A104="","",A104) | S34: =IF(A104="","",IF(C104="","",C104)) | T34: =IF($Q34="①エコ25",$R34,"") | U34: =IF($Q34="②エコ50",$R34,"") | V34: =IF($Q34="③エコ100",$R34,"") | W34: =IF($Q34="①エコ25",$R34&$S34,"") | X34: =IF($Q34="②エコ50",$R34&$S34,"") | Y34: =IF($Q34="③エコ100",$R34&$S34,"") | Z34: 103 | AA34: =IF(A104="","",D104) | AB34: =IF($Q34="①エコ25",AA34,"") | AC34: =IF($Q34="②エコ50",$AA34,"") | AD34: =IF($Q34="③エコ100",$AA34,"")
B35: =IF(ISBLANK(【入力シート】栽培計画書!$B$6),"",(【入力シート】栽培計画書!$B$6)) | C35: 土づくりの技術 具体的内容 | G35: =IF(ISBLANK(【入力シート】栽培計画書!$M$9),"",(【入力シート】栽培計画書!$M$9)) | P35: 欄2 | Q35: =IF(A111="","",B111) | R35: =IF(A111="","",A111) | S35: =IF(A111="","",IF(C111="","",C111)) | T35: =IF($Q35="①エコ25",$R35,"") | U35: =IF($Q35="②エコ50",$R35,"") | V35: =IF($Q35="③エコ100",$R35,"") | W35: =IF($Q35="①エコ25",$R35&$S35,"") | X35: =IF($Q35="②エコ50",$R35&$S35,"") | Y35: =IF($Q35="③エコ100",$R35&$S35,"") | Z35: 110 | AA35: =IF(A111="","",D111) | AB35: =IF($Q35="①エコ25",AA35,"") | AC35: =IF($Q35="②エコ50",$AA35,"") | AD35: =IF($Q35="③エコ100",$AA35,"")
B36: =IF(ISBLANK(【入力シート】栽培計画書!$B$6),"",(【入力シート】栽培計画書!$B$6)) | C36: 化学合成農薬削減の技術 具体的内容 | G36: =IF(ISBLANK(【入力シート】栽培計画書!$Q$9),"",(【入力シート】栽培計画書!$Q$9)) | P36: 欄3 | Q36: =IF(A118="","",B118) | R36: =IF(A118="","",A118) | S36: =IF(A118="","",IF(C118="","",C118)) | T36: =IF($Q36="①エコ25",$R36,"") | U36: =IF($Q36="②エコ50",$R36,"") | V36: =IF($Q36="③エコ100",$R36,"") | W36: =IF($Q36="①エコ25",$R36&$S36,"") | X36: =IF($Q36="②エコ50",$R36&$S36,"") | Y36: =IF($Q36="③エコ100",$R36&$S36,"") | Z36: 117 | AA36: =IF(A118="","",D118) | AB36: =IF($Q36="①エコ25",AA36,"") | AC36: =IF($Q36="②エコ50",$AA36,"") | AD36: =IF($Q36="③エコ100",$AA36,"")
B37: =IF(ISBLANK(【入力シート】栽培計画書!$B$6),"",(【入力シート】栽培計画書!$B$6)) | C37: 化学肥料削減の技術 具体的内容 | G37: =IF(ISBLANK(【入力シート】栽培計画書!$U$9),"",(【入力シート】栽培計画書!$U$9)) | P37: 欄4 | Q37: =IF(A125="","",B125) | R37: =IF(A125="","",A125) | S37: =IF(A125="","",IF(C125="","",C125)) | T37: =IF($Q37="①エコ25",$R37,"") | U37: =IF($Q37="②エコ50",$R37,"") | V37: =IF($Q37="③エコ100",$R37,"") | W37: =IF($Q37="①エコ25",$R37&$S37,"") | X37: =IF($Q37="②エコ50",$R37&$S37,"") | Y37: =IF($Q37="③エコ100",$R37&$S37,"") | Z37: 124 | AA37: =IF(A125="","",D125) | AB37: =IF($Q37="①エコ25",AA37,"") | AC37: =IF($Q37="②エコ50",$AA37,"") | AD37: =IF($Q37="③エコ100",$AA37,"")
A38: =IF(ISBLANK(【入力シート】栽培計画書!$B$10),"",(【入力シート】栽培計画書!$B$10)) | B38: =IF(ISBLANK(【入力シート】栽培計画書!$C$10),"",(【入力シート】栽培計画書!$C$10)) | C38: =IF(ISBLANK(【入力シート】栽培計画書!$D$10),"",(【入力シート】栽培計画書!$D$10)) | D38: =IF(ISBLANK(【入力シート】栽培計画書!$F$10),"",(【入力シート】栽培計画書!$F$10)) | E38: =IF(ISBLANK(【入力シート】栽培計画書!$G$10),"",(【入力シート】栽培計画書!$G$10)) | F38: 月 | G38: =IF(ISBLANK(【入力シート】栽培計画書!$I$10),"",(【入力シート】栽培計画書!$I$10)) | H38: =IF(ISBLANK(【入力シート】栽培計画書!$J$10),"",IF(OR(【入力シート】栽培計画書!$I$10=List!$E$2,【入力シート】栽培計画書!$I$10=List!$E$4),【入力シート】栽培計画書!$J$10&"kg/10a",IF(【入力シート】栽培計画書!$I$10=List!$E$3,"播種量"&【入力シート】栽培計画書!$J$10&"kg/10a",""))) | I38: =IF(ISBLANK(【入力シート】栽培計画書!$N$10),"",(【入力シート】栽培計画書!$N$10)) | J38: =IF(ISBLANK(【入力シート】栽培計画書!$P$10),"",(【入力シート】栽培計画書!$P$10)) | K38: =IF(ISBLANK(【入力シート】栽培計画書!$R$10),"",(【入力シート】栽培計画書!$R$10)) | L38: =IF(ISBLANK(【入力シート】栽培計画書!$T$10),"",(【入力シート】栽培計画書!$T$10)) | M38: =IF(ISBLANK(【入力シート】栽培計画書!$V$10),"",(【入力シート】栽培計画書!$V$10)) | P38: 欄5 | Q38: =IF(A132="","",B132) | R38: =IF(A132="","",A132) | S38: =IF(A132="","",IF(C132="","",C132)) | T38: =IF($Q38="①エコ25",$R38,"") | U38: =IF($Q38="②エコ50",$R38,"") | V38: =IF($Q38="③エコ100",$R38,"") | W38: =IF($Q38="①エコ25",$R38&$S38,"") | X38: =IF($Q38="②エコ50",$R38&$S38,"") | Y38: =IF($Q38="③エコ100",$R38&$S38,"") | Z38: 131 | AA38: =IF(A132="","",D132) | AB38: =IF($Q38="①エコ25",AA38,"") | AC38: =IF($Q38="②エコ50",$AA38,"") | AD38: =IF($Q38="③エコ100",$AA38,"")
B39: =IF(ISBLANK(【入力シート】栽培計画書!$B$6),"",(【入力シート】栽培計画書!$B$6)) | C39: =IF(ISBLANK(【入力シート】栽培計画書!$B$6),"",(【入力シート】栽培計画書!$B$6)) | D39: =IF(ISBLANK(【入力シート】栽培計画書!$B$6),"",(【入力シート】栽培計画書!$B$6)) | E39: ～ | G39: =IF(ISBLANK(【入力シート】栽培計画書!$B$6),"",(【入力シート】栽培計画書!$B$6)) | H39: =IF(ISBLANK(【入力シート】栽培計画書!$B$6),"",(【入力シート】栽培計画書!$B$6)) | I39: =IF(ISBLANK(【入力シート】栽培計画書!$B$6),"",(【入力シート】栽培計画書!$B$6)) | J39: =IF(ISBLANK(【入力シート】栽培計画書!$B$6),"",(【入力シート】栽培計画書!$B$6)) | K39: =IF(ISBLANK(【入力シート】栽培計画書!$B$6),"",(【入力シート】栽培計画書!$B$6)) | L39: =IF(ISBLANK(【入力シート】栽培計画書!$B$6),"",(【入力シート】栽培計画書!$B$6)) | M39: =IF(ISBLANK(【入力シート】栽培計画書!$B$6),"",(【入力シート】栽培計画書!$B$6)) | P39: ページ４ 欄1 | Q39: =IF(A151="","",B151) | R39: =IF(A151="","",A151) | S39: =IF(A151="","",IF(C151="","",C151)) | T39: =IF($Q39="①エコ25",$R39,"") | U39: =IF($Q39="②エコ50",$R39,"") | V39: =IF($Q39="③エコ100",$R39,"") | W39: =IF($Q39="①エコ25",$R39&$S39,"") | X39: =IF($Q39="②エコ50",$R39&$S39,"") | Y39: =IF($Q39="③エコ100",$R39&$S39,"") | Z39: 150 | AA39: =IF(A151="","",D151) | AB39: =IF($Q39="①エコ25",AA39,"") | AC39: =IF($Q39="②エコ50",$AA39,"") | AD39: =IF($Q39="③エコ100",$AA39,"")
B40: =IF(ISBLANK(【入力シート】栽培計画書!$B$6),"",(【入力シート】栽培計画書!$B$6)) | C40: =IF(ISBLANK(【入力シート】栽培計画書!$B$6),"",(【入力シート】栽培計画書!$B$6)) | D40: =IF(ISBLANK(【入力シート】栽培計画書!$B$6),"",(【入力シート】栽培計画書!$B$6)) | G40: =IF(ISBLANK(【入力シート】栽培計画書!$K$10),"",(【入力シート】栽培計画書!$K$10)) | H40: =IF(ISBLANK(【入力シート】栽培計画書!$L$10),"",IF(OR(【入力シート】栽培計画書!$K$10=List!$E$2,【入力シート】栽培計画書!$K$10=List!$E$4),【入力シート】栽培計画書!$L$10&"kg/10a",IF(【入力シート】栽培計画書!$K$10=List!$E$3,"播種量"&【入力シート】栽培計画書!$L$10&"kg/10a",""))) | I40: =IF(ISBLANK(【入力シート】栽培計画書!$O$10),"",(【入力シート】栽培計画書!$O$10)) | J40: =IF(ISBLANK(【入力シート】栽培計画書!$N$6),"",(【入力シート】栽培計画書!$N$6)) | K40: =IF(ISBLANK(【入力シート】栽培計画書!$S$10),"",(【入力シート】栽培計画書!$S$10)) | L40: =IF(ISBLANK(【入力シート】栽培計画書!$N$6),"",(【入力シート】栽培計画書!$N$6)) | M40: =IF(ISBLANK(【入力シート】栽培計画書!$B$6),"",(【入力シート】栽培計画書!$B$6)) | P40: 欄2 | Q40: =IF(A158="","",B158) | R40: =IF(A158="","",A158) | S40: =IF(A158="","",IF(C158="","",C158)) | T40: =IF($Q40="①エコ25",$R40,"") | U40: =IF($Q40="②エコ50",$R40,"") | V40: =IF($Q40="③エコ100",$R40,"") | W40: =IF($Q40="①エコ25",$R40&$S40,"") | X40: =IF($Q40="②エコ50",$R40&$S40,"") | Y40: =IF($Q40="③エコ100",$R40&$S40,"") | Z40: 157 | AA40: =IF(A158="","",D158) | AB40: =IF($Q40="①エコ25",AA40,"") | AC40: =IF($Q40="②エコ50",$AA40,"") | AD40: =IF($Q40="③エコ100",$AA40,"")
B41: =IF(ISBLANK(【入力シート】栽培計画書!$B$6),"",(【入力シート】栽培計画書!$B$6)) | C41: =IF(ISBLANK(【入力シート】栽培計画書!$E$10),"",(【入力シート】栽培計画書!$E$10)) | D41: =IF(ISBLANK(【入力シート】栽培計画書!$B$6),"",(【入力シート】栽培計画書!$B$6)) | E41: =IF(ISBLANK(【入力シート】栽培計画書!$H$10),"",(【入力シート】栽培計画書!$H$10)) | F41: 月 | G41: =IF(ISBLANK(【入力シート】栽培計画書!$B$6),"",(【入力シート】栽培計画書!$B$6)) | H41: =IF(ISBLANK(【入力シート】栽培計画書!$B$6),"",(【入力シート】栽培計画書!$B$6)) | I41: =IF(ISBLANK(【入力シート】栽培計画書!$B$6),"",(【入力シート】栽培計画書!$B$6)) | J41: =IF(ISBLANK(【入力シート】栽培計画書!$B$6),"",(【入力シート】栽培計画書!$B$6)) | K41: =IF(ISBLANK(【入力シート】栽培計画書!$B$6),"",(【入力シート】栽培計画書!$B$6)) | L41: =IF(ISBLANK(【入力シート】栽培計画書!$B$6),"",(【入力シート】栽培計画書!$B$6)) | M41: =IF(ISBLANK(【入力シート】栽培計画書!$B$6),"",(【入力シート】栽培計画書!$B$6)) | O41: =IF(ISNUMBER(SEARCH("施設", C38)), "施設", IF(ISNUMBER(SEARCH("露地", C38)), "露地", "露地施設")) -> 露地施設 | P41: 欄3 | Q41: =IF(A165="","",B165) | R41: =IF(A165="","",A165) | S41: =IF(A165="","",IF(C165="","",C165)) | T41: =IF($Q41="①エコ25",$R41,"") | U41: =IF($Q41="②エコ50",$R41,"") | V41: =IF($Q41="③エコ100",$R41,"") | W41: =IF($Q41="①エコ25",$R41&$S41,"") | X41: =IF($Q41="②エコ50",$R41&$S41,"") | Y41: =IF($Q41="③エコ100",$R41&$S41,"") | Z41: 164 | AA41: =IF(A165="","",D165) | AB41: =IF($Q41="①エコ25",AA41,"") | AC41: =IF($Q41="②エコ50",$AA41,"") | AD41: =IF($Q41="③エコ100",$AA41,"")
B42: =IF(ISBLANK(【入力シート】栽培計画書!$B$6),"",(【入力シート】栽培計画書!$B$6)) | C42: 土づくりの技術 具体的内容 | G42: =IF(ISBLANK(【入力シート】栽培計画書!$M$10),"",(【入力シート】栽培計画書!$M$10)) | P42: 欄4 | Q42: =IF(A172="","",B172) | R42: =IF(A172="","",A172) | S42: =IF(A172="","",IF(C172="","",C172)) | T42: =IF($Q42="①エコ25",$R42,"") | U42: =IF($Q42="②エコ50",$R42,"") | V42: =IF($Q42="③エコ100",$R42,"") | W42: =IF($Q42="①エコ25",$R42&$S42,"") | X42: =IF($Q42="②エコ50",$R42&$S42,"") | Y42: =IF($Q42="③エコ100",$R42&$S42,"") | Z42: 171 | AA42: =IF(A172="","",D172) | AB42: =IF($Q42="①エコ25",AA42,"") | AC42: =IF($Q42="②エコ50",$AA42,"") | AD42: =IF($Q42="③エコ100",$AA42,"")
B43: =IF(ISBLANK(【入力シート】栽培計画書!$B$6),"",(【入力シート】栽培計画書!$B$6)) | C43: 化学合成農薬削減の技術 具体的内容 | G43: =IF(ISBLANK(【入力シート】栽培計画書!$Q$10),"",(【入力シート】栽培計画書!$Q$10)) | P43: 欄5 | Q43: =IF(A179="","",B179) | R43: =IF(A179="","",A179) | S43: =IF(A179="","",IF(C179="","",C179)) | T43: =IF($Q43="①エコ25",$R43,"") | U43: =IF($Q43="②エコ50",$R43,"") | V43: =IF($Q43="③エコ100",$R43,"") | W43: =IF($Q43="①エコ25",$R43&$S43,"") | X43: =IF($Q43="②エコ50",$R43&$S43,"") | Y43: =IF($Q43="③エコ100",$R43&$S43,"") | Z43: 178 | AA43: =IF(A179="","",D179) | AB43: =IF($Q43="①エコ25",AA43,"") | AC43: =IF($Q43="②エコ50",$AA43,"") | AD43: =IF($Q43="③エコ100",$AA43,"")
B44: =IF(ISBLANK(【入力シート】栽培計画書!$B$6),"",(【入力シート】栽培計画書!$B$6)) | C44: 化学肥料削減の技術 具体的内容 | G44: =IF(ISBLANK(【入力シート】栽培計画書!$U$10),"",(【入力シート】栽培計画書!$U$10)) | P44: ページ５ 欄1 | Q44: =IF(A198="","",B198) | R44: =IF(A198="","",A198) | S44: =IF(A198="","",IF(C198="","",C198)) | T44: =IF($Q44="①エコ25",$R44,"") | U44: =IF($Q44="②エコ50",$R44,"") | V44: =IF($Q44="③エコ100",$R44,"") | W44: =IF($Q44="①エコ25",$R44&$S44,"") | X44: =IF($Q44="②エコ50",$R44&$S44,"") | Y44: =IF($Q44="③エコ100",$R44&$S44,"") | Z44: 197 | AA44: =IF(A198="","",D198) | AB44: =IF($Q44="①エコ25",AA44,"") | AC44: =IF($Q44="②エコ50",$AA44,"") | AD44: =IF($Q44="③エコ100",$AA44,"")
A45: ＊１ 別表２「都内における化学合成農薬使用回数・化学肥料使用基準」に記載の農産物名、作型を記入すること。 なお同じ農産物、作型であって露地栽培と施設栽培がある場合には、別々に記入する。 | P45: 欄2 | Q45: =IF(A205="","",B205) | R45: =IF(A205="","",A205) | S45: =IF(A205="","",IF(C205="","",C205)) | T45: =IF($Q45="①エコ25",$R45,"") | U45: =IF($Q45="②エコ50",$R45,"") | V45: =IF($Q45="③エコ100",$R45,"") | W45: =IF($Q45="①エコ25",$R45&$S45,"") | X45: =IF($Q45="②エコ50",$R45&$S45,"") | Y45: =IF($Q45="③エコ100",$R45&$S45,"") | Z45: 204 | AA45: =IF(A205="","",D205) | AB45: =IF($Q45="①エコ25",AA45,"") | AC45: =IF($Q45="②エコ50",$AA45,"") | AD45: =IF($Q45="③エコ100",$AA45,"")
A46: ＊２ 別表１－１「東京都エコ農産物における土づくり、化学合成農薬と化学肥料の使用を削減させる効果の高い技術等」から 該当する技術を番号で選び記入すること。 | P46: 欄3 | Q46: =IF(A212="","",B212) | R46: =IF(A212="","",A212) | S46: =IF(A212="","",IF(C212="","",C212)) | T46: =IF($Q46="①エコ25",$R46,"") | U46: =IF($Q46="②エコ50",$R46,"") | V46: =IF($Q46="③エコ100",$R46,"") | W46: =IF($Q46="①エコ25",$R46&$S46,"") | X46: =IF($Q46="②エコ50",$R46&$S46,"") | Y46: =IF($Q46="③エコ100",$R46&$S46,"") | Z46: 211 | AA46: =IF(A212="","",D212) | AB46: =IF($Q46="①エコ25",AA46,"") | AC46: =IF($Q46="②エコ50",$AA46,"") | AD46: =IF($Q46="③エコ100",$AA46,"")
A47: ＊３ 予定している堆肥等の有機質資材の使用量、化学合成農薬の使用回数と、化学肥料の上限値を記入すること。 別表２「東京都エコ農産物における化学合成農薬使用回数・化学肥料使用基準」に記載された上限値を下回ること。 | P47: 欄4 | Q47: =IF(A219="","",B219) | R47: =IF(A219="","",A219) | S47: =IF(A219="","",IF(C219="","",C219)) | T47: =IF($Q47="①エコ25",$R47,"") | U47: =IF($Q47="②エコ50",$R47,"") | V47: =IF($Q47="③エコ100",$R47,"") | W47: =IF($Q47="①エコ25",$R47&$S47,"") | X47: =IF($Q47="②エコ50",$R47&$S47,"") | Y47: =IF($Q47="③エコ100",$R47&$S47,"") | Z47: 218 | AA47: =IF(A219="","",D219) | AB47: =IF($Q47="①エコ25",AA47,"") | AC47: =IF($Q47="②エコ50",$AA47,"") | AD47: =IF($Q47="③エコ100",$AA47,"")
P48: 欄5 | Q48: =IF(A226="","",B226) | R48: =IF(A226="","",A226) | S48: =IF(A226="","",IF(C226="","",C226)) | T48: =IF($Q48="①エコ25",$R48,"") | U48: =IF($Q48="②エコ50",$R48,"") | V48: =IF($Q48="③エコ100",$R48,"") | W48: =IF($Q48="①エコ25",$R48&$S48,"") | X48: =IF($Q48="②エコ50",$R48&$S48,"") | Y48: =IF($Q48="③エコ100",$R48&$S48,"") | Z48: 225 | AA48: =IF(A226="","",D226) | AB48: =IF($Q48="①エコ25",AA48,"") | AC48: =IF($Q48="②エコ50",$AA48,"") | AD48: =IF($Q48="③エコ100",$AA48,"")
A49: 東京都エコ農産物認証申請書（栽培計画書） | P49: ページ６ 欄1 | Q49: =IF(A245="","",B245) | R49: =IF(A245="","",A245) | S49: =IF(A245="","",IF(C245="","",C245)) | T49: =IF($Q49="①エコ25",$R49,"") | U49: =IF($Q49="②エコ50",$R49,"") | V49: =IF($Q49="③エコ100",$R49,"") | W49: =IF($Q49="①エコ25",$R49&$S49,"") | X49: =IF($Q49="②エコ50",$R49&$S49,"") | Y49: =IF($Q49="③エコ100",$R49&$S49,"") | Z49: 244 | AA49: =IF(A245="","",D245) | AB49: =IF($Q49="①エコ25",AA49,"") | AC49: =IF($Q49="②エコ50",$AA49,"") | AD49: =IF($Q49="③エコ100",$AA49,"")
A50: 申請者氏名： | C50: ='申請書（別記様式第１号）'!$D$12&"" | M50: No. ２ | P50: 欄2 | Q50: =IF(A252="","",B252) | R50: =IF(A252="","",A252) | S50: =IF(A252="","",IF(C252="","",C252)) | T50: =IF($Q50="①エコ25",$R50,"") | U50: =IF($Q50="②エコ50",$R50,"") | V50: =IF($Q50="③エコ100",$R50,"") | W50: =IF($Q50="①エコ25",$R50&$S50,"") | X50: =IF($Q50="②エコ50",$R50&$S50,"") | Y50: =IF($Q50="③エコ100",$R50&$S50,"") | Z50: 251 | AA50: =IF(A252="","",D252) | AB50: =IF($Q50="①エコ25",AA50,"") | AC50: =IF($Q50="②エコ50",$AA50,"") | AD50: =IF($Q50="③エコ100",$AA50,"")
P51: 欄3 | Q51: =IF(A259="","",B259) | R51: =IF(A259="","",A259) | S51: =IF(A259="","",IF(C259="","",C259)) | T51: =IF($Q51="①エコ25",$R51,"") | U51: =IF($Q51="②エコ50",$R51,"") | V51: =IF($Q51="③エコ100",$R51,"") | W51: =IF($Q51="①エコ25",$R51&$S51,"") | X51: =IF($Q51="②エコ50",$R51&$S51,"") | Y51: =IF($Q51="③エコ100",$R51&$S51,"") | Z51: 258 | AA51: =IF(A259="","",D259) | AB51: =IF($Q51="①エコ25",AA51,"") | AC51: =IF($Q51="②エコ50",$AA51,"") | AD51: =IF($Q51="③エコ100",$AA51,"")
A52: ＊１ | B52: 認証区分 | C52: ＊１ | D52: 作付面積 | E52: 栽培期間 | G52: 土づくりの技術 | I52: 化学合成農薬 削減の技術 | K52: 化学肥料削減の技術 | M52: 目標収量 （kg/10a） | P52: 欄4 | Q52: =IF(A266="","",B266) | R52: =IF(A266="","",A266) | S52: =IF(A266="","",IF(C266="","",C266)) | T52: =IF($Q52="①エコ25",$R52,"") | U52: =IF($Q52="②エコ50",$R52,"") | V52: =IF($Q52="③エコ100",$R52,"") | W52: =IF($Q52="①エコ25",$R52&$S52,"") | X52: =IF($Q52="②エコ50",$R52&$S52,"") | Y52: =IF($Q52="③エコ100",$R52&$S52,"") | Z52: 265 | AA52: =IF(A266="","",D266) | AB52: =IF($Q52="①エコ25",AA52,"") | AC52: =IF($Q52="②エコ50",$AA52,"") | AD52: =IF($Q52="③エコ100",$AA52,"")
A53: 農産物名 | P53: 欄5 | Q53: =IF(A273="","",B273) | R53: =IF(A273="","",A273) | S53: =IF(A273="","",IF(C273="","",C273)) | T53: =IF($Q53="①エコ25",$R53,"") | U53: =IF($Q53="②エコ50",$R53,"") | V53: =IF($Q53="③エコ100",$R53,"") | W53: =IF($Q53="①エコ25",$R53&$S53,"") | X53: =IF($Q53="②エコ50",$R53&$S53,"") | Y53: =IF($Q53="③エコ100",$R53&$S53,"") | Z53: 272 | AA53: =IF(A273="","",D273) | AB53: =IF($Q53="①エコ25",AA53,"") | AC53: =IF($Q53="②エコ50",$AA53,"") | AD53: =IF($Q53="③エコ100",$AA53,"")
C54: 作型 | G54: ＊２ | H54: ＊３ | I54: ＊2 | J54: ＊３ | K54: ＊２ | L54: ＊３ | P54: ページ7 欄1 | Q54: =IF(A291="","",B291) | R54: =IF(A291="","",A291) | S54: =IF(A291="","",IF(C291="","",C291)) | T54: =IF($Q54="①エコ25",$R54,"") | U54: =IF($Q54="②エコ50",$R54,"") | V54: =IF($Q54="③エコ100",$R54,"") | W54: =IF($Q54="①エコ25",$R54&$S54,"") | X54: =IF($Q54="②エコ50",$R54&$S54,"") | Y54: =IF($Q54="③エコ100",$R54&$S54,"") | Z54: 290 | AA54: =IF(A291="","",D291) | AB54: =IF($Q54="①エコ25",AA54,"") | AC54: =IF($Q54="②エコ50",$AA54,"") | AD54: =IF($Q54="③エコ100",$AA54,"")
G55: 番号 | H55: 有機質資材等 | I55: 番号 | J55: 化学合成農薬 | K55: 番号 | L55: 化学肥料施用量 | P55: 欄2 | Q55: =IF(A298="","",B298) | R55: =IF(A298="","",A298) | S55: =IF(A298="","",IF(C298="","",C298)) | T55: =IF($Q55="①エコ25",$R55,"") | U55: =IF($Q55="②エコ50",$R55,"") | V55: =IF($Q55="③エコ100",$R55,"") | W55: =IF($Q55="①エコ25",$R55&$S55,"") | X55: =IF($Q55="②エコ50",$R55&$S55,"") | Y55: =IF($Q55="③エコ100",$R55&$S55,"") | Z55: 297 | AA55: =IF(A298="","",D298) | AB55: =IF($Q55="①エコ25",AA55,"") | AC55: =IF($Q55="②エコ50",$AA55,"") | AD55: =IF($Q55="③エコ100",$AA55,"")
C56: 露地 / 施設 | D56: (a) | H56: 使用量(kg/10a) | J56: 使用回数（回） | L56: (窒素成分kg/10a) | P56: 欄3 | Q56: =IF(A305="","",B305) | R56: =IF(A305="","",A305) | S56: =IF(A305="","",IF(C305="","",C305)) | T56: =IF($Q56="①エコ25",$R56,"") | U56: =IF($Q56="②エコ50",$R56,"") | V56: =IF($Q56="③エコ100",$R56,"") | W56: =IF($Q56="①エコ25",$R56&$S56,"") | X56: =IF($Q56="②エコ50",$R56&$S56,"") | Y56: =IF($Q56="③エコ100",$R56&$S56,"") | Z56: 304 | AA56: =IF(A305="","",D305) | AB56: =IF($Q56="①エコ25",AA56,"") | AC56: =IF($Q56="②エコ50",$AA56,"") | AD56: =IF($Q56="③エコ100",$AA56,"")
A57: =IF(ISBLANK(【入力シート】栽培計画書!$B$11),"",(【入力シート】栽培計画書!$B$11)) | B57: =IF(ISBLANK(【入力シート】栽培計画書!$C$11),"",(【入力シート】栽培計画書!$C$11)) | C57: =IF(ISBLANK(【入力シート】栽培計画書!$D$11),"",(【入力シート】栽培計画書!$D$11)) | D57: =IF(ISBLANK(【入力シート】栽培計画書!$F$11),"",(【入力シート】栽培計画書!$F$11)) | E57: =IF(ISBLANK(【入力シート】栽培計画書!$G$11),"",(【入力シート】栽培計画書!$G$11)) | F57: 月 | G57: =IF(ISBLANK(【入力シート】栽培計画書!$I$11),"",(【入力シート】栽培計画書!$I$11)) | H57: =IF(ISBLANK(【入力シート】栽培計画書!$J$11),"",IF(OR(【入力シート】栽培計画書!$I$11=List!$E$2,【入力シート】栽培計画書!$I$11=List!$E$4),【入力シート】栽培計画書!$J$11&"kg/10a",IF(【入力シート】栽培計画書!$I$11=List!$E$3,"播種量"&【入力シート】栽培計画書!$J$11&"kg/10a",""))) | I57: =IF(ISBLANK(【入力シート】栽培計画書!$N$11),"",(【入力シート】栽培計画書!$N$11)) | J57: =IF(ISBLANK(【入力シート】栽培計画書!$P$11),"",(【入力シート】栽培計画書!$P$11)) | K57: =IF(ISBLANK(【入力シート】栽培計画書!$R$11),"",(【入力シート】栽培計画書!$R$11)) | L57: =IF(ISBLANK(【入力シート】栽培計画書!$T$11),"",(【入力シート】栽培計画書!$T$11)) | M57: =IF(ISBLANK(【入力シート】栽培計画書!$V$11),"",(【入力シート】栽培計画書!$V$11)) | P57: 欄9 | Q57: =IF(A312="","",B312) | R57: =IF(A312="","",A312) | S57: =IF(A312="","",IF(C312="","",C312)) | T57: =IF($Q57="①エコ25",$R57,"") | U57: =IF($Q57="②エコ50",$R57,"") | V57: =IF($Q57="③エコ100",$R57,"") | W57: =IF($Q57="①エコ25",$R57&$S57,"") | X57: =IF($Q57="②エコ50",$R57&$S57,"") | Y57: =IF($Q57="③エコ100",$R57&$S57,"") | Z57: 311 | AA57: =IF(A312="","",D312) | AB57: =IF($Q57="①エコ25",AA57,"") | AC57: =IF($Q57="②エコ50",$AA57,"") | AD57: =IF($Q57="③エコ100",$AA57,"")
B58: =IF(ISBLANK(【入力シート】栽培計画書!$B$6),"",(【入力シート】栽培計画書!$B$6)) | C58: =IF(ISBLANK(【入力シート】栽培計画書!$B$6),"",(【入力シート】栽培計画書!$B$6)) | D58: =IF(ISBLANK(【入力シート】栽培計画書!$B$6),"",(【入力シート】栽培計画書!$B$6)) | E58: ～ | G58: =IF(ISBLANK(【入力シート】栽培計画書!$B$6),"",(【入力シート】栽培計画書!$B$6)) | H58: =IF(ISBLANK(【入力シート】栽培計画書!$B$6),"",(【入力シート】栽培計画書!$B$6)) | I58: =IF(ISBLANK(【入力シート】栽培計画書!$B$6),"",(【入力シート】栽培計画書!$B$6)) | J58: =IF(ISBLANK(【入力シート】栽培計画書!$B$6),"",(【入力シート】栽培計画書!$B$6)) | K58: =IF(ISBLANK(【入力シート】栽培計画書!$B$6),"",(【入力シート】栽培計画書!$B$6)) | L58: =IF(ISBLANK(【入力シート】栽培計画書!$B$6),"",(【入力シート】栽培計画書!$B$6)) | M58: =IF(ISBLANK(【入力シート】栽培計画書!$B$6),"",(【入力シート】栽培計画書!$B$6)) | P58: 欄5 | Q58: =IF(A319="","",B319) | R58: =IF(A319="","",A319) | S58: =IF(A319="","",IF(C319="","",C319)) | T58: =IF($Q58="①エコ25",$R58,"") | U58: =IF($Q58="②エコ50",$R58,"") | V58: =IF($Q58="③エコ100",$R58,"") | W58: =IF($Q58="①エコ25",$R58&$S58,"") | X58: =IF($Q58="②エコ50",$R58&$S58,"") | Y58: =IF($Q58="③エコ100",$R58&$S58,"") | Z58: 318 | AA58: =IF(A319="","",D319) | AB58: =IF($Q58="①エコ25",AA58,"") | AC58: =IF($Q58="②エコ50",$AA58,"") | AD58: =IF($Q58="③エコ100",$AA58,"")
B59: =IF(ISBLANK(【入力シート】栽培計画書!$B$6),"",(【入力シート】栽培計画書!$B$6)) | C59: =IF(ISBLANK(【入力シート】栽培計画書!$B$6),"",(【入力シート】栽培計画書!$B$6)) | D59: =IF(ISBLANK(【入力シート】栽培計画書!$B$6),"",(【入力シート】栽培計画書!$B$6)) | G59: =IF(ISBLANK(【入力シート】栽培計画書!$K$11),"",(【入力シート】栽培計画書!$K$11)) | H59: =IF(ISBLANK(【入力シート】栽培計画書!$L$11),"",IF(OR(【入力シート】栽培計画書!$K$11=List!$E$2,【入力シート】栽培計画書!$K$11=List!$E$4),【入力シート】栽培計画書!$L$11&"kg/10a",IF(【入力シート】栽培計画書!$K$11=List!$E$3,"播種量"&【入力シート】栽培計画書!$L$11&"kg/10a",""))) | I59: =IF(ISBLANK(【入力シート】栽培計画書!$O$11),"",(【入力シート】栽培計画書!$O$11)) | J59: =IF(ISBLANK(【入力シート】栽培計画書!$N$6),"",(【入力シート】栽培計画書!$N$6)) | K59: =IF(ISBLANK(【入力シート】栽培計画書!$S$11),"",(【入力シート】栽培計画書!$S$11)) | L59: =IF(ISBLANK(【入力シート】栽培計画書!$N$6),"",(【入力シート】栽培計画書!$N$6)) | M59: =IF(ISBLANK(【入力シート】栽培計画書!$B$6),"",(【入力シート】栽培計画書!$B$6)) | P59: ページ8 欄1 | Q59: =IF(A338="","",B338) | R59: =IF(A338="","",A338) | S59: =IF(A338="","",IF(C338="","",C338)) | T59: =IF($Q59="①エコ25",$R59,"") | U59: =IF($Q59="②エコ50",$R59,"") | V59: =IF($Q59="③エコ100",$R59,"") | W59: =IF($Q59="①エコ25",$R59&$S59,"") | X59: =IF($Q59="②エコ50",$R59&$S59,"") | Y59: =IF($Q59="③エコ100",$R59&$S59,"") | Z59: 337 | AA59: =IF(A338="","",D338) | AB59: =IF($Q59="①エコ25",AA59,"") | AC59: =IF($Q59="②エコ50",$AA59,"") | AD59: =IF($Q59="③エコ100",$AA59,"")
B60: =IF(ISBLANK(【入力シート】栽培計画書!$B$6),"",(【入力シート】栽培計画書!$B$6)) | C60: =IF(ISBLANK(【入力シート】栽培計画書!$E$11),"",(【入力シート】栽培計画書!$E$11)) | D60: =IF(ISBLANK(【入力シート】栽培計画書!$B$6),"",(【入力シート】栽培計画書!$B$6)) | E60: =IF(ISBLANK(【入力シート】栽培計画書!$H$11),"",(【入力シート】栽培計画書!$H$11)) | F60: 月 | G60: =IF(ISBLANK(【入力シート】栽培計画書!$B$6),"",(【入力シート】栽培計画書!$B$6)) | H60: =IF(ISBLANK(【入力シート】栽培計画書!$B$6),"",(【入力シート】栽培計画書!$B$6)) | I60: =IF(ISBLANK(【入力シート】栽培計画書!$B$6),"",(【入力シート】栽培計画書!$B$6)) | J60: =IF(ISBLANK(【入力シート】栽培計画書!$B$6),"",(【入力シート】栽培計画書!$B$6)) | K60: =IF(ISBLANK(【入力シート】栽培計画書!$B$6),"",(【入力シート】栽培計画書!$B$6)) | L60: =IF(ISBLANK(【入力シート】栽培計画書!$B$6),"",(【入力シート】栽培計画書!$B$6)) | M60: =IF(ISBLANK(【入力シート】栽培計画書!$B$6),"",(【入力シート】栽培計画書!$B$6)) | O60: =IF(ISNUMBER(SEARCH("施設", C57)), "施設", IF(ISNUMBER(SEARCH("露地", C57)), "露地", "露地施設")) -> 露地施設 | P60: 欄2 | Q60: =IF(A345="","",B345) | R60: =IF(A345="","",A345) | S60: =IF(A345="","",IF(C345="","",C345)) | T60: =IF($Q60="①エコ25",$R60,"") | U60: =IF($Q60="②エコ50",$R60,"") | V60: =IF($Q60="③エコ100",$R60,"") | W60: =IF($Q60="①エコ25",$R60&$S60,"") | X60: =IF($Q60="②エコ50",$R60&$S60,"") | Y60: =IF($Q60="③エコ100",$R60&$S60,"") | Z60: 344 | AA60: =IF(A345="","",D345) | AB60: =IF($Q60="①エコ25",AA60,"") | AC60: =IF($Q60="②エコ50",$AA60,"") | AD60: =IF($Q60="③エコ100",$AA60,"")
B61: =IF(ISBLANK(【入力シート】栽培計画書!$B$6),"",(【入力シート】栽培計画書!$B$6)) | C61: 土づくりの技術 具体的内容 | G61: =IF(ISBLANK(【入力シート】栽培計画書!$M$11),"",(【入力シート】栽培計画書!$M$11)) | P61: 欄3 | Q61: =IF(A352="","",B352) | R61: =IF(A352="","",A352) | S61: =IF(A352="","",IF(C352="","",C352)) | T61: =IF($Q61="①エコ25",$R61,"") | U61: =IF($Q61="②エコ50",$R61,"") | V61: =IF($Q61="③エコ100",$R61,"") | W61: =IF($Q61="①エコ25",$R61&$S61,"") | X61: =IF($Q61="②エコ50",$R61&$S61,"") | Y61: =IF($Q61="③エコ100",$R61&$S61,"") | Z61: 351 | AA61: =IF(A352="","",D352) | AB61: =IF($Q61="①エコ25",AA61,"") | AC61: =IF($Q61="②エコ50",$AA61,"") | AD61: =IF($Q61="③エコ100",$AA61,"")
B62: =IF(ISBLANK(【入力シート】栽培計画書!$B$6),"",(【入力シート】栽培計画書!$B$6)) | C62: 化学合成農薬削減の技術 具体的内容 | G62: =IF(ISBLANK(【入力シート】栽培計画書!$Q$11),"",(【入力シート】栽培計画書!$Q$11)) | P62: 欄9 | Q62: =IF(A359="","",B359) | R62: =IF(A359="","",A359) | S62: =IF(A359="","",IF(C359="","",C359)) | T62: =IF($Q62="①エコ25",$R62,"") | U62: =IF($Q62="②エコ50",$R62,"") | V62: =IF($Q62="③エコ100",$R62,"") | W62: =IF($Q62="①エコ25",$R62&$S62,"") | X62: =IF($Q62="②エコ50",$R62&$S62,"") | Y62: =IF($Q62="③エコ100",$R62&$S62,"") | Z62: 358 | AA62: =IF(A359="","",D359) | AB62: =IF($Q62="①エコ25",AA62,"") | AC62: =IF($Q62="②エコ50",$AA62,"") | AD62: =IF($Q62="③エコ100",$AA62,"")
B63: =IF(ISBLANK(【入力シート】栽培計画書!$B$6),"",(【入力シート】栽培計画書!$B$6)) | C63: 化学肥料削減の技術 具体的内容 | G63: =IF(ISBLANK(【入力シート】栽培計画書!$U$11),"",(【入力シート】栽培計画書!$U$11)) | P63: 欄5 | Q63: =IF(A366="","",B366) | R63: =IF(A366="","",A366) | S63: =IF(A366="","",IF(C366="","",C366)) | T63: =IF($Q63="①エコ25",$R63,"") | U63: =IF($Q63="②エコ50",$R63,"") | V63: =IF($Q63="③エコ100",$R63,"") | W63: =IF($Q63="①エコ25",$R63&$S63,"") | X63: =IF($Q63="②エコ50",$R63&$S63,"") | Y63: =IF($Q63="③エコ100",$R63&$S63,"") | Z63: 365 | AA63: =IF(A366="","",D366) | AB63: =IF($Q63="①エコ25",AA63,"") | AC63: =IF($Q63="②エコ50",$AA63,"") | AD63: =IF($Q63="③エコ100",$AA63,"")
A64: =IF(ISBLANK(【入力シート】栽培計画書!$B$12),"",(【入力シート】栽培計画書!$B$12)) | B64: =IF(ISBLANK(【入力シート】栽培計画書!$C$12),"",(【入力シート】栽培計画書!$C$12)) | C64: =IF(ISBLANK(【入力シート】栽培計画書!$D$12),"",(【入力シート】栽培計画書!$D$12)) | D64: =IF(ISBLANK(【入力シート】栽培計画書!$F$12),"",(【入力シート】栽培計画書!$F$12)) | E64: =IF(ISBLANK(【入力シート】栽培計画書!$G$12),"",(【入力シート】栽培計画書!$G$12)) | F64: 月 | G64: =IF(ISBLANK(【入力シート】栽培計画書!$I$12),"",(【入力シート】栽培計画書!$I$12)) | H64: =IF(ISBLANK(【入力シート】栽培計画書!$J$12),"",IF(OR(【入力シート】栽培計画書!$I$12=List!$E$2,【入力シート】栽培計画書!$I$12=List!$E$4),【入力シート】栽培計画書!$J$12&"kg/10a",IF(【入力シート】栽培計画書!$I$12=List!$E$3,"播種量"&【入力シート】栽培計画書!$J$12&"kg/10a",""))) | I64: =IF(ISBLANK(【入力シート】栽培計画書!$N$12),"",(【入力シート】栽培計画書!$N$12)) | J64: =IF(ISBLANK(【入力シート】栽培計画書!$P$12),"",(【入力シート】栽培計画書!$P$12)) | K64: =IF(ISBLANK(【入力シート】栽培計画書!$R$12),"",(【入力シート】栽培計画書!$R$12)) | L64: =IF(ISBLANK(【入力シート】栽培計画書!$T$12),"",(【入力シート】栽培計画書!$T$12)) | M64: =IF(ISBLANK(【入力シート】栽培計画書!$V$12),"",(【入力シート】栽培計画書!$V$12)) | P64: ページ9 欄1 | Q64: =IF(A384="","",B384) | R64: =IF(A384="","",A384) | S64: =IF(A384="","",IF(C384="","",C384)) | T64: =IF($Q64="①エコ25",$R64,"") | U64: =IF($Q64="②エコ50",$R64,"") | V64: =IF($Q64="③エコ100",$R64,"") | W64: =IF($Q64="①エコ25",$R64&$S64,"") | X64: =IF($Q64="②エコ50",$R64&$S64,"") | Y64: =IF($Q64="③エコ100",$R64&$S64,"") | Z64: 383 | AA64: =IF(A384="","",D384) | AB64: =IF($Q64="①エコ25",AA64,"") | AC64: =IF($Q64="②エコ50",$AA64,"") | AD64: =IF($Q64="③エコ100",$AA64,"")
B65: =IF(ISBLANK(【入力シート】栽培計画書!$B$6),"",(【入力シート】栽培計画書!$B$6)) | C65: =IF(ISBLANK(【入力シート】栽培計画書!$B$6),"",(【入力シート】栽培計画書!$B$6)) | D65: =IF(ISBLANK(【入力シート】栽培計画書!$B$6),"",(【入力シート】栽培計画書!$B$6)) | E65: ～ | G65: =IF(ISBLANK(【入力シート】栽培計画書!$B$6),"",(【入力シート】栽培計画書!$B$6)) | H65: =IF(ISBLANK(【入力シート】栽培計画書!$B$6),"",(【入力シート】栽培計画書!$B$6)) | I65: =IF(ISBLANK(【入力シート】栽培計画書!$B$6),"",(【入力シート】栽培計画書!$B$6)) | J65: =IF(ISBLANK(【入力シート】栽培計画書!$B$6),"",(【入力シート】栽培計画書!$B$6)) | K65: =IF(ISBLANK(【入力シート】栽培計画書!$B$6),"",(【入力シート】栽培計画書!$B$6)) | L65: =IF(ISBLANK(【入力シート】栽培計画書!$B$6),"",(【入力シート】栽培計画書!$B$6)) | M65: =IF(ISBLANK(【入力シート】栽培計画書!$B$6),"",(【入力シート】栽培計画書!$B$6)) | P65: 欄2 | Q65: =IF(A391="","",B391) | R65: =IF(A391="","",A391) | S65: =IF(A391="","",IF(C391="","",C391)) | T65: =IF($Q65="①エコ25",$R65,"") | U65: =IF($Q65="②エコ50",$R65,"") | V65: =IF($Q65="③エコ100",$R65,"") | W65: =IF($Q65="①エコ25",$R65&$S65,"") | X65: =IF($Q65="②エコ50",$R65&$S65,"") | Y65: =IF($Q65="③エコ100",$R65&$S65,"") | Z65: 390 | AA65: =IF(A391="","",D391) | AB65: =IF($Q65="①エコ25",AA65,"") | AC65: =IF($Q65="②エコ50",$AA65,"") | AD65: =IF($Q65="③エコ100",$AA65,"")
B66: =IF(ISBLANK(【入力シート】栽培計画書!$B$6),"",(【入力シート】栽培計画書!$B$6)) | C66: =IF(ISBLANK(【入力シート】栽培計画書!$B$6),"",(【入力シート】栽培計画書!$B$6)) | D66: =IF(ISBLANK(【入力シート】栽培計画書!$B$6),"",(【入力シート】栽培計画書!$B$6)) | G66: =IF(ISBLANK(【入力シート】栽培計画書!$K$12),"",(【入力シート】栽培計画書!$K$12)) | H66: =IF(ISBLANK(【入力シート】栽培計画書!$L$12),"",IF(OR(【入力シート】栽培計画書!$K$12=List!$E$2,【入力シート】栽培計画書!$K$12=List!$E$4),【入力シート】栽培計画書!$L$12&"kg/10a",IF(【入力シート】栽培計画書!$K$12=List!$E$3,"播種量"&【入力シート】栽培計画書!$L$12&"kg/10a",""))) | I66: =IF(ISBLANK(【入力シート】栽培計画書!$O$12),"",(【入力シート】栽培計画書!$O$12)) | J66: =IF(ISBLANK(【入力シート】栽培計画書!$N$6),"",(【入力シート】栽培計画書!$N$6)) | K66: =IF(ISBLANK(【入力シート】栽培計画書!$S$12),"",(【入力シート】栽培計画書!$S$12)) | L66: =IF(ISBLANK(【入力シート】栽培計画書!$N$6),"",(【入力シート】栽培計画書!$N$6)) | M66: =IF(ISBLANK(【入力シート】栽培計画書!$B$6),"",(【入力シート】栽培計画書!$B$6)) | P66: 欄3 | Q66: =IF(A398="","",B398) | R66: =IF(A398="","",A398) | S66: =IF(A398="","",IF(C398="","",C398)) | T66: =IF($Q66="①エコ25",$R66,"") | U66: =IF($Q66="②エコ50",$R66,"") | V66: =IF($Q66="③エコ100",$R66,"") | W66: =IF($Q66="①エコ25",$R66&$S66,"") | X66: =IF($Q66="②エコ50",$R66&$S66,"") | Y66: =IF($Q66="③エコ100",$R66&$S66,"") | Z66: 397 | AA66: =IF(A398="","",D398) | AB66: =IF($Q66="①エコ25",AA66,"") | AC66: =IF($Q66="②エコ50",$AA66,"") | AD66: =IF($Q66="③エコ100",$AA66,"")
B67: =IF(ISBLANK(【入力シート】栽培計画書!$B$6),"",(【入力シート】栽培計画書!$B$6)) | C67: =IF(ISBLANK(【入力シート】栽培計画書!$E$12),"",(【入力シート】栽培計画書!$E$12)) | D67: =IF(ISBLANK(【入力シート】栽培計画書!$B$6),"",(【入力シート】栽培計画書!$B$6)) | E67: =IF(ISBLANK(【入力シート】栽培計画書!$H$12),"",(【入力シート】栽培計画書!$H$12)) | F67: 月 | G67: =IF(ISBLANK(【入力シート】栽培計画書!$B$6),"",(【入力シート】栽培計画書!$B$6)) | H67: =IF(ISBLANK(【入力シート】栽培計画書!$B$6),"",(【入力シート】栽培計画書!$B$6)) | I67: =IF(ISBLANK(【入力シート】栽培計画書!$B$6),"",(【入力シート】栽培計画書!$B$6)) | J67: =IF(ISBLANK(【入力シート】栽培計画書!$B$6),"",(【入力シート】栽培計画書!$B$6)) | K67: =IF(ISBLANK(【入力シート】栽培計画書!$B$6),"",(【入力シート】栽培計画書!$B$6)) | L67: =IF(ISBLANK(【入力シート】栽培計画書!$B$6),"",(【入力シート】栽培計画書!$B$6)) | M67: =IF(ISBLANK(【入力シート】栽培計画書!$B$6),"",(【入力シート】栽培計画書!$B$6)) | O67: =IF(ISNUMBER(SEARCH("施設", C64)), "施設", IF(ISNUMBER(SEARCH("露地", C64)), "露地", "露地施設")) -> 露地施設 | P67: 欄4 | Q67: =IF(A405="","",B405) | R67: =IF(A405="","",A405) | S67: =IF(A405="","",IF(C405="","",C405)) | T67: =IF($Q67="①エコ25",$R67,"") | U67: =IF($Q67="②エコ50",$R67,"") | V67: =IF($Q67="③エコ100",$R67,"") | W67: =IF($Q67="①エコ25",$R67&$S67,"") | X67: =IF($Q67="②エコ50",$R67&$S67,"") | Y67: =IF($Q67="③エコ100",$R67&$S67,"") | Z67: 404 | AA67: =IF(A405="","",D405) | AB67: =IF($Q67="①エコ25",AA67,"") | AC67: =IF($Q67="②エコ50",$AA67,"") | AD67: =IF($Q67="③エコ100",$AA67,"")
B68: =IF(ISBLANK(【入力シート】栽培計画書!$B$6),"",(【入力シート】栽培計画書!$B$6)) | C68: 土づくりの技術 具体的内容 | G68: =IF(ISBLANK(【入力シート】栽培計画書!$M$12),"",(【入力シート】栽培計画書!$M$12)) | P68: 欄5 | Q68: =IF(A412="","",B412) | R68: =IF(A412="","",A412) | S68: =IF(A412="","",IF(C412="","",C412)) | T68: =IF($Q68="①エコ25",$R68,"") | U68: =IF($Q68="②エコ50",$R68,"") | V68: =IF($Q68="③エコ100",$R68,"") | W68: =IF($Q68="①エコ25",$R68&$S68,"") | X68: =IF($Q68="②エコ50",$R68&$S68,"") | Y68: =IF($Q68="③エコ100",$R68&$S68,"") | Z68: 411 | AA68: =IF(A412="","",D412) | AB68: =IF($Q68="①エコ25",AA68,"") | AC68: =IF($Q68="②エコ50",$AA68,"") | AD68: =IF($Q68="③エコ100",$AA68,"")
B69: =IF(ISBLANK(【入力シート】栽培計画書!$B$6),"",(【入力シート】栽培計画書!$B$6)) | C69: 化学合成農薬削減の技術 具体的内容 | G69: =IF(ISBLANK(【入力シート】栽培計画書!$Q$12),"",(【入力シート】栽培計画書!$Q$12)) | P69: ページ10 欄1 | Q69: =IF(A431="","",B431) | R69: =IF(A431="","",A431) | S69: =IF(A431="","",IF(C431="","",C431)) | T69: =IF($Q69="①エコ25",$R69,"") | U69: =IF($Q69="②エコ50",$R69,"") | V69: =IF($Q69="③エコ100",$R69,"") | W69: =IF($Q69="①エコ25",$R69&$S69,"") | X69: =IF($Q69="②エコ50",$R69&$S69,"") | Y69: =IF($Q69="③エコ100",$R69&$S69,"") | Z69: 430 | AA69: =IF(A431="","",D431) | AB69: =IF($Q69="①エコ25",AA69,"") | AC69: =IF($Q69="②エコ50",$AA69,"") | AD69: =IF($Q69="③エコ100",$AA69,"")
B70: =IF(ISBLANK(【入力シート】栽培計画書!$B$6),"",(【入力シート】栽培計画書!$B$6)) | C70: 化学肥料削減の技術 具体的内容 | G70: =IF(ISBLANK(【入力シート】栽培計画書!$U$12),"",(【入力シート】栽培計画書!$U$12)) | P70: 欄2 | Q70: =IF(A438="","",B438) | R70: =IF(A438="","",A438) | S70: =IF(A438="","",IF(C438="","",C438)) | T70: =IF($Q70="①エコ25",$R70,"") | U70: =IF($Q70="②エコ50",$R70,"") | V70: =IF($Q70="③エコ100",$R70,"") | W70: =IF($Q70="①エコ25",$R70&$S70,"") | X70: =IF($Q70="②エコ50",$R70&$S70,"") | Y70: =IF($Q70="③エコ100",$R70&$S70,"") | Z70: 437 | AA70: =IF(A438="","",D438) | AB70: =IF($Q70="①エコ25",AA70,"") | AC70: =IF($Q70="②エコ50",$AA70,"") | AD70: =IF($Q70="③エコ100",$AA70,"")
A71: =IF(ISBLANK(【入力シート】栽培計画書!$B$13),"",(【入力シート】栽培計画書!$B$13)) | B71: =IF(ISBLANK(【入力シート】栽培計画書!$C$13),"",(【入力シート】栽培計画書!$C$13)) | C71: =IF(ISBLANK(【入力シート】栽培計画書!$D$13),"",(【入力シート】栽培計画書!$D$13)) | D71: =IF(ISBLANK(【入力シート】栽培計画書!$F$13),"",(【入力シート】栽培計画書!$F$13)) | E71: =IF(ISBLANK(【入力シート】栽培計画書!$G$13),"",(【入力シート】栽培計画書!$G$13)) | F71: 月 | G71: =IF(ISBLANK(【入力シート】栽培計画書!$I$13),"",(【入力シート】栽培計画書!$I$13)) | H71: =IF(ISBLANK(【入力シート】栽培計画書!$J$13),"",IF(OR(【入力シート】栽培計画書!$I$13=List!$E$2,【入力シート】栽培計画書!$I$13=List!$E$4),【入力シート】栽培計画書!$J$13&"kg/10a",IF(【入力シート】栽培計画書!$I$13=List!$E$3,"播種量"&【入力シート】栽培計画書!$J$13&"kg/10a",""))) | I71: =IF(ISBLANK(【入力シート】栽培計画書!$N$13),"",(【入力シート】栽培計画書!$N$13)) | J71: =IF(ISBLANK(【入力シート】栽培計画書!$P$13),"",(【入力シート】栽培計画書!$P$13)) | K71: =IF(ISBLANK(【入力シート】栽培計画書!$R$13),"",(【入力シート】栽培計画書!$R$13)) | L71: =IF(ISBLANK(【入力シート】栽培計画書!$T$13),"",(【入力シート】栽培計画書!$T$13)) | M71: =IF(ISBLANK(【入力シート】栽培計画書!$V$13),"",(【入力シート】栽培計画書!$V$13)) | P71: 欄3 | Q71: =IF(A445="","",B445) | R71: =IF(A445="","",A445) | S71: =IF(A445="","",IF(C445="","",C445)) | T71: =IF($Q71="①エコ25",$R71,"") | U71: =IF($Q71="②エコ50",$R71,"") | V71: =IF($Q71="③エコ100",$R71,"") | W71: =IF($Q71="①エコ25",$R71&$S71,"") | X71: =IF($Q71="②エコ50",$R71&$S71,"") | Y71: =IF($Q71="③エコ100",$R71&$S71,"") | Z71: 444 | AA71: =IF(A445="","",D445) | AB71: =IF($Q71="①エコ25",AA71,"") | AC71: =IF($Q71="②エコ50",$AA71,"") | AD71: =IF($Q71="③エコ100",$AA71,"")
B72: =IF(ISBLANK(【入力シート】栽培計画書!$B$6),"",(【入力シート】栽培計画書!$B$6)) | C72: =IF(ISBLANK(【入力シート】栽培計画書!$B$6),"",(【入力シート】栽培計画書!$B$6)) | D72: =IF(ISBLANK(【入力シート】栽培計画書!$B$6),"",(【入力シート】栽培計画書!$B$6)) | E72: ～ | G72: =IF(ISBLANK(【入力シート】栽培計画書!$B$6),"",(【入力シート】栽培計画書!$B$6)) | H72: =IF(ISBLANK(【入力シート】栽培計画書!$B$6),"",(【入力シート】栽培計画書!$B$6)) | I72: =IF(ISBLANK(【入力シート】栽培計画書!$B$6),"",(【入力シート】栽培計画書!$B$6)) | J72: =IF(ISBLANK(【入力シート】栽培計画書!$B$6),"",(【入力シート】栽培計画書!$B$6)) | K72: =IF(ISBLANK(【入力シート】栽培計画書!$B$6),"",(【入力シート】栽培計画書!$B$6)) | L72: =IF(ISBLANK(【入力シート】栽培計画書!$B$6),"",(【入力シート】栽培計画書!$B$6)) | M72: =IF(ISBLANK(【入力シート】栽培計画書!$B$6),"",(【入力シート】栽培計画書!$B$6)) | P72: 欄4 | Q72: =IF(A452="","",B452) | R72: =IF(A452="","",A452) | S72: =IF(A452="","",IF(C452="","",C452)) | T72: =IF($Q72="①エコ25",$R72,"") | U72: =IF($Q72="②エコ50",$R72,"") | V72: =IF($Q72="③エコ100",$R72,"") | W72: =IF($Q72="①エコ25",$R72&$S72,"") | X72: =IF($Q72="②エコ50",$R72&$S72,"") | Y72: =IF($Q72="③エコ100",$R72&$S72,"") | Z72: 451 | AA72: =IF(A452="","",D452) | AB72: =IF($Q72="①エコ25",AA72,"") | AC72: =IF($Q72="②エコ50",$AA72,"") | AD72: =IF($Q72="③エコ100",$AA72,"")
B73: =IF(ISBLANK(【入力シート】栽培計画書!$B$6),"",(【入力シート】栽培計画書!$B$6)) | C73: =IF(ISBLANK(【入力シート】栽培計画書!$B$6),"",(【入力シート】栽培計画書!$B$6)) | D73: =IF(ISBLANK(【入力シート】栽培計画書!$B$6),"",(【入力シート】栽培計画書!$B$6)) | G73: =IF(ISBLANK(【入力シート】栽培計画書!$K$13),"",(【入力シート】栽培計画書!$K$13)) | H73: =IF(ISBLANK(【入力シート】栽培計画書!$L$13),"",IF(OR(【入力シート】栽培計画書!$K$13=List!$E$2,【入力シート】栽培計画書!$K$13=List!$E$4),【入力シート】栽培計画書!$L$13&"kg/10a",IF(【入力シート】栽培計画書!$K$13=List!$E$3,"播種量"&【入力シート】栽培計画書!$L$13&"kg/10a",""))) | I73: =IF(ISBLANK(【入力シート】栽培計画書!$O$13),"",(【入力シート】栽培計画書!$O$13)) | J73: =IF(ISBLANK(【入力シート】栽培計画書!$N$6),"",(【入力シート】栽培計画書!$N$6)) | K73: =IF(ISBLANK(【入力シート】栽培計画書!$S$13),"",(【入力シート】栽培計画書!$S$13)) | L73: =IF(ISBLANK(【入力シート】栽培計画書!$N$6),"",(【入力シート】栽培計画書!$N$6)) | M73: =IF(ISBLANK(【入力シート】栽培計画書!$B$6),"",(【入力シート】栽培計画書!$B$6)) | P73: 欄5 | Q73: =IF(A459="","",B459) | R73: =IF(A459="","",A459) | S73: =IF(A459="","",IF(C459="","",C459)) | T73: =IF($Q73="①エコ25",$R73,"") | U73: =IF($Q73="②エコ50",$R73,"") | V73: =IF($Q73="③エコ100",$R73,"") | W73: =IF($Q73="①エコ25",$R73&$S73,"") | X73: =IF($Q73="②エコ50",$R73&$S73,"") | Y73: =IF($Q73="③エコ100",$R73&$S73,"") | Z73: 458 | AA73: =IF(A459="","",D459) | AB73: =IF($Q73="①エコ25",AA73,"") | AC73: =IF($Q73="②エコ50",$AA73,"") | AD73: =IF($Q73="③エコ100",$AA73,"")
B74: =IF(ISBLANK(【入力シート】栽培計画書!$B$6),"",(【入力シート】栽培計画書!$B$6)) | C74: =IF(ISBLANK(【入力シート】栽培計画書!$E$13),"",(【入力シート】栽培計画書!$E$13)) | D74: =IF(ISBLANK(【入力シート】栽培計画書!$B$6),"",(【入力シート】栽培計画書!$B$6)) | E74: =IF(ISBLANK(【入力シート】栽培計画書!$H$13),"",(【入力シート】栽培計画書!$H$13)) | F74: 月 | G74: =IF(ISBLANK(【入力シート】栽培計画書!$B$6),"",(【入力シート】栽培計画書!$B$6)) | H74: =IF(ISBLANK(【入力シート】栽培計画書!$B$6),"",(【入力シート】栽培計画書!$B$6)) | I74: =IF(ISBLANK(【入力シート】栽培計画書!$B$6),"",(【入力シート】栽培計画書!$B$6)) | J74: =IF(ISBLANK(【入力シート】栽培計画書!$B$6),"",(【入力シート】栽培計画書!$B$6)) | K74: =IF(ISBLANK(【入力シート】栽培計画書!$B$6),"",(【入力シート】栽培計画書!$B$6)) | L74: =IF(ISBLANK(【入力シート】栽培計画書!$B$6),"",(【入力シート】栽培計画書!$B$6)) | M74: =IF(ISBLANK(【入力シート】栽培計画書!$B$6),"",(【入力シート】栽培計画書!$B$6)) | O74: =IF(ISNUMBER(SEARCH("施設", C71)), "施設", IF(ISNUMBER(SEARCH("露地", C71)), "露地", "露地施設")) -> 露地施設 | P74: ページ11 欄1 | Q74: =IF(A477="","",B477) | R74: =IF(A477="","",A477) | S74: =IF(A477="","",IF(C477="","",C477)) | T74: =IF($Q74="①エコ25",$R74,"") | U74: =IF($Q74="②エコ50",$R74,"") | V74: =IF($Q74="③エコ100",$R74,"") | W74: =IF($Q74="①エコ25",$R74&$S74,"") | X74: =IF($Q74="②エコ50",$R74&$S74,"") | Y74: =IF($Q74="③エコ100",$R74&$S74,"") | Z74: 476 | AA74: =IF(A477="","",D477) | AB74: =IF($Q74="①エコ25",AA74,"") | AC74: =IF($Q74="②エコ50",$AA74,"") | AD74: =IF($Q74="③エコ100",$AA74,"")
B75: =IF(ISBLANK(【入力シート】栽培計画書!$B$6),"",(【入力シート】栽培計画書!$B$6)) | C75: 土づくりの技術 具体的内容 | G75: =IF(ISBLANK(【入力シート】栽培計画書!$M$13),"",(【入力シート】栽培計画書!$M$13)) | P75: 欄2 | Q75: =IF(A484="","",B484) | R75: =IF(A484="","",A484) | S75: =IF(A484="","",IF(C484="","",C484)) | T75: =IF($Q75="①エコ25",$R75,"") | U75: =IF($Q75="②エコ50",$R75,"") | V75: =IF($Q75="③エコ100",$R75,"") | W75: =IF($Q75="①エコ25",$R75&$S75,"") | X75: =IF($Q75="②エコ50",$R75&$S75,"") | Y75: =IF($Q75="③エコ100",$R75&$S75,"") | Z75: 483 | AA75: =IF(A484="","",D484) | AB75: =IF($Q75="①エコ25",AA75,"") | AC75: =IF($Q75="②エコ50",$AA75,"") | AD75: =IF($Q75="③エコ100",$AA75,"")
B76: =IF(ISBLANK(【入力シート】栽培計画書!$B$6),"",(【入力シート】栽培計画書!$B$6)) | C76: 化学合成農薬削減の技術 具体的内容 | G76: =IF(ISBLANK(【入力シート】栽培計画書!$Q$13),"",(【入力シート】栽培計画書!$Q$13)) | P76: 欄3 | Q76: =IF(A491="","",B491) | R76: =IF(A491="","",A491) | S76: =IF(A491="","",IF(C491="","",C491)) | T76: =IF($Q76="①エコ25",$R76,"") | U76: =IF($Q76="②エコ50",$R76,"") | V76: =IF($Q76="③エコ100",$R76,"") | W76: =IF($Q76="①エコ25",$R76&$S76,"") | X76: =IF($Q76="②エコ50",$R76&$S76,"") | Y76: =IF($Q76="③エコ100",$R76&$S76,"") | Z76: 490 | AA76: =IF(A491="","",D491) | AB76: =IF($Q76="①エコ25",AA76,"") | AC76: =IF($Q76="②エコ50",$AA76,"") | AD76: =IF($Q76="③エコ100",$AA76,"")
B77: =IF(ISBLANK(【入力シート】栽培計画書!$B$6),"",(【入力シート】栽培計画書!$B$6)) | C77: 化学肥料削減の技術 具体的内容 | G77: =IF(ISBLANK(【入力シート】栽培計画書!$U$13),"",(【入力シート】栽培計画書!$U$13)) | P77: 欄4 | Q77: =IF(A498="","",B498) | R77: =IF(A498="","",A498) | S77: =IF(A498="","",IF(C498="","",C498)) | T77: =IF($Q77="①エコ25",$R77,"") | U77: =IF($Q77="②エコ50",$R77,"") | V77: =IF($Q77="③エコ100",$R77,"") | W77: =IF($Q77="①エコ25",$R77&$S77,"") | X77: =IF($Q77="②エコ50",$R77&$S77,"") | Y77: =IF($Q77="③エコ100",$R77&$S77,"") | Z77: 497 | AA77: =IF(A498="","",D498) | AB77: =IF($Q77="①エコ25",AA77,"") | AC77: =IF($Q77="②エコ50",$AA77,"") | AD77: =IF($Q77="③エコ100",$AA77,"")
A78: =IF(ISBLANK(【入力シート】栽培計画書!$B$14),"",(【入力シート】栽培計画書!$B$14)) | B78: =IF(ISBLANK(【入力シート】栽培計画書!$C$14),"",(【入力シート】栽培計画書!$C$14)) | C78: =IF(ISBLANK(【入力シート】栽培計画書!$D$14),"",(【入力シート】栽培計画書!$D$14)) | D78: =IF(ISBLANK(【入力シート】栽培計画書!$F$14),"",(【入力シート】栽培計画書!$F$14)) | E78: =IF(ISBLANK(【入力シート】栽培計画書!$G$14),"",(【入力シート】栽培計画書!$G$14)) | F78: 月 | G78: =IF(ISBLANK(【入力シート】栽培計画書!$I$14),"",(【入力シート】栽培計画書!$I$14)) | H78: =IF(ISBLANK(【入力シート】栽培計画書!$J$14),"",IF(OR(【入力シート】栽培計画書!$I$14=List!$E$2,【入力シート】栽培計画書!$I$14=List!$E$4),【入力シート】栽培計画書!$J$14&"kg/10a",IF(【入力シート】栽培計画書!$I$14=List!$E$3,"播種量"&【入力シート】栽培計画書!$J$14&"kg/10a",""))) | I78: =IF(ISBLANK(【入力シート】栽培計画書!$N$14),"",(【入力シート】栽培計画書!$N$14)) | J78: =IF(ISBLANK(【入力シート】栽培計画書!$P$14),"",(【入力シート】栽培計画書!$P$14)) | K78: =IF(ISBLANK(【入力シート】栽培計画書!$R$14),"",(【入力シート】栽培計画書!$R$14)) | L78: =IF(ISBLANK(【入力シート】栽培計画書!$T$14),"",(【入力シート】栽培計画書!$T$14)) | M78: =IF(ISBLANK(【入力シート】栽培計画書!$V$14),"",(【入力シート】栽培計画書!$V$14)) | P78: 欄5 | Q78: =IF(A505="","",B505) | R78: =IF(A505="","",A505) | S78: =IF(A505="","",IF(C505="","",C505)) | T78: =IF($Q78="①エコ25",$R78,"") | U78: =IF($Q78="②エコ50",$R78,"") | V78: =IF($Q78="③エコ100",$R78,"") | W78: =IF($Q78="①エコ25",$R78&$S78,"") | X78: =IF($Q78="②エコ50",$R78&$S78,"") | Y78: =IF($Q78="③エコ100",$R78&$S78,"") | Z78: 504 | AA78: =IF(A505="","",D505) | AB78: =IF($Q78="①エコ25",AA78,"") | AC78: =IF($Q78="②エコ50",$AA78,"") | AD78: =IF($Q78="③エコ100",$AA78,"")
B79: =IF(ISBLANK(【入力シート】栽培計画書!$B$6),"",(【入力シート】栽培計画書!$B$6)) | C79: =IF(ISBLANK(【入力シート】栽培計画書!$B$6),"",(【入力シート】栽培計画書!$B$6)) | D79: =IF(ISBLANK(【入力シート】栽培計画書!$B$6),"",(【入力シート】栽培計画書!$B$6)) | E79: ～ | G79: =IF(ISBLANK(【入力シート】栽培計画書!$B$6),"",(【入力シート】栽培計画書!$B$6)) | H79: =IF(ISBLANK(【入力シート】栽培計画書!$B$6),"",(【入力シート】栽培計画書!$B$6)) | I79: =IF(ISBLANK(【入力シート】栽培計画書!$B$6),"",(【入力シート】栽培計画書!$B$6)) | J79: =IF(ISBLANK(【入力シート】栽培計画書!$B$6),"",(【入力シート】栽培計画書!$B$6)) | K79: =IF(ISBLANK(【入力シート】栽培計画書!$B$6),"",(【入力シート】栽培計画書!$B$6)) | L79: =IF(ISBLANK(【入力シート】栽培計画書!$B$6),"",(【入力シート】栽培計画書!$B$6)) | M79: =IF(ISBLANK(【入力シート】栽培計画書!$B$6),"",(【入力シート】栽培計画書!$B$6)) | P79: ページ12 欄1 | Q79: =IF(A524="","",B524) | R79: =IF(A524="","",A524) | S79: =IF(A524="","",IF(C524="","",C524)) | T79: =IF($Q79="①エコ25",$R79,"") | U79: =IF($Q79="②エコ50",$R79,"") | V79: =IF($Q79="③エコ100",$R79,"") | W79: =IF($Q79="①エコ25",$R79&$S79,"") | X79: =IF($Q79="②エコ50",$R79&$S79,"") | Y79: =IF($Q79="③エコ100",$R79&$S79,"") | Z79: 523 | AA79: =IF(A524="","",D524) | AB79: =IF($Q79="①エコ25",AA79,"") | AC79: =IF($Q79="②エコ50",$AA79,"") | AD79: =IF($Q79="③エコ100",$AA79,"")
B80: =IF(ISBLANK(【入力シート】栽培計画書!$B$6),"",(【入力シート】栽培計画書!$B$6)) | C80: =IF(ISBLANK(【入力シート】栽培計画書!$B$6),"",(【入力シート】栽培計画書!$B$6)) | D80: =IF(ISBLANK(【入力シート】栽培計画書!$B$6),"",(【入力シート】栽培計画書!$B$6)) | G80: =IF(ISBLANK(【入力シート】栽培計画書!$K$14),"",(【入力シート】栽培計画書!$K$14)) | H80: =IF(ISBLANK(【入力シート】栽培計画書!$L$14),"",IF(OR(【入力シート】栽培計画書!$K$14=List!$E$2,【入力シート】栽培計画書!$K$14=List!$E$4),【入力シート】栽培計画書!$L$14&"kg/10a",IF(【入力シート】栽培計画書!$K$14=List!$E$3,"播種量"&【入力シート】栽培計画書!$L$14&"kg/10a",""))) | I80: =IF(ISBLANK(【入力シート】栽培計画書!$O$14),"",(【入力シート】栽培計画書!$O$14)) | J80: =IF(ISBLANK(【入力シート】栽培計画書!$N$6),"",(【入力シート】栽培計画書!$N$6)) | K80: =IF(ISBLANK(【入力シート】栽培計画書!$S$14),"",(【入力シート】栽培計画書!$S$14)) | L80: =IF(ISBLANK(【入力シート】栽培計画書!$N$6),"",(【入力シート】栽培計画書!$N$6)) | M80: =IF(ISBLANK(【入力シート】栽培計画書!$B$6),"",(【入力シート】栽培計画書!$B$6)) | P80: 欄2 | Q80: =IF(A531="","",B531) | R80: =IF(A531="","",A531) | S80: =IF(A531="","",IF(C531="","",C531)) | T80: =IF($Q80="①エコ25",$R80,"") | U80: =IF($Q80="②エコ50",$R80,"") | V80: =IF($Q80="③エコ100",$R80,"") | W80: =IF($Q80="①エコ25",$R80&$S80,"") | X80: =IF($Q80="②エコ50",$R80&$S80,"") | Y80: =IF($Q80="③エコ100",$R80&$S80,"") | Z80: 530 | AA80: =IF(A531="","",D531) | AB80: =IF($Q80="①エコ25",AA80,"") | AC80: =IF($Q80="②エコ50",$AA80,"") | AD80: =IF($Q80="③エコ100",$AA80,"")
B81: =IF(ISBLANK(【入力シート】栽培計画書!$B$6),"",(【入力シート】栽培計画書!$B$6)) | C81: =IF(ISBLANK(【入力シート】栽培計画書!$E$14),"",(【入力シート】栽培計画書!$E$14)) | D81: =IF(ISBLANK(【入力シート】栽培計画書!$B$6),"",(【入力シート】栽培計画書!$B$6)) | E81: =IF(ISBLANK(【入力シート】栽培計画書!$H$14),"",(【入力シート】栽培計画書!$H$14)) | F81: 月 | G81: =IF(ISBLANK(【入力シート】栽培計画書!$B$6),"",(【入力シート】栽培計画書!$B$6)) | H81: =IF(ISBLANK(【入力シート】栽培計画書!$B$6),"",(【入力シート】栽培計画書!$B$6)) | I81: =IF(ISBLANK(【入力シート】栽培計画書!$B$6),"",(【入力シート】栽培計画書!$B$6)) | J81: =IF(ISBLANK(【入力シート】栽培計画書!$B$6),"",(【入力シート】栽培計画書!$B$6)) | K81: =IF(ISBLANK(【入力シート】栽培計画書!$B$6),"",(【入力シート】栽培計画書!$B$6)) | L81: =IF(ISBLANK(【入力シート】栽培計画書!$B$6),"",(【入力シート】栽培計画書!$B$6)) | M81: =IF(ISBLANK(【入力シート】栽培計画書!$B$6),"",(【入力シート】栽培計画書!$B$6)) | O81: =IF(ISNUMBER(SEARCH("施設", C78)), "施設", IF(ISNUMBER(SEARCH("露地", C78)), "露地", "露地施設")) -> 露地施設 | P81: 欄3 | Q81: =IF(A538="","",B538) | R81: =IF(A538="","",A538) | S81: =IF(A538="","",IF(C538="","",C538)) | T81: =IF($Q81="①エコ25",$R81,"") | U81: =IF($Q81="②エコ50",$R81,"") | V81: =IF($Q81="③エコ100",$R81,"") | W81: =IF($Q81="①エコ25",$R81&$S81,"") | X81: =IF($Q81="②エコ50",$R81&$S81,"") | Y81: =IF($Q81="③エコ100",$R81&$S81,"") | Z81: 537 | AA81: =IF(A538="","",D538) | AB81: =IF($Q81="①エコ25",AA81,"") | AC81: =IF($Q81="②エコ50",$AA81,"") | AD81: =IF($Q81="③エコ100",$AA81,"")
B82: =IF(ISBLANK(【入力シート】栽培計画書!$B$6),"",(【入力シート】栽培計画書!$B$6)) | C82: 土づくりの技術 具体的内容 | G82: =IF(ISBLANK(【入力シート】栽培計画書!$M$14),"",(【入力シート】栽培計画書!$M$14)) | P82: 欄4 | Q82: =IF(A545="","",B545) | R82: =IF(A545="","",A545) | S82: =IF(A545="","",IF(C545="","",C545)) | T82: =IF($Q82="①エコ25",$R82,"") | U82: =IF($Q82="②エコ50",$R82,"") | V82: =IF($Q82="③エコ100",$R82,"") | W82: =IF($Q82="①エコ25",$R82&$S82,"") | X82: =IF($Q82="②エコ50",$R82&$S82,"") | Y82: =IF($Q82="③エコ100",$R82&$S82,"") | Z82: 544 | AA82: =IF(A545="","",D545) | AB82: =IF($Q82="①エコ25",AA82,"") | AC82: =IF($Q82="②エコ50",$AA82,"") | AD82: =IF($Q82="③エコ100",$AA82,"")
B83: =IF(ISBLANK(【入力シート】栽培計画書!$B$6),"",(【入力シート】栽培計画書!$B$6)) | C83: 化学合成農薬削減の技術 具体的内容 | G83: =IF(ISBLANK(【入力シート】栽培計画書!$Q$14),"",(【入力シート】栽培計画書!$Q$14)) | P83: 欄5 | Q83: =IF(A552="","",B552) | R83: =IF(A552="","",A552) | S83: =IF(A552="","",IF(C552="","",C552)) | T83: =IF($Q83="①エコ25",$R83,"") | U83: =IF($Q83="②エコ50",$R83,"") | V83: =IF($Q83="③エコ100",$R83,"") | W83: =IF($Q83="①エコ25",$R83&$S83,"") | X83: =IF($Q83="②エコ50",$R83&$S83,"") | Y83: =IF($Q83="③エコ100",$R83&$S83,"") | Z83: 551 | AA83: =IF(A552="","",D552) | AB83: =IF($Q83="①エコ25",AA83,"") | AC83: =IF($Q83="②エコ50",$AA83,"") | AD83: =IF($Q83="③エコ100",$AA83,"")
B84: =IF(ISBLANK(【入力シート】栽培計画書!$B$6),"",(【入力シート】栽培計画書!$B$6)) | C84: 化学肥料削減の技術 具体的内容 | G84: =IF(ISBLANK(【入力シート】栽培計画書!$U$14),"",(【入力シート】栽培計画書!$U$14)) | P84: 1 | S84: ②重複する品目・作型を削除処理する | T84: {=IF(COUNTBLANK(T24:T83)=60,"",_xlfn.UNIQUE(_xlfn._xlws.FILTER(T24:T83,T24:T83<>"")))} | U84: {=IF(COUNTBLANK(U24:U83)=60,"",_xlfn.UNIQUE(_xlfn._xlws.FILTER(U24:U83,U24:U83<>"")))} | V84: {=IF(COUNTBLANK(V24:V83)=60,"",_xlfn.UNIQUE(_xlfn._xlws.FILTER(V24:V83,V24:V83<>"")))} | W84: {=IF(COUNTBLANK(W24:W83)=60,"",_xlfn.UNIQUE(_xlfn._xlws.FILTER(W24:W83,W24:W83<>"")))} | X84: {=IF(COUNTBLANK(X24:X83)=60,"",_xlfn.UNIQUE(_xlfn._xlws.FILTER(X24:X83,X24:X83<>"")))} | Y84: {=IF(COUNTBLANK(Y24:Y83)=60,"",_xlfn.UNIQUE(_xlfn._xlws.FILTER(Y24:Y83,Y24:Y83<>"")))} | Z84: 作付面積合計 | AA84: =SUM(AA24:AA83) -> 0 | AB84: =SUM(AB24:AB83) -> 0 | AC84: =SUM(AC24:AC83) -> 0 | AD84: =SUM(AD24:AD83) -> 0
A85: =IF(ISBLANK(【入力シート】栽培計画書!$B$15),"",(【入力シート】栽培計画書!$B$15)) | B85: =IF(ISBLANK(【入力シート】栽培計画書!$C$15),"",(【入力シート】栽培計画書!$C$15)) | C85: =IF(ISBLANK(【入力シート】栽培計画書!$D$15),"",(【入力シート】栽培計画書!$D$15)) | D85: =IF(ISBLANK(【入力シート】栽培計画書!$F$15),"",(【入力シート】栽培計画書!$F$15)) | E85: =IF(ISBLANK(【入力シート】栽培計画書!$G$15),"",(【入力シート】栽培計画書!$G$15)) | F85: 月 | G85: =IF(ISBLANK(【入力シート】栽培計画書!$I$15),"",(【入力シート】栽培計画書!$I$15)) | H85: =IF(ISBLANK(【入力シート】栽培計画書!$J$15),"",IF(OR(【入力シート】栽培計画書!$I$15=List!$E$2,【入力シート】栽培計画書!$I$15=List!$E$4),【入力シート】栽培計画書!$J$15&"kg/10a",IF(【入力シート】栽培計画書!$I$15=List!$E$3,"播種量"&【入力シート】栽培計画書!$J$15&"kg/10a",""))) | I85: =IF(ISBLANK(【入力シート】栽培計画書!$N$15),"",(【入力シート】栽培計画書!$N$15)) | J85: =IF(ISBLANK(【入力シート】栽培計画書!$P$15),"",(【入力シート】栽培計画書!$P$15)) | K85: =IF(ISBLANK(【入力シート】栽培計画書!$R$15),"",(【入力シート】栽培計画書!$R$15)) | L85: =IF(ISBLANK(【入力シート】栽培計画書!$T$15),"",(【入力シート】栽培計画書!$T$15)) | M85: =IF(ISBLANK(【入力シート】栽培計画書!$V$15),"",(【入力シート】栽培計画書!$V$15)) | P85: 2 | S85: （基本はUNIQUE関数） | Z85: =COUNTBLANK(Y23:Y83) -> 60 | AA85: 作付面積 （区分問わず） | AB85: エコ25 作付面積 | AC85: エコ50 作付面積 | AD85: エコ100 作付面積
B86: =IF(ISBLANK(【入力シート】栽培計画書!$B$6),"",(【入力シート】栽培計画書!$B$6)) | C86: =IF(ISBLANK(【入力シート】栽培計画書!$B$6),"",(【入力シート】栽培計画書!$B$6)) | D86: =IF(ISBLANK(【入力シート】栽培計画書!$B$6),"",(【入力シート】栽培計画書!$B$6)) | E86: ～ | G86: =IF(ISBLANK(【入力シート】栽培計画書!$B$6),"",(【入力シート】栽培計画書!$B$6)) | H86: =IF(ISBLANK(【入力シート】栽培計画書!$B$6),"",(【入力シート】栽培計画書!$B$6)) | I86: =IF(ISBLANK(【入力シート】栽培計画書!$B$6),"",(【入力シート】栽培計画書!$B$6)) | J86: =IF(ISBLANK(【入力シート】栽培計画書!$B$6),"",(【入力シート】栽培計画書!$B$6)) | K86: =IF(ISBLANK(【入力シート】栽培計画書!$B$6),"",(【入力シート】栽培計画書!$B$6)) | L86: =IF(ISBLANK(【入力シート】栽培計画書!$B$6),"",(【入力シート】栽培計画書!$B$6)) | M86: =IF(ISBLANK(【入力シート】栽培計画書!$B$6),"",(【入力シート】栽培計画書!$B$6)) | P86: 3 | S86: （空白を除外するためFILTER関数も併用）
B87: =IF(ISBLANK(【入力シート】栽培計画書!$B$6),"",(【入力シート】栽培計画書!$B$6)) | C87: =IF(ISBLANK(【入力シート】栽培計画書!$B$6),"",(【入力シート】栽培計画書!$B$6)) | D87: =IF(ISBLANK(【入力シート】栽培計画書!$B$6),"",(【入力シート】栽培計画書!$B$6)) | G87: =IF(ISBLANK(【入力シート】栽培計画書!$K$15),"",(【入力シート】栽培計画書!$K$15)) | H87: =IF(ISBLANK(【入力シート】栽培計画書!$L$15),"",IF(OR(【入力シート】栽培計画書!$K$15=List!$E$2,【入力シート】栽培計画書!$K$15=List!$E$4),【入力シート】栽培計画書!$L$15&"kg/10a",IF(【入力シート】栽培計画書!$K$15=List!$E$3,"播種量"&【入力シート】栽培計画書!$L$15&"kg/10a",""))) | I87: =IF(ISBLANK(【入力シート】栽培計画書!$O$15),"",(【入力シート】栽培計画書!$O$15)) | J87: =IF(ISBLANK(【入力シート】栽培計画書!$N$6),"",(【入力シート】栽培計画書!$N$6)) | K87: =IF(ISBLANK(【入力シート】栽培計画書!$S$15),"",(【入力シート】栽培計画書!$S$15)) | L87: =IF(ISBLANK(【入力シート】栽培計画書!$N$6),"",(【入力シート】栽培計画書!$N$6)) | M87: =IF(ISBLANK(【入力シート】栽培計画書!$B$6),"",(【入力シート】栽培計画書!$B$6)) | P87: 4
B88: =IF(ISBLANK(【入力シート】栽培計画書!$B$6),"",(【入力シート】栽培計画書!$B$6)) | C88: =IF(ISBLANK(【入力シート】栽培計画書!$E$15),"",(【入力シート】栽培計画書!$E$15)) | D88: =IF(ISBLANK(【入力シート】栽培計画書!$B$6),"",(【入力シート】栽培計画書!$B$6)) | E88: =IF(ISBLANK(【入力シート】栽培計画書!$H$15),"",(【入力シート】栽培計画書!$H$15)) | F88: 月 | G88: =IF(ISBLANK(【入力シート】栽培計画書!$B$6),"",(【入力シート】栽培計画書!$B$6)) | H88: =IF(ISBLANK(【入力シート】栽培計画書!$B$6),"",(【入力シート】栽培計画書!$B$6)) | I88: =IF(ISBLANK(【入力シート】栽培計画書!$B$6),"",(【入力シート】栽培計画書!$B$6)) | J88: =IF(ISBLANK(【入力シート】栽培計画書!$B$6),"",(【入力シート】栽培計画書!$B$6)) | K88: =IF(ISBLANK(【入力シート】栽培計画書!$B$6),"",(【入力シート】栽培計画書!$B$6)) | L88: =IF(ISBLANK(【入力シート】栽培計画書!$B$6),"",(【入力シート】栽培計画書!$B$6)) | M88: =IF(ISBLANK(【入力シート】栽培計画書!$B$6),"",(【入力シート】栽培計画書!$B$6)) | O88: =IF(ISNUMBER(SEARCH("施設", C85)), "施設", IF(ISNUMBER(SEARCH("露地", C85)), "露地", "露地施設")) -> 露地施設 | P88: 5
B89: =IF(ISBLANK(【入力シート】栽培計画書!$B$6),"",(【入力シート】栽培計画書!$B$6)) | C89: 土づくりの技術 具体的内容 | G89: =IF(ISBLANK(【入力シート】栽培計画書!$M$15),"",(【入力シート】栽培計画書!$M$15)) | P89: 6
B90: =IF(ISBLANK(【入力シート】栽培計画書!$B$6),"",(【入力シート】栽培計画書!$B$6)) | C90: 化学合成農薬削減の技術 具体的内容 | G90: =IF(ISBLANK(【入力シート】栽培計画書!$Q$15),"",(【入力シート】栽培計画書!$Q$15)) | P90: 7
B91: =IF(ISBLANK(【入力シート】栽培計画書!$B$6),"",(【入力シート】栽培計画書!$B$6)) | C91: 化学肥料削減の技術 具体的内容 | G91: =IF(ISBLANK(【入力シート】栽培計画書!$U$15),"",(【入力シート】栽培計画書!$U$15)) | P91: 8 | Q91: （エラー防止のため、区分内がすべて（30個とも）空欄のときは空白を返して、UNIQUE関数の処理は行わないように指定）
A92: ＊１ 別表２「都内における化学合成農薬使用回数・化学肥料使用基準」に記載の農産物名、作型を記入すること。 なお同じ農産物、作型であって露地栽培と施設栽培がある場合には、別々に記入する。 | P92: 9 | S92: 品目数と作型数のカウントも この欄を利用して行う
A93: ＊２ 別表１－１「東京都エコ農産物における土づくり、化学合成農薬と化学肥料の使用を削減させる効果の高い技術等」から 該当する技術を番号で選び記入すること。 | P93: 10
A94: ＊３ 予定している堆肥等の有機質資材の使用量、化学合成農薬の使用回数と、化学肥料の上限値を記入すること。 別表２「東京都エコ農産物における化学合成農薬使用回数・化学肥料使用基準」に記載された上限値を下回ること。 | P94: 11
P95: 12
A96: 東京都エコ農産物認証申請書（栽培計画書） | P96: 13
A97: 申請者氏名： | C97: ='申請書（別記様式第１号）'!$D$12&"" | M97: No. ３ | P97: 14
P98: 15
A99: ＊１ | B99: 認証区分 | C99: ＊１ | D99: 作付面積 | E99: 栽培期間 | G99: 土づくりの技術 | I99: 化学合成農薬 削減の技術 | K99: 化学肥料削減の技術 | M99: 目標収量 （kg/10a） | P99: 16
A100: 農産物名 | P100: 17
C101: 作型 | G101: ＊２ | H101: ＊３ | I101: ＊2 | J101: ＊３ | K101: ＊２ | L101: ＊３ | P101: 18
...

Sheet 【申請用】栽培計画書（養液栽培）
A1: 別記様式第1号（別紙２－２）
A2: 東京都エコ農産物認証申請書（養液栽培計画書）
A3: 申請者氏名： | C3: ='申請書（別記様式第１号）'!$D$12&"" | K3: No. 1
P4: 【化学合成農薬削減技術】 | U4: 【排液流出防止技術】
A5: ＊１ | B5: 認証区分 | C5: ＊１ | D5: 作付面積 | E5: 栽培期間 | G5: 化学合成農薬削減の技術 | I5: 排液流出 防止の技術 | J5: 廃棄資材の処理方法 | K5: 目標収量 （kg/10a） | P5: ① 温湯種子消毒技術 | U5: ① 循環型栽培（排液なし）
A6: 農産物名 | C6: 作型 施設 | P6: ④ 生物農薬利用技術 | U6: ② 肥料として利用
G7: ＊2 | H7: ＊３ | I7: ＊４ | P7: ⑥ 抵抗性品種栽培・台木利用技術 | U7: ③ 堆肥に添加
G8: 番号 | H8: 化学合成農薬 | I8: 番号 | J8: 具体的内容 | P8: ⑨ 光利用技術 | U8: ④ 資材で吸着回収し、産廃処理
D9: (a) | H9: 使用回数（回） | P9: ⑩ 被覆栽培技術 | U9: ⑤ 浄化槽で処理・放流
A10: =IF(ISBLANK('【入力シート】栽培計画書 (養液栽培)'!$B$6),"",'【入力シート】栽培計画書 (養液栽培)'!$B$6) | B10: =IF(ISBLANK('【入力シート】栽培計画書 (養液栽培)'!$C$6),"",'【入力シート】栽培計画書 (養液栽培)'!$C$6) | C10: =IF(ISBLANK('【入力シート】栽培計画書 (養液栽培)'!$D$6),"",'【入力シート】栽培計画書 (養液栽培)'!$D$6) | D10: =IF(ISBLANK('【入力シート】栽培計画書 (養液栽培)'!$E$6),"",'【入力シート】栽培計画書 (養液栽培)'!$E$6) | E10: =IF(ISBLANK('【入力シート】栽培計画書 (養液栽培)'!$F$6),"",'【入力シート】栽培計画書 (養液栽培)'!$F$6) | F10: 月 | G10: =IF(ISBLANK('【入力シート】栽培計画書 (養液栽培)'!$I$6),"",'【入力シート】栽培計画書 (養液栽培)'!$I$6) | H10: =IF(ISBLANK('【入力シート】栽培計画書 (養液栽培)'!$K$6),"",'【入力シート】栽培計画書 (養液栽培)'!$K$6) | I10: =IF(ISBLANK('【入力シート】栽培計画書 (養液栽培)'!$M$6),"",'【入力シート】栽培計画書 (養液栽培)'!$M$6) | J10: =IF(ISBLANK('【入力シート】栽培計画書 (養液栽培)'!$P$6),"",'【入力シート】栽培計画書 (養液栽培)'!$P$6) | K10: =IF(ISBLANK('【入力シート】栽培計画書 (養液栽培)'!$Q$6),"",'【入力シート】栽培計画書 (養液栽培)'!$Q$6) | P10: ⑪ フェロモン剤利用技術 | U10: ⑥ 希釈後、公共下水道へ放流
E11: ～ | P11: ⑬ 天然物質由来農薬等利用技術 | U11: ⑦ その他の技術
G12: =IF(ISBLANK('【入力シート】栽培計画書 (養液栽培)'!$J$6),"",'【入力シート】栽培計画書 (養液栽培)'!$J$6) | I12: =IF(ISBLANK('【入力シート】栽培計画書 (養液栽培)'!$N$6),"",'【入力シート】栽培計画書 (養液栽培)'!$N$6) | P12: ⑭ その他 試験研究機関等で開発された技術
C13: 施設 | E13: =IF(ISBLANK('【入力シート】栽培計画書 (養液栽培)'!$G$6),"",'【入力シート】栽培計画書 (養液栽培)'!$G$6) | F13: 月 | P13: ※注 ②③⑤⑦⑧⑫の技術は、養液栽培では
C14: 養液栽培の形式 | G14: =IF(ISBLANK('【入力シート】栽培計画書 (養液栽培)'!$H$6),"",'【入力シート】栽培計画書 (養液栽培)'!$H$6) | P14: 「化学農薬削減技術」 として使用できません
C15: 化学合成農薬削減の技術 具体的内容 | G15: =IF(ISBLANK('【入力シート】栽培計画書 (養液栽培)'!$L$6),"",'【入力シート】栽培計画書 (養液栽培)'!$L$6)
C16: 排液流出防止の技術 具体的内容 | G16: =IF(ISBLANK('【入力シート】栽培計画書 (養液栽培)'!$O$6),"",'【入力シート】栽培計画書 (養液栽培)'!$O$6) | N16: 作型の選択の処理
A17: =IF(ISBLANK('【入力シート】栽培計画書 (養液栽培)'!$B$7),"",'【入力シート】栽培計画書 (養液栽培)'!$B$7) | B17: =IF(ISBLANK('【入力シート】栽培計画書 (養液栽培)'!$C$7),"",'【入力シート】栽培計画書 (養液栽培)'!$C$7) | C17: =IF(ISBLANK('【入力シート】栽培計画書 (養液栽培)'!$D$7),"",'【入力シート】栽培計画書 (養液栽培)'!$D$7) | D17: =IF(ISBLANK('【入力シート】栽培計画書 (養液栽培)'!$E$7),"",'【入力シート】栽培計画書 (養液栽培)'!$E$7) | E17: =IF(ISBLANK('【入力シート】栽培計画書 (養液栽培)'!$F$7),"",'【入力シート】栽培計画書 (養液栽培)'!$F$7) | F17: 月 | G17: =IF(ISBLANK('【入力シート】栽培計画書 (養液栽培)'!$I$7),"",'【入力シート】栽培計画書 (養液栽培)'!$I$7) | H17: =IF(ISBLANK('【入力シート】栽培計画書 (養液栽培)'!$K$7),"",'【入力シート】栽培計画書 (養液栽培)'!$K$7) | I17: =IF(ISBLANK('【入力シート】栽培計画書 (養液栽培)'!$M$7),"",'【入力シート】栽培計画書 (養液栽培)'!$M$7) | J17: =IF(ISBLANK('【入力シート】栽培計画書 (養液栽培)'!$P$7),"",'【入力シート】栽培計画書 (養液栽培)'!$P$7) | K17: =IF(ISBLANK('【入力シート】栽培計画書 (養液栽培)'!$Q$7),"",'【入力シート】栽培計画書 (養液栽培)'!$Q$7) | N17: →空欄なら空白、イチゴ（養液）なら促成（施設）、それ以外は促成長期（施設）
E18: ～
G19: =IF(ISBLANK('【入力シート】栽培計画書 (養液栽培)'!$J$7),"",'【入力シート】栽培計画書 (養液栽培)'!$J$7) | I19: =IF(ISBLANK('【入力シート】栽培計画書 (養液栽培)'!$N$7),"",'【入力シート】栽培計画書 (養液栽培)'!$N$7)
C20: 施設 | E20: =IF(ISBLANK('【入力シート】栽培計画書 (養液栽培)'!$G$7),"",'【入力シート】栽培計画書 (養液栽培)'!$G$7) | F20: 月
C21: 養液栽培の形式 | G21: =IF(ISBLANK('【入力シート】栽培計画書 (養液栽培)'!$H$7),"",'【入力シート】栽培計画書 (養液栽培)'!$H$7)
C22: 化学合成農薬削減の技術 具体的内容 | G22: =IF(ISBLANK('【入力シート】栽培計画書 (養液栽培)'!$L$7),"",'【入力シート】栽培計画書 (養液栽培)'!$L$7)
C23: 排液流出防止の技術 具体的内容 | G23: =IF(ISBLANK('【入力シート】栽培計画書 (養液栽培)'!$O$7),"",'【入力シート】栽培計画書 (養液栽培)'!$O$7) | N23: エコ区分 | O23: 作物名 | P23: 作型 | Q23: ①エコ25 | R23: ②エコ50 | S23: 養液栽培でエコ100は存在しない | T23: エコ25作型付き | U23: エコ50作型付き | V23: 養液栽培でエコ100は存在しない | X23: 作付面積 区分不問 | Y23: ①エコ25 作付面積 | Z23: ②エコ50 作付面積 | AB23: 参照する欄の行番号
A24: =IF(ISBLANK('【入力シート】栽培計画書 (養液栽培)'!$B$8),"",'【入力シート】栽培計画書 (養液栽培)'!$B$8) | B24: =IF(ISBLANK('【入力シート】栽培計画書 (養液栽培)'!$C$8),"",'【入力シート】栽培計画書 (養液栽培)'!$C$8) | C24: =IF(ISBLANK('【入力シート】栽培計画書 (養液栽培)'!$D$8),"",'【入力シート】栽培計画書 (養液栽培)'!$D$8) | D24: =IF(ISBLANK('【入力シート】栽培計画書 (養液栽培)'!$E$8),"",'【入力シート】栽培計画書 (養液栽培)'!$E$8) | E24: =IF(ISBLANK('【入力シート】栽培計画書 (養液栽培)'!$F$8),"",'【入力シート】栽培計画書 (養液栽培)'!$F$8) | F24: 月 | G24: =IF(ISBLANK('【入力シート】栽培計画書 (養液栽培)'!$I$8),"",'【入力シート】栽培計画書 (養液栽培)'!$I$8) | H24: =IF(ISBLANK('【入力シート】栽培計画書 (養液栽培)'!$K$8),"",'【入力シート】栽培計画書 (養液栽培)'!$K$8) | I24: =IF(ISBLANK('【入力シート】栽培計画書 (養液栽培)'!$M$8),"",'【入力シート】栽培計画書 (養液栽培)'!$M$8) | J24: =IF(ISBLANK('【入力シート】栽培計画書 (養液栽培)'!$P$8),"",'【入力シート】栽培計画書 (養液栽培)'!$P$8) | K24: =IF(ISBLANK('【入力シート】栽培計画書 (養液栽培)'!$Q$8),"",'【入力シート】栽培計画書 (養液栽培)'!$Q$8) | M24: ページ１ 欄1 | N24: =IF(A10="","",B10) | O24: =IF(A10="","",A10) | P24: =IF(A10="","",IF(C10="","",C10)) | Q24: =IF($N24="①エコ25",$O24,"") | R24: =IF($N24="②エコ50",$O24,"") | T24: =IF($N24="①エコ25",$O24&$P24,"") | U24: =IF($N24="②エコ50",$O24&$P24,"") | X24: =IF(A10="","",D10) | Y24: =IF($N24="①エコ25",$X24,"") | Z24: =IF($N24="②エコ50",$X24,"") | AB24: 9
E25: ～ | M25: 欄2 | N25: =IF(A17="","",B17) | O25: =IF(A17="","",A17) | P25: =IF(A17="","",IF(C17="","",C17)) | Q25: =IF($N25="①エコ25",$O25,"") | R25: =IF($N25="②エコ50",$O25,"") | T25: =IF($N25="①エコ25",$O25&$P25,"") | U25: =IF($N25="②エコ50",$O25&$P25,"") | X25: =IF(A17="","",D17) | Y25: =IF($N25="①エコ25",$X25,"") | Z25: =IF($N25="②エコ50",$X25,"") | AB25: 16
G26: =IF(ISBLANK('【入力シート】栽培計画書 (養液栽培)'!$J$8),"",'【入力シート】栽培計画書 (養液栽培)'!$J$8) | I26: =IF(ISBLANK('【入力シート】栽培計画書 (養液栽培)'!$N$8),"",'【入力シート】栽培計画書 (養液栽培)'!$N$8) | M26: 欄3 | N26: =IF(A24="","",B24) | O26: =IF(A24="","",A24) | P26: =IF(A24="","",IF(C24="","",C24)) | Q26: =IF($N26="①エコ25",$O26,"") | R26: =IF($N26="②エコ50",$O26,"") | T26: =IF($N26="①エコ25",$O26&$P26,"") | U26: =IF($N26="②エコ50",$O26&$P26,"") | X26: =IF(A24="","",D24) | Y26: =IF($N26="①エコ25",$X26,"") | Z26: =IF($N26="②エコ50",$X26,"") | AB26: 23
C27: 施設 | E27: =IF(ISBLANK('【入力シート】栽培計画書 (養液栽培)'!$G$8),"",'【入力シート】栽培計画書 (養液栽培)'!$G$8) | F27: 月 | M27: 欄4 | N27: =IF(A31="","",B31) | O27: =IF(A31="","",A31) | P27: =IF(A31="","",IF(C31="","",C31)) | Q27: =IF($N27="①エコ25",$O27,"") | R27: =IF($N27="②エコ50",$O27,"") | T27: =IF($N27="①エコ25",$O27&$P27,"") | U27: =IF($N27="②エコ50",$O27&$P27,"") | X27: =IF(A31="","",D31) | Y27: =IF($N27="①エコ25",$X27,"") | Z27: =IF($N27="②エコ50",$X27,"") | AB27: 30
C28: 養液栽培の形式 | G28: =IF(ISBLANK('【入力シート】栽培計画書 (養液栽培)'!$H$8),"",'【入力シート】栽培計画書 (養液栽培)'!$H$8) | M28: 欄5 | N28: =IF(A38="","",B38) | O28: =IF(A38="","",A38) | P28: =IF(A38="","",IF(C38="","",C38)) | Q28: =IF($N28="①エコ25",$O28,"") | R28: =IF($N28="②エコ50",$O28,"") | T28: =IF($N28="①エコ25",$O28&$P28,"") | U28: =IF($N28="②エコ50",$O28&$P28,"") | X28: =IF(A38="","",D38) | Y28: =IF($N28="①エコ25",$X28,"") | Z28: =IF($N28="②エコ50",$X28,"") | AB28: 37
C29: 化学合成農薬削減の技術 具体的内容 | G29: =IF(ISBLANK('【入力シート】栽培計画書 (養液栽培)'!$L$8),"",'【入力シート】栽培計画書 (養液栽培)'!$L$8) | M29: 1 | P29: 重複する品目・作型の削除処理 | Q29: {=IF(COUNTBLANK(Q24:Q28)=5,"",_xlfn.UNIQUE(_xlfn._xlws.FILTER(Q24:Q28,Q24:Q28<>"")))} | R29: {=IF(COUNTBLANK(R24:R28)=5,"",_xlfn.UNIQUE(_xlfn._xlws.FILTER(R24:R28,R24:R28<>"")))} | T29: {=IF(COUNTBLANK(T24:T28)=5,"",_xlfn.UNIQUE(_xlfn._xlws.FILTER(T24:T28,T24:T28<>"")))} | U29: {=IF(COUNTBLANK(U24:U28)=5,"",_xlfn.UNIQUE(_xlfn._xlws.FILTER(U24:U28,U24:U28<>"")))} | W29: 作付面積 合計 | X29: =SUM(X24:X28) -> 0 | Y29: =SUM(Y24:Y28) -> 0 | Z29: =SUM(Z24:Z28) -> 0
C30: 排液流出防止の技術 具体的内容 | G30: =IF(ISBLANK('【入力シート】栽培計画書 (養液栽培)'!$O$8),"",'【入力シート】栽培計画書 (養液栽培)'!$O$8) | M30: 2 | P30: (UNIQUE関数） | X30: 作付面積 区分不問 | Y30: ①エコ25 作付面積 | Z30: ②エコ50 作付面積
A31: =IF(ISBLANK('【入力シート】栽培計画書 (養液栽培)'!$B$9),"",'【入力シート】栽培計画書 (養液栽培)'!$B$9) | B31: =IF(ISBLANK('【入力シート】栽培計画書 (養液栽培)'!$C$9),"",'【入力シート】栽培計画書 (養液栽培)'!$C$9) | C31: =IF(ISBLANK('【入力シート】栽培計画書 (養液栽培)'!$D$9),"",'【入力シート】栽培計画書 (養液栽培)'!$D$9) | D31: =IF(ISBLANK('【入力シート】栽培計画書 (養液栽培)'!$E$9),"",'【入力シート】栽培計画書 (養液栽培)'!$E$9) | E31: =IF(ISBLANK('【入力シート】栽培計画書 (養液栽培)'!$F$9),"",'【入力シート】栽培計画書 (養液栽培)'!$F$9) | F31: 月 | G31: =IF(ISBLANK('【入力シート】栽培計画書 (養液栽培)'!$I$9),"",'【入力シート】栽培計画書 (養液栽培)'!$I$9) | H31: =IF(ISBLANK('【入力シート】栽培計画書 (養液栽培)'!$K$9),"",'【入力シート】栽培計画書 (養液栽培)'!$K$9) | I31: =IF(ISBLANK('【入力シート】栽培計画書 (養液栽培)'!$M$9),"",'【入力シート】栽培計画書 (養液栽培)'!$M$9) | J31: =IF(ISBLANK('【入力シート】栽培計画書 (養液栽培)'!$P$9),"",'【入力シート】栽培計画書 (養液栽培)'!$P$9) | K31: =IF(ISBLANK('【入力シート】栽培計画書 (養液栽培)'!$Q$9),"",'【入力シート】栽培計画書 (養液栽培)'!$Q$9) | M31: 3
E32: ～ | M32: 4
G33: =IF(ISBLANK('【入力シート】栽培計画書 (養液栽培)'!$J$9),"",'【入力シート】栽培計画書 (養液栽培)'!$J$9) | I33: =IF(ISBLANK('【入力シート】栽培計画書 (養液栽培)'!$N$9),"",'【入力シート】栽培計画書 (養液栽培)'!$N$9) | M33: 5
C34: 施設 | E34: =IF(ISBLANK('【入力シート】栽培計画書 (養液栽培)'!$G$9),"",'【入力シート】栽培計画書 (養液栽培)'!$G$9) | F34: 月 | M34: 養液栽培と通常のエコ品目の両方があれば「、」を追加 | Q34: =IF(Q37=0,"",IF(' 【申請用】栽培計画書'!T150=0,"","、")) | R34: =IF(R37=0,"",IF(' 【申請用】栽培計画書'!U150=0,"","、")) | T34: =IF(T37=0,"",IF(' 【申請用】栽培計画書'!W150=0,"","、")) | U34: =IF(U37=0,"",IF(' 【申請用】栽培計画書'!X150=0,"","、")) | W34: ←通常の栽培計画書シートの品目数集計を参照、
C35: 養液栽培の形式 | G35: =IF(ISBLANK('【入力シート】栽培計画書 (養液栽培)'!$H$9),"",'【入力シート】栽培計画書 (養液栽培)'!$H$9) | M35: 「、」のセル ＆ TEXTJOIN | P35: 文字列の合体処理 （TEXTJOIN関数） | Q35: =Q34&_xlfn.TEXTJOIN("、",TRUE,Q29:Q33) | R35: =R34&_xlfn.TEXTJOIN("、",TRUE,R29:R33) | T35: =T34&_xlfn.TEXTJOIN("、",TRUE,T29:T33) | U35: =U34&_xlfn.TEXTJOIN("、",TRUE,U29:U33) | W35: 品目数が０であれば空白、０でなければ「、」を追加
C36: 化学合成農薬削減の技術 具体的内容 | G36: =IF(ISBLANK('【入力シート】栽培計画書 (養液栽培)'!$L$9),"",'【入力シート】栽培計画書 (養液栽培)'!$L$9) | P36: 「、」区切り 空白無視＝TRUE
C37: 排液流出防止の技術 具体的内容 | G37: =IF(ISBLANK('【入力シート】栽培計画書 (養液栽培)'!$O$9),"",'【入力シート】栽培計画書 (養液栽培)'!$O$9) | P37: 認証品目数・認証作型数 | Q37: =5-COUNTIF(Q29:Q33,"") -> 0 | R37: =5-COUNTIF(R29:R33,"") -> 0 | T37: =5-COUNTIF(T29:T33,"") -> 0 | U37: =5-COUNTIF(U29:U33,"") -> 0
A38: =IF(ISBLANK('【入力シート】栽培計画書 (養液栽培)'!$B$10),"",'【入力シート】栽培計画書 (養液栽培)'!$B$10) | B38: =IF(ISBLANK('【入力シート】栽培計画書 (養液栽培)'!$C$10),"",'【入力シート】栽培計画書 (養液栽培)'!$C$10) | C38: =IF(ISBLANK('【入力シート】栽培計画書 (養液栽培)'!$D$10),"",'【入力シート】栽培計画書 (養液栽培)'!$D$10) | D38: =IF(ISBLANK('【入力シート】栽培計画書 (養液栽培)'!$E$10),"",'【入力シート】栽培計画書 (養液栽培)'!$E$10) | E38: =IF(ISBLANK('【入力シート】栽培計画書 (養液栽培)'!$F$10),"",'【入力シート】栽培計画書 (養液栽培)'!$F$10) | F38: 月 | G38: =IF(ISBLANK('【入力シート】栽培計画書 (養液栽培)'!$I$10),"",'【入力シート】栽培計画書 (養液栽培)'!$I$10) | H38: =IF(ISBLANK('【入力シート】栽培計画書 (養液栽培)'!$K$10),"",'【入力シート】栽培計画書 (養液栽培)'!$K$10) | I38: =IF(ISBLANK('【入力シート】栽培計画書 (養液栽培)'!$M$10),"",'【入力シート】栽培計画書 (養液栽培)'!$M$10) | J38: =IF(ISBLANK('【入力シート】栽培計画書 (養液栽培)'!$P$10),"",'【入力シート】栽培計画書 (養液栽培)'!$P$10) | K38: =IF(ISBLANK('【入力シート】栽培計画書 (養液栽培)'!$Q$10),"",'【入力シート】栽培計画書 (養液栽培)'!$Q$10) | Q38: ①エコ25 | R38: ②エコ50 | T38: エコ25作型付き | U38: エコ50作型付き
E39: ～
G40: =IF(ISBLANK('【入力シート】栽培計画書 (養液栽培)'!$J$10),"",'【入力シート】栽培計画書 (養液栽培)'!$J$10) | I40: =IF(ISBLANK('【入力シート】栽培計画書 (養液栽培)'!$N$10),"",'【入力シート】栽培計画書 (養液栽培)'!$N$10)
C41: 施設 | E41: =IF(ISBLANK('【入力シート】栽培計画書 (養液栽培)'!$G$10),"",'【入力シート】栽培計画書 (養液栽培)'!$G$10) | F41: 月 | M41: 養液栽培基準検索表 | P41: 養液栽培の基準値や品目が改訂された場合は、この表を改訂 作型追加の場合は表に追加したうえで「名前の管理」から範囲を指定しなおす
C42: 養液栽培の形式 | G42: =IF(ISBLANK('【入力シート】栽培計画書 (養液栽培)'!$H$10),"",'【入力シート】栽培計画書 (養液栽培)'!$H$10) | M42: 農産物名＋作型名 | N42: 農 産 物 名 | O42: 作 型 | P42: 慣行 使用基準 | Q42: 東京エコ25 （養液栽培） の上限値 | R42: 東京エコ50 （養液栽培） の上限値
C43: 化学合成農薬削減の技術 具体的内容 | G43: =IF(ISBLANK('【入力シート】栽培計画書 (養液栽培)'!$L$10),"",'【入力シート】栽培計画書 (養液栽培)'!$L$10) | M43: =N43&O43 -> イチゴ（養液栽培）促成（施設） | N43: イチゴ（養液栽培） | O43: 促成（施設） | P43: 36 | Q43: 27 | R43: 18
C44: 排液流出防止の技術 具体的内容 | G44: =IF(ISBLANK('【入力シート】栽培計画書 (養液栽培)'!$O$10),"",'【入力シート】栽培計画書 (養液栽培)'!$O$10) | M44: =N44&O44 -> トマト（養液栽培）促成長期（施設） | N44: トマト（養液栽培） | O44: 促成長期（施設） | P44: 34 | Q44: 25 | R44: 17
A45: ＊１ 別表２「都内における化学合成農薬使用回数・化学肥料使用基準」に記載の作物名、作型を記入すること。 | M45: =N45&O45 -> ミニトマト（養液栽培）促成長期（施設） | N45: ミニトマト（養液栽培） | O45: 促成長期（施設） | P45: 34 | Q45: 25 | R45: 17
A46: ＊２ 別表１－１「東京都エコ農産物における土づくり、化学合成農薬と化学肥料の使用を削減させる効果の高い技術等」から 養液栽培で選択可能な該当する技術を番号で選び記入すること。 | M46: 列1 | N46: 列2 | O46: 列3 | P46: 列4 | Q46: 列5 | R46: 列6
A47: ＊３ 予定している化学合成農薬の使用回数の上限値を記入すること。
A48: ＊４ 別表１－２「東京都エコ農産物における養液栽培の基準」から該当する技術を番号で選び記入すること。

Sheet 記入例（栽培計画書）

Sheet 記入例（養液栽培）

Sheet 情報公開集計（Access用）
A1: ID | B1: 認証番号 | C1: 屋号（掲載用） | D1: 氏名（掲載用） | E1: 認証農産物を購入できる場所 | F1: 住所公開 | G1: 住所（掲載用） | H1: 電話番号公開 | I1: 電話番号（掲載用） | J1: Eメールアドレス公開 | K1: Eメールアドレス_ | L1: HPアドレス公開 | M1: ホームページアドレス_ | N1: 認証生産者・農産物等の写真 | O1: 認証生産者・農産物等の写真_ | P1: 写真データ | Q1: 販売取引の希望_有無 | R1: メッセージ_有無 | S1: 認証生産者のメッセージ_ | T1: とうきょう特産食材使用店 | U1: 飲食店 | V1: 生協 | W1: 量販店 | X1: 市場 | Y1: その他 | Z1: その他（ ）
B2: ='申請書（別記様式第１号）'!D31 -> 0 | C2: =情報公開項目!H3 | D2: =情報公開項目!H4 | E2: =情報公開項目!F11&"" | F2: =情報公開項目!B13 -> FALSE | G2: =情報公開項目!F13&"" | H2: =情報公開項目!B14 -> FALSE | I2: =情報公開項目!F14&"" | J2: =情報公開項目!B15 -> FALSE | K2: =情報公開項目!F15&"" | L2: =情報公開項目!B16 -> FALSE | M2: =情報公開項目!F16&"" | N2: FALSE | Q2: =情報公開項目!B18 -> FALSE | R2: =情報公開項目!B17 -> FALSE | S2: =情報公開項目!F17 -> 0 | T2: =情報公開項目!D19 -> FALSE | U2: =情報公開項目!H19 -> FALSE | V2: =情報公開項目!K19 -> FALSE | W2: =情報公開項目!D20 -> FALSE | X2: =情報公開項目!F20 -> FALSE | Y2: =情報公開項目!H20 -> FALSE | Z2: =IF(Y2=TRUE,情報公開項目!J20,"")

Sheet 取引希望集計（Access用）
A1: ID | B1: 農産物名 | C1: 認証番号 | D1: 氏名 | E1: 取引希望時期 | F1: 取引希望数量 | G1: エコ認証区分
B2: =IF(情報公開項目!$D22="","",情報公開項目!$D22) | C2: =IF(情報公開項目!$D22="","",'申請書（別記様式第１号）'!$D$31) | D2: =IF(情報公開項目!$D22="","",'申請書（別記様式第１号）'!$D$12) | E2: =IF(情報公開項目!$D22="","",情報公開項目!$G22&"") | F2: =IF(情報公開項目!$D22="","",情報公開項目!$J22&"") | I2: エコ認証区分は手入力
B3: =IF(情報公開項目!$D23="","",情報公開項目!$D23) | C3: =IF(情報公開項目!$D23="","",'申請書（別記様式第１号）'!$D$31) | D3: =IF(情報公開項目!$D23="","",'申請書（別記様式第１号）'!$D$12) | E3: =IF(情報公開項目!$D23="","",情報公開項目!$G23&"") | F3: =IF(情報公開項目!$D23="","",情報公開項目!$J23&"")
B4: =IF(情報公開項目!$D24="","",情報公開項目!$D24) | C4: =IF(情報公開項目!$D24="","",'申請書（別記様式第１号）'!$D$31) | D4: =IF(情報公開項目!$D24="","",'申請書（別記様式第１号）'!$D$12) | E4: =IF(情報公開項目!$D24="","",情報公開項目!$G24&"") | F4: =IF(情報公開項目!$D24="","",情報公開項目!$J24&"")
B5: =IF(情報公開項目!$D25="","",情報公開項目!$D25) | C5: =IF(情報公開項目!$D25="","",'申請書（別記様式第１号）'!$D$31) | D5: =IF(情報公開項目!$D25="","",'申請書（別記様式第１号）'!$D$12) | E5: =IF(情報公開項目!$D25="","",情報公開項目!$G25&"") | F5: =IF(情報公開項目!$D25="","",情報公開項目!$J25&"") | I5: エコ25
I6: エコ50
I7: エコ100
